BEGIN:VCALENDAR
VERSION:2.0
PRODID:-//Saugerties Tourism - ECPv6.15.20//NONSGML v1.0//EN
CALSCALE:GREGORIAN
METHOD:PUBLISH
X-WR-CALNAME:Saugerties Tourism
X-ORIGINAL-URL:https://saugertiestourism.com
X-WR-CALDESC:Events for Saugerties Tourism
REFRESH-INTERVAL;VALUE=DURATION:PT1H
X-Robots-Tag:noindex
X-PUBLISHED-TTL:PT1H
BEGIN:VTIMEZONE
TZID:America/Halifax
BEGIN:DAYLIGHT
TZOFFSETFROM:-0400
TZOFFSETTO:-0300
TZNAME:ADT
DTSTART:20250309T060000
END:DAYLIGHT
BEGIN:STANDARD
TZOFFSETFROM:-0300
TZOFFSETTO:-0400
TZNAME:AST
DTSTART:20251102T050000
END:STANDARD
BEGIN:DAYLIGHT
TZOFFSETFROM:-0400
TZOFFSETTO:-0300
TZNAME:ADT
DTSTART:20260308T060000
END:DAYLIGHT
BEGIN:STANDARD
TZOFFSETFROM:-0300
TZOFFSETTO:-0400
TZNAME:AST
DTSTART:20261101T050000
END:STANDARD
BEGIN:DAYLIGHT
TZOFFSETFROM:-0400
TZOFFSETTO:-0300
TZNAME:ADT
DTSTART:20270314T060000
END:DAYLIGHT
BEGIN:STANDARD
TZOFFSETFROM:-0300
TZOFFSETTO:-0400
TZNAME:AST
DTSTART:20271107T050000
END:STANDARD
END:VTIMEZONE
BEGIN:VEVENT
DTSTART;TZID=America/Halifax:20260503T090000
DTEND;TZID=America/Halifax:20260503T120000
DTSTAMP:20260422T132024
CREATED:20260303T213624Z
LAST-MODIFIED:20260303T213624Z
UID:2212-1777798800-1777809600@saugertiestourism.com
SUMMARY:Tree Identification Walk
DESCRIPTION:The Esopus Creek Conservancy and John Burroughs Natural History Society are co-sponsoring\na Tree Identification Walk at the Esopus Creek Nature Preserve.\nVern List will lead us at a leisurely pace through a variety of woodland habitats.\nPre-registration is required
URL:https://saugertiestourism.com/event/tree-identification-walk/
LOCATION:Esopus Creek Conservancy\, 10 Shady Lany\, Saugerties\, NY\, United States
ORGANIZER;CN="Esopus Creek Conservancy":MAILTO:info@esopuscreekconservancy.org
END:VEVENT
BEGIN:VEVENT
DTSTART;VALUE=DATE:20260515
DTEND;VALUE=DATE:20260518
DTSTAMP:20260422T132024
CREATED:20260304T210237Z
LAST-MODIFIED:20260304T210237Z
UID:2233-1778803200-1779062399@saugertiestourism.com
SUMMARY:HITS Hudson Valley I
DESCRIPTION:FMI: info@hitsshows.com\n845-246-5515
URL:https://saugertiestourism.com/event/hits-hudson-valley-i/
LOCATION:454 Washington Ave. Extension\, Saugerties NY 12477\, 25 South Partition Street\, Saugerties\, NY\, 12477\, United States
END:VEVENT
BEGIN:VEVENT
DTSTART;TZID=America/Halifax:20260523T160000
DTEND;TZID=America/Halifax:20260523T200000
DTSTAMP:20260422T132024
CREATED:20260303T211644Z
LAST-MODIFIED:20260303T211644Z
UID:2205-1779552000-1779566400@saugertiestourism.com
SUMMARY:Blue Jeans Ball
DESCRIPTION:Benefit for the Town of Saugerties Animal Shelter.\nTickets/Info available at saugertiesanimalshelter2017@gmail.com\n845-679-0339
URL:https://saugertiestourism.com/event/blue-jeans-ball/
LOCATION:Fortune Valley Manor\, 248 Old Stage Road\, Saugerties\, 12477\, United States
END:VEVENT
BEGIN:VEVENT
DTSTART;TZID=America/Halifax:20260524T100000
DTEND;TZID=America/Halifax:20260524T140000
DTSTAMP:20260422T132024
CREATED:20260303T215107Z
LAST-MODIFIED:20260303T215107Z
UID:2221-1779616800-1779631200@saugertiestourism.com
SUMMARY:Saugerties Farmers Market
DESCRIPTION:Opening weekend\, Open at 10 am\, ribbon cutting at 11 am
URL:https://saugertiestourism.com/event/saugerties-farmers-market-19/
LOCATION:Saugerties Farmers Market\, 115 Main Street\, Saugerties\, 12477\, United States
END:VEVENT
BEGIN:VEVENT
DTSTART;TZID=America/Halifax:20260524T110000
DTEND;TZID=America/Halifax:20260524T130000
DTSTAMP:20260422T132024
CREATED:20260303T214938Z
LAST-MODIFIED:20260303T214938Z
UID:2219-1779620400-1779627600@saugertiestourism.com
SUMMARY:Saugerties Historical Society Opening Weekend
DESCRIPTION:Visit the 1727 DuBois Kiersted house\nSaturdays 11-2 pm\, Sundays 1-4 pm\nFree to all
URL:https://saugertiestourism.com/event/saugerties-historical-society-opening-weekend/
LOCATION:119 Main St\, 119 Main St\, Saugerties\, NY\, 12477\, United States
END:VEVENT
BEGIN:VEVENT
DTSTART;VALUE=DATE:20260527
DTEND;VALUE=DATE:20260601
DTSTAMP:20260422T132024
CREATED:20260304T210639Z
LAST-MODIFIED:20260304T210639Z
UID:2235-1779840000-1780271999@saugertiestourism.com
SUMMARY:HITS Hudson Valley II
DESCRIPTION:FMI: info@hitsshows.com\n845-246-5515
URL:https://saugertiestourism.com/event/hits-hudson-valley-ii/
LOCATION:454 Washington Ave. Extension\, Saugerties NY 12477\, 25 South Partition Street\, Saugerties\, NY\, 12477\, United States
END:VEVENT
BEGIN:VEVENT
DTSTART;TZID=America/Halifax:20260531T183000
DTEND;TZID=America/Halifax:20260531T203000
DTSTAMP:20260422T132024
CREATED:20260326T120431Z
LAST-MODIFIED:20260326T120431Z
UID:2238-1780252200-1780259400@saugertiestourism.com
SUMMARY:Saugerties Stallions
DESCRIPTION:Home Game at Cantine Veterans Memorial Sports Complex\nTickets-$5.00 adults. $3.00 students/seniors\, under 12 free
URL:https://saugertiestourism.com/event/saugerties-stallions-21/
LOCATION:Cantine Veterans Memorial Field
END:VEVENT
END:VCALENDAR