BEGIN:VCALENDAR
VERSION:2.0
PRODID:-//Saugerties Tourism - ECPv6.15.20//NONSGML v1.0//EN
CALSCALE:GREGORIAN
METHOD:PUBLISH
X-WR-CALNAME:Saugerties Tourism
X-ORIGINAL-URL:https://saugertiestourism.com
X-WR-CALDESC:Events for Saugerties Tourism
REFRESH-INTERVAL;VALUE=DURATION:PT1H
X-Robots-Tag:noindex
X-PUBLISHED-TTL:PT1H
BEGIN:VTIMEZONE
TZID:America/Halifax
BEGIN:DAYLIGHT
TZOFFSETFROM:-0400
TZOFFSETTO:-0300
TZNAME:ADT
DTSTART:19690427T060000
END:DAYLIGHT
BEGIN:STANDARD
TZOFFSETFROM:-0300
TZOFFSETTO:-0400
TZNAME:AST
DTSTART:19691026T050000
END:STANDARD
BEGIN:DAYLIGHT
TZOFFSETFROM:-0400
TZOFFSETTO:-0300
TZNAME:ADT
DTSTART:19700426T060000
END:DAYLIGHT
BEGIN:STANDARD
TZOFFSETFROM:-0300
TZOFFSETTO:-0400
TZNAME:AST
DTSTART:19701025T050000
END:STANDARD
BEGIN:DAYLIGHT
TZOFFSETFROM:-0400
TZOFFSETTO:-0300
TZNAME:ADT
DTSTART:19710425T060000
END:DAYLIGHT
BEGIN:STANDARD
TZOFFSETFROM:-0300
TZOFFSETTO:-0400
TZNAME:AST
DTSTART:19711031T050000
END:STANDARD
BEGIN:DAYLIGHT
TZOFFSETFROM:-0400
TZOFFSETTO:-0300
TZNAME:ADT
DTSTART:19720430T060000
END:DAYLIGHT
BEGIN:STANDARD
TZOFFSETFROM:-0300
TZOFFSETTO:-0400
TZNAME:AST
DTSTART:19721029T050000
END:STANDARD
BEGIN:DAYLIGHT
TZOFFSETFROM:-0400
TZOFFSETTO:-0300
TZNAME:ADT
DTSTART:19730429T060000
END:DAYLIGHT
BEGIN:STANDARD
TZOFFSETFROM:-0300
TZOFFSETTO:-0400
TZNAME:AST
DTSTART:19731028T050000
END:STANDARD
BEGIN:DAYLIGHT
TZOFFSETFROM:-0400
TZOFFSETTO:-0300
TZNAME:ADT
DTSTART:19740428T060000
END:DAYLIGHT
BEGIN:STANDARD
TZOFFSETFROM:-0300
TZOFFSETTO:-0400
TZNAME:AST
DTSTART:19741027T050000
END:STANDARD
BEGIN:DAYLIGHT
TZOFFSETFROM:-0400
TZOFFSETTO:-0300
TZNAME:ADT
DTSTART:19750427T060000
END:DAYLIGHT
BEGIN:STANDARD
TZOFFSETFROM:-0300
TZOFFSETTO:-0400
TZNAME:AST
DTSTART:19751026T050000
END:STANDARD
BEGIN:DAYLIGHT
TZOFFSETFROM:-0400
TZOFFSETTO:-0300
TZNAME:ADT
DTSTART:19760425T060000
END:DAYLIGHT
BEGIN:STANDARD
TZOFFSETFROM:-0300
TZOFFSETTO:-0400
TZNAME:AST
DTSTART:19761031T050000
END:STANDARD
BEGIN:DAYLIGHT
TZOFFSETFROM:-0400
TZOFFSETTO:-0300
TZNAME:ADT
DTSTART:19770424T060000
END:DAYLIGHT
BEGIN:STANDARD
TZOFFSETFROM:-0300
TZOFFSETTO:-0400
TZNAME:AST
DTSTART:19771030T050000
END:STANDARD
BEGIN:DAYLIGHT
TZOFFSETFROM:-0400
TZOFFSETTO:-0300
TZNAME:ADT
DTSTART:19780430T060000
END:DAYLIGHT
BEGIN:STANDARD
TZOFFSETFROM:-0300
TZOFFSETTO:-0400
TZNAME:AST
DTSTART:19781029T050000
END:STANDARD
BEGIN:DAYLIGHT
TZOFFSETFROM:-0400
TZOFFSETTO:-0300
TZNAME:ADT
DTSTART:19790429T060000
END:DAYLIGHT
BEGIN:STANDARD
TZOFFSETFROM:-0300
TZOFFSETTO:-0400
TZNAME:AST
DTSTART:19791028T050000
END:STANDARD
BEGIN:DAYLIGHT
TZOFFSETFROM:-0400
TZOFFSETTO:-0300
TZNAME:ADT
DTSTART:19800427T060000
END:DAYLIGHT
BEGIN:STANDARD
TZOFFSETFROM:-0300
TZOFFSETTO:-0400
TZNAME:AST
DTSTART:19801026T050000
END:STANDARD
BEGIN:DAYLIGHT
TZOFFSETFROM:-0400
TZOFFSETTO:-0300
TZNAME:ADT
DTSTART:19810426T060000
END:DAYLIGHT
BEGIN:STANDARD
TZOFFSETFROM:-0300
TZOFFSETTO:-0400
TZNAME:AST
DTSTART:19811025T050000
END:STANDARD
BEGIN:DAYLIGHT
TZOFFSETFROM:-0400
TZOFFSETTO:-0300
TZNAME:ADT
DTSTART:19820425T060000
END:DAYLIGHT
BEGIN:STANDARD
TZOFFSETFROM:-0300
TZOFFSETTO:-0400
TZNAME:AST
DTSTART:19821031T050000
END:STANDARD
BEGIN:DAYLIGHT
TZOFFSETFROM:-0400
TZOFFSETTO:-0300
TZNAME:ADT
DTSTART:19830424T060000
END:DAYLIGHT
BEGIN:STANDARD
TZOFFSETFROM:-0300
TZOFFSETTO:-0400
TZNAME:AST
DTSTART:19831030T050000
END:STANDARD
BEGIN:DAYLIGHT
TZOFFSETFROM:-0400
TZOFFSETTO:-0300
TZNAME:ADT
DTSTART:19840429T060000
END:DAYLIGHT
BEGIN:STANDARD
TZOFFSETFROM:-0300
TZOFFSETTO:-0400
TZNAME:AST
DTSTART:19841028T050000
END:STANDARD
BEGIN:DAYLIGHT
TZOFFSETFROM:-0400
TZOFFSETTO:-0300
TZNAME:ADT
DTSTART:19850428T060000
END:DAYLIGHT
BEGIN:STANDARD
TZOFFSETFROM:-0300
TZOFFSETTO:-0400
TZNAME:AST
DTSTART:19851027T050000
END:STANDARD
BEGIN:DAYLIGHT
TZOFFSETFROM:-0400
TZOFFSETTO:-0300
TZNAME:ADT
DTSTART:19860427T060000
END:DAYLIGHT
BEGIN:STANDARD
TZOFFSETFROM:-0300
TZOFFSETTO:-0400
TZNAME:AST
DTSTART:19861026T050000
END:STANDARD
BEGIN:DAYLIGHT
TZOFFSETFROM:-0400
TZOFFSETTO:-0300
TZNAME:ADT
DTSTART:19870405T060000
END:DAYLIGHT
BEGIN:STANDARD
TZOFFSETFROM:-0300
TZOFFSETTO:-0400
TZNAME:AST
DTSTART:19871025T050000
END:STANDARD
BEGIN:DAYLIGHT
TZOFFSETFROM:-0400
TZOFFSETTO:-0300
TZNAME:ADT
DTSTART:19880403T060000
END:DAYLIGHT
BEGIN:STANDARD
TZOFFSETFROM:-0300
TZOFFSETTO:-0400
TZNAME:AST
DTSTART:19881030T050000
END:STANDARD
BEGIN:DAYLIGHT
TZOFFSETFROM:-0400
TZOFFSETTO:-0300
TZNAME:ADT
DTSTART:19890402T060000
END:DAYLIGHT
BEGIN:STANDARD
TZOFFSETFROM:-0300
TZOFFSETTO:-0400
TZNAME:AST
DTSTART:19891029T050000
END:STANDARD
BEGIN:DAYLIGHT
TZOFFSETFROM:-0400
TZOFFSETTO:-0300
TZNAME:ADT
DTSTART:19900401T060000
END:DAYLIGHT
BEGIN:STANDARD
TZOFFSETFROM:-0300
TZOFFSETTO:-0400
TZNAME:AST
DTSTART:19901028T050000
END:STANDARD
BEGIN:DAYLIGHT
TZOFFSETFROM:-0400
TZOFFSETTO:-0300
TZNAME:ADT
DTSTART:19910407T060000
END:DAYLIGHT
BEGIN:STANDARD
TZOFFSETFROM:-0300
TZOFFSETTO:-0400
TZNAME:AST
DTSTART:19911027T050000
END:STANDARD
BEGIN:DAYLIGHT
TZOFFSETFROM:-0400
TZOFFSETTO:-0300
TZNAME:ADT
DTSTART:19920405T060000
END:DAYLIGHT
BEGIN:STANDARD
TZOFFSETFROM:-0300
TZOFFSETTO:-0400
TZNAME:AST
DTSTART:19921025T050000
END:STANDARD
BEGIN:DAYLIGHT
TZOFFSETFROM:-0400
TZOFFSETTO:-0300
TZNAME:ADT
DTSTART:19930404T060000
END:DAYLIGHT
BEGIN:STANDARD
TZOFFSETFROM:-0300
TZOFFSETTO:-0400
TZNAME:AST
DTSTART:19931031T050000
END:STANDARD
BEGIN:DAYLIGHT
TZOFFSETFROM:-0400
TZOFFSETTO:-0300
TZNAME:ADT
DTSTART:19940403T060000
END:DAYLIGHT
BEGIN:STANDARD
TZOFFSETFROM:-0300
TZOFFSETTO:-0400
TZNAME:AST
DTSTART:19941030T050000
END:STANDARD
BEGIN:DAYLIGHT
TZOFFSETFROM:-0400
TZOFFSETTO:-0300
TZNAME:ADT
DTSTART:19950402T060000
END:DAYLIGHT
BEGIN:STANDARD
TZOFFSETFROM:-0300
TZOFFSETTO:-0400
TZNAME:AST
DTSTART:19951029T050000
END:STANDARD
BEGIN:DAYLIGHT
TZOFFSETFROM:-0400
TZOFFSETTO:-0300
TZNAME:ADT
DTSTART:19960407T060000
END:DAYLIGHT
BEGIN:STANDARD
TZOFFSETFROM:-0300
TZOFFSETTO:-0400
TZNAME:AST
DTSTART:19961027T050000
END:STANDARD
BEGIN:DAYLIGHT
TZOFFSETFROM:-0400
TZOFFSETTO:-0300
TZNAME:ADT
DTSTART:19970406T060000
END:DAYLIGHT
BEGIN:STANDARD
TZOFFSETFROM:-0300
TZOFFSETTO:-0400
TZNAME:AST
DTSTART:19971026T050000
END:STANDARD
BEGIN:DAYLIGHT
TZOFFSETFROM:-0400
TZOFFSETTO:-0300
TZNAME:ADT
DTSTART:19980405T060000
END:DAYLIGHT
BEGIN:STANDARD
TZOFFSETFROM:-0300
TZOFFSETTO:-0400
TZNAME:AST
DTSTART:19981025T050000
END:STANDARD
BEGIN:DAYLIGHT
TZOFFSETFROM:-0400
TZOFFSETTO:-0300
TZNAME:ADT
DTSTART:19990404T060000
END:DAYLIGHT
BEGIN:STANDARD
TZOFFSETFROM:-0300
TZOFFSETTO:-0400
TZNAME:AST
DTSTART:19991031T050000
END:STANDARD
BEGIN:DAYLIGHT
TZOFFSETFROM:-0400
TZOFFSETTO:-0300
TZNAME:ADT
DTSTART:20000402T060000
END:DAYLIGHT
BEGIN:STANDARD
TZOFFSETFROM:-0300
TZOFFSETTO:-0400
TZNAME:AST
DTSTART:20001029T050000
END:STANDARD
BEGIN:DAYLIGHT
TZOFFSETFROM:-0400
TZOFFSETTO:-0300
TZNAME:ADT
DTSTART:20010401T060000
END:DAYLIGHT
BEGIN:STANDARD
TZOFFSETFROM:-0300
TZOFFSETTO:-0400
TZNAME:AST
DTSTART:20011028T050000
END:STANDARD
BEGIN:DAYLIGHT
TZOFFSETFROM:-0400
TZOFFSETTO:-0300
TZNAME:ADT
DTSTART:20020407T060000
END:DAYLIGHT
BEGIN:STANDARD
TZOFFSETFROM:-0300
TZOFFSETTO:-0400
TZNAME:AST
DTSTART:20021027T050000
END:STANDARD
BEGIN:DAYLIGHT
TZOFFSETFROM:-0400
TZOFFSETTO:-0300
TZNAME:ADT
DTSTART:20030406T060000
END:DAYLIGHT
BEGIN:STANDARD
TZOFFSETFROM:-0300
TZOFFSETTO:-0400
TZNAME:AST
DTSTART:20031026T050000
END:STANDARD
BEGIN:DAYLIGHT
TZOFFSETFROM:-0400
TZOFFSETTO:-0300
TZNAME:ADT
DTSTART:20040404T060000
END:DAYLIGHT
BEGIN:STANDARD
TZOFFSETFROM:-0300
TZOFFSETTO:-0400
TZNAME:AST
DTSTART:20041031T050000
END:STANDARD
BEGIN:DAYLIGHT
TZOFFSETFROM:-0400
TZOFFSETTO:-0300
TZNAME:ADT
DTSTART:20050403T060000
END:DAYLIGHT
BEGIN:STANDARD
TZOFFSETFROM:-0300
TZOFFSETTO:-0400
TZNAME:AST
DTSTART:20051030T050000
END:STANDARD
BEGIN:DAYLIGHT
TZOFFSETFROM:-0400
TZOFFSETTO:-0300
TZNAME:ADT
DTSTART:20060402T060000
END:DAYLIGHT
BEGIN:STANDARD
TZOFFSETFROM:-0300
TZOFFSETTO:-0400
TZNAME:AST
DTSTART:20061029T050000
END:STANDARD
BEGIN:DAYLIGHT
TZOFFSETFROM:-0400
TZOFFSETTO:-0300
TZNAME:ADT
DTSTART:20070311T060000
END:DAYLIGHT
BEGIN:STANDARD
TZOFFSETFROM:-0300
TZOFFSETTO:-0400
TZNAME:AST
DTSTART:20071104T050000
END:STANDARD
BEGIN:DAYLIGHT
TZOFFSETFROM:-0400
TZOFFSETTO:-0300
TZNAME:ADT
DTSTART:20080309T060000
END:DAYLIGHT
BEGIN:STANDARD
TZOFFSETFROM:-0300
TZOFFSETTO:-0400
TZNAME:AST
DTSTART:20081102T050000
END:STANDARD
BEGIN:DAYLIGHT
TZOFFSETFROM:-0400
TZOFFSETTO:-0300
TZNAME:ADT
DTSTART:20090308T060000
END:DAYLIGHT
BEGIN:STANDARD
TZOFFSETFROM:-0300
TZOFFSETTO:-0400
TZNAME:AST
DTSTART:20091101T050000
END:STANDARD
BEGIN:DAYLIGHT
TZOFFSETFROM:-0400
TZOFFSETTO:-0300
TZNAME:ADT
DTSTART:20100314T060000
END:DAYLIGHT
BEGIN:STANDARD
TZOFFSETFROM:-0300
TZOFFSETTO:-0400
TZNAME:AST
DTSTART:20101107T050000
END:STANDARD
BEGIN:DAYLIGHT
TZOFFSETFROM:-0400
TZOFFSETTO:-0300
TZNAME:ADT
DTSTART:20110313T060000
END:DAYLIGHT
BEGIN:STANDARD
TZOFFSETFROM:-0300
TZOFFSETTO:-0400
TZNAME:AST
DTSTART:20111106T050000
END:STANDARD
BEGIN:DAYLIGHT
TZOFFSETFROM:-0400
TZOFFSETTO:-0300
TZNAME:ADT
DTSTART:20120311T060000
END:DAYLIGHT
BEGIN:STANDARD
TZOFFSETFROM:-0300
TZOFFSETTO:-0400
TZNAME:AST
DTSTART:20121104T050000
END:STANDARD
BEGIN:DAYLIGHT
TZOFFSETFROM:-0400
TZOFFSETTO:-0300
TZNAME:ADT
DTSTART:20130310T060000
END:DAYLIGHT
BEGIN:STANDARD
TZOFFSETFROM:-0300
TZOFFSETTO:-0400
TZNAME:AST
DTSTART:20131103T050000
END:STANDARD
BEGIN:DAYLIGHT
TZOFFSETFROM:-0400
TZOFFSETTO:-0300
TZNAME:ADT
DTSTART:20140309T060000
END:DAYLIGHT
BEGIN:STANDARD
TZOFFSETFROM:-0300
TZOFFSETTO:-0400
TZNAME:AST
DTSTART:20141102T050000
END:STANDARD
BEGIN:DAYLIGHT
TZOFFSETFROM:-0400
TZOFFSETTO:-0300
TZNAME:ADT
DTSTART:20150308T060000
END:DAYLIGHT
BEGIN:STANDARD
TZOFFSETFROM:-0300
TZOFFSETTO:-0400
TZNAME:AST
DTSTART:20151101T050000
END:STANDARD
BEGIN:DAYLIGHT
TZOFFSETFROM:-0400
TZOFFSETTO:-0300
TZNAME:ADT
DTSTART:20160313T060000
END:DAYLIGHT
BEGIN:STANDARD
TZOFFSETFROM:-0300
TZOFFSETTO:-0400
TZNAME:AST
DTSTART:20161106T050000
END:STANDARD
BEGIN:DAYLIGHT
TZOFFSETFROM:-0400
TZOFFSETTO:-0300
TZNAME:ADT
DTSTART:20170312T060000
END:DAYLIGHT
BEGIN:STANDARD
TZOFFSETFROM:-0300
TZOFFSETTO:-0400
TZNAME:AST
DTSTART:20171105T050000
END:STANDARD
BEGIN:DAYLIGHT
TZOFFSETFROM:-0400
TZOFFSETTO:-0300
TZNAME:ADT
DTSTART:20180311T060000
END:DAYLIGHT
BEGIN:STANDARD
TZOFFSETFROM:-0300
TZOFFSETTO:-0400
TZNAME:AST
DTSTART:20181104T050000
END:STANDARD
BEGIN:DAYLIGHT
TZOFFSETFROM:-0400
TZOFFSETTO:-0300
TZNAME:ADT
DTSTART:20190310T060000
END:DAYLIGHT
BEGIN:STANDARD
TZOFFSETFROM:-0300
TZOFFSETTO:-0400
TZNAME:AST
DTSTART:20191103T050000
END:STANDARD
BEGIN:DAYLIGHT
TZOFFSETFROM:-0400
TZOFFSETTO:-0300
TZNAME:ADT
DTSTART:20200308T060000
END:DAYLIGHT
BEGIN:STANDARD
TZOFFSETFROM:-0300
TZOFFSETTO:-0400
TZNAME:AST
DTSTART:20201101T050000
END:STANDARD
BEGIN:DAYLIGHT
TZOFFSETFROM:-0400
TZOFFSETTO:-0300
TZNAME:ADT
DTSTART:20210314T060000
END:DAYLIGHT
BEGIN:STANDARD
TZOFFSETFROM:-0300
TZOFFSETTO:-0400
TZNAME:AST
DTSTART:20211107T050000
END:STANDARD
BEGIN:DAYLIGHT
TZOFFSETFROM:-0400
TZOFFSETTO:-0300
TZNAME:ADT
DTSTART:20220313T060000
END:DAYLIGHT
BEGIN:STANDARD
TZOFFSETFROM:-0300
TZOFFSETTO:-0400
TZNAME:AST
DTSTART:20221106T050000
END:STANDARD
BEGIN:DAYLIGHT
TZOFFSETFROM:-0400
TZOFFSETTO:-0300
TZNAME:ADT
DTSTART:20230312T060000
END:DAYLIGHT
BEGIN:STANDARD
TZOFFSETFROM:-0300
TZOFFSETTO:-0400
TZNAME:AST
DTSTART:20231105T050000
END:STANDARD
BEGIN:DAYLIGHT
TZOFFSETFROM:-0400
TZOFFSETTO:-0300
TZNAME:ADT
DTSTART:20240310T060000
END:DAYLIGHT
BEGIN:STANDARD
TZOFFSETFROM:-0300
TZOFFSETTO:-0400
TZNAME:AST
DTSTART:20241103T050000
END:STANDARD
BEGIN:DAYLIGHT
TZOFFSETFROM:-0400
TZOFFSETTO:-0300
TZNAME:ADT
DTSTART:20250309T060000
END:DAYLIGHT
BEGIN:STANDARD
TZOFFSETFROM:-0300
TZOFFSETTO:-0400
TZNAME:AST
DTSTART:20251102T050000
END:STANDARD
BEGIN:DAYLIGHT
TZOFFSETFROM:-0400
TZOFFSETTO:-0300
TZNAME:ADT
DTSTART:20260308T060000
END:DAYLIGHT
BEGIN:STANDARD
TZOFFSETFROM:-0300
TZOFFSETTO:-0400
TZNAME:AST
DTSTART:20261101T050000
END:STANDARD
END:VTIMEZONE
BEGIN:VEVENT
DTSTART;TZID=America/Halifax:20260423T040049
DTEND;TZID=America/Halifax:20250605T000000
DTSTAMP:20260423T040049
CREATED:20250605T040055Z
LAST-MODIFIED:20250306T172538Z
UID:2028-0-1749081600@saugertiestourism.com
SUMMARY:Saugerties Stallions
DESCRIPTION:Tickets-Adult-$5.00\, Students/Seniors-$3.00\, Under 12 free
URL:https://saugertiestourism.com/event/saugerties-stallions-16/
LOCATION:Cantine field\, Washington Ave\, Saugerties\, 12477\, United States
END:VEVENT
BEGIN:VEVENT
DTSTART;TZID=America/Halifax:20250504T100000
DTEND;TZID=America/Halifax:20250504T123000
DTSTAMP:20260423T040049
CREATED:20250423T210521Z
LAST-MODIFIED:20250423T210521Z
UID:2075-1746352800-1746361800@saugertiestourism.com
SUMMARY:Mindful Birding with Molly Adams of the Feminist Bird Club
DESCRIPTION:Cost $30\nGuided walking series
URL:https://saugertiestourism.com/event/mindful-birding-with-molly-adams-of-the-feminist-bird-club/
LOCATION:Opus 40\, 50 Fite Road\, Saugerties\, 12477\, United States
END:VEVENT
BEGIN:VEVENT
DTSTART;TZID=America/Halifax:20250504T130000
DTEND;TZID=America/Halifax:20250504T160000
DTSTAMP:20260423T040049
CREATED:20250423T192310Z
LAST-MODIFIED:20250423T192310Z
UID:2059-1746363600-1746374400@saugertiestourism.com
SUMMARY:Catskill Shakespeare Co. at Opus 40
DESCRIPTION:Directed by Peter\nPeter.G. Andersen\, the production features live music composed by Daniel Emond\nCost $30 in advance\, $35 at door
URL:https://saugertiestourism.com/event/catskill-shakespeare-co-at-opus-40-2/
LOCATION:Opus 40\, 40 Fite Road\, Saugerties\, NY\, 12477\, United States
END:VEVENT
BEGIN:VEVENT
DTSTART;TZID=America/Halifax:20250508T190000
DTEND;TZID=America/Halifax:20250508T210000
DTSTAMP:20260423T040049
CREATED:20250306T172904Z
LAST-MODIFIED:20250306T172904Z
UID:2030-1746730800-1746738000@saugertiestourism.com
SUMMARY:Saugerties Stallions
DESCRIPTION:Tickets Adults-$5.00\, Students/Seniors-$3.00\, under 12-free
URL:https://saugertiestourism.com/event/saugerties-stallions-17/
LOCATION:Cantine field\, Saugerties\, United States
END:VEVENT
BEGIN:VEVENT
DTSTART;TZID=America/Halifax:20250510T070000
DTEND;TZID=America/Halifax:20250510T120000
DTSTAMP:20260423T040049
CREATED:20250423T213454Z
LAST-MODIFIED:20250423T213454Z
UID:2085-1746860400-1746878400@saugertiestourism.com
SUMMARY:Andrew Mullen Memorial Trout & Fishing Derby
DESCRIPTION:Registration-7:00 am\, 7:30 fishing begins\, 12:00 Weigh In\, 12:30 Award Ceremony\n400 plus stocked trout\nMinimum $10 donation includes breakfast & t-shirt\nAll proceeds go to Saugerties High School Scholarship program in memory of Andrew Mullen & Andrew Duffy
URL:https://saugertiestourism.com/event/andrew-mullen-memorial-trout-fishing-derby/
LOCATION:Mullen Farm\, 225 Cole Bank Road\, Saugerties\, NY\, 12477\, United States
END:VEVENT
BEGIN:VEVENT
DTSTART;TZID=America/Halifax:20250510T160000
DTEND;TZID=America/Halifax:20250510T200000
DTSTAMP:20260423T040049
CREATED:20250205T222155Z
LAST-MODIFIED:20250205T222155Z
UID:2014-1746892800-1746907200@saugertiestourism.com
SUMMARY:Blue Jean Ball
DESCRIPTION:Fundraiser & auction to benefit the Saugerties Animal Shelter\nMusic by Roadhouse 60’s\nFMI:saugertiesshelter2017@gmail.com
URL:https://saugertiestourism.com/event/blue-jean-ball/
LOCATION:Fortune Valley Manor\, 248 Old Stage Road\, Saugerties\, 12477\, United States
END:VEVENT
BEGIN:VEVENT
DTSTART;TZID=America/Halifax:20250518T000000
DTEND;TZID=America/Halifax:20250518T000000
DTSTAMP:20260423T040049
CREATED:20250205T213030Z
LAST-MODIFIED:20250205T215031Z
UID:1992-1747526400-1747526400@saugertiestourism.com
SUMMARY:Public preview of "Barkin around Saugerties
DESCRIPTION:Public preview of Barkin’ Around Saugerties\n35 artists painted dogs that will be displayed on the streets of Saugerties\nStarting Memorial Day weekend.\nLocation TBA
URL:https://saugertiestourism.com/event/public-preview-of-barkin-around-saugerties/
END:VEVENT
BEGIN:VEVENT
DTSTART;TZID=America/Halifax:20250524T100000
DTEND;TZID=America/Halifax:20250524T140000
DTSTAMP:20260423T040049
CREATED:20241231T000405Z
LAST-MODIFIED:20241231T000405Z
UID:1980-1748080800-1748095200@saugertiestourism.com
SUMMARY:Saugerties Farmers Market
DESCRIPTION:ribbon cutting\, opening day
URL:https://saugertiestourism.com/event/saugerties-farmers-market-17/
LOCATION:115 Main Street
END:VEVENT
BEGIN:VEVENT
DTSTART;TZID=America/Halifax:20250524T110000
DTEND;TZID=America/Halifax:20250524T140000
DTSTAMP:20260423T040049
CREATED:20241231T000125Z
LAST-MODIFIED:20241231T000125Z
UID:1978-1748084400-1748095200@saugertiestourism.com
SUMMARY:Saugerties Historical Society\, Opening day
DESCRIPTION:Opening day\, exhibits
URL:https://saugertiestourism.com/event/saugerties-historical-society-opening-day-3/
LOCATION:119 Main St\, 119 Main St\, Saugerties\, NY\, 12477\, United States
END:VEVENT
BEGIN:VEVENT
DTSTART;TZID=America/Halifax:20250524T190000
DTEND;TZID=America/Halifax:20250524T220000
DTSTAMP:20260423T040049
CREATED:20250423T191105Z
LAST-MODIFIED:20250423T191706Z
UID:2055-1748113200-1748124000@saugertiestourism.com
SUMMARY:Upstate Films Screening at Opus 40
DESCRIPTION:Screening of E.T. the Extra -Terrestrial\n7-10 pm $20
URL:https://saugertiestourism.com/event/catskill-shakespeare-co-at-opus-40/
LOCATION:Opus 40\, 40 Fite Road\, Saugerties\, NY\, 12477\, United States
END:VEVENT
BEGIN:VEVENT
DTSTART;TZID=America/Halifax:20250525T110000
DTEND;TZID=America/Halifax:20250525T130000
DTSTAMP:20260423T040049
CREATED:20250423T210741Z
LAST-MODIFIED:20250423T210741Z
UID:2077-1748170800-1748178000@saugertiestourism.com
SUMMARY:Foraging Walk with Dina Falconi
DESCRIPTION:Guided walking series\ncost $30
URL:https://saugertiestourism.com/event/foraging-walk-with-dina-falconi/
LOCATION:Opus 40\, 50 Fite Road\, Saugerties\, 12477\, United States
END:VEVENT
BEGIN:VEVENT
DTSTART;TZID=America/Halifax:20250530T190000
DTEND;TZID=America/Halifax:20250530T210000
DTSTAMP:20260423T040049
CREATED:20250306T161927Z
LAST-MODIFIED:20250306T161927Z
UID:2018-1748631600-1748638800@saugertiestourism.com
SUMMARY:Saugerties Stallions
DESCRIPTION:Saugerties collegiate team
URL:https://saugertiestourism.com/event/saugerties-stallions-11/
LOCATION:Cantine Feild\, Pavilion Street\, Saugerties\, NY\, 12477\, United States
END:VEVENT
BEGIN:VEVENT
DTSTART;TZID=America/Halifax:20250531T184500
DTEND;TZID=America/Halifax:20250531T200000
DTSTAMP:20260423T040049
CREATED:20250306T163529Z
LAST-MODIFIED:20250306T163529Z
UID:2020-1748717100-1748721600@saugertiestourism.com
SUMMARY:Saugerties Stallions
DESCRIPTION:Tickets-Adults-$5.00\,Students/Seniors-$3.00
URL:https://saugertiestourism.com/event/saugerties-stallions-12/
LOCATION:Cantine field\, Washington Ave\, Saugerties\, 12477\, United States
END:VEVENT
END:VCALENDAR