BEGIN:VCALENDAR
VERSION:2.0
PRODID:-//Saugerties Tourism - ECPv6.15.20//NONSGML v1.0//EN
CALSCALE:GREGORIAN
METHOD:PUBLISH
X-ORIGINAL-URL:https://saugertiestourism.com
X-WR-CALDESC:Events for Saugerties Tourism
REFRESH-INTERVAL;VALUE=DURATION:PT1H
X-Robots-Tag:noindex
X-PUBLISHED-TTL:PT1H
BEGIN:VTIMEZONE
TZID:America/Halifax
BEGIN:DAYLIGHT
TZOFFSETFROM:-0400
TZOFFSETTO:-0300
TZNAME:ADT
DTSTART:19690427T060000
END:DAYLIGHT
BEGIN:STANDARD
TZOFFSETFROM:-0300
TZOFFSETTO:-0400
TZNAME:AST
DTSTART:19691026T050000
END:STANDARD
BEGIN:DAYLIGHT
TZOFFSETFROM:-0400
TZOFFSETTO:-0300
TZNAME:ADT
DTSTART:19700426T060000
END:DAYLIGHT
BEGIN:STANDARD
TZOFFSETFROM:-0300
TZOFFSETTO:-0400
TZNAME:AST
DTSTART:19701025T050000
END:STANDARD
BEGIN:DAYLIGHT
TZOFFSETFROM:-0400
TZOFFSETTO:-0300
TZNAME:ADT
DTSTART:19710425T060000
END:DAYLIGHT
BEGIN:STANDARD
TZOFFSETFROM:-0300
TZOFFSETTO:-0400
TZNAME:AST
DTSTART:19711031T050000
END:STANDARD
BEGIN:DAYLIGHT
TZOFFSETFROM:-0400
TZOFFSETTO:-0300
TZNAME:ADT
DTSTART:19720430T060000
END:DAYLIGHT
BEGIN:STANDARD
TZOFFSETFROM:-0300
TZOFFSETTO:-0400
TZNAME:AST
DTSTART:19721029T050000
END:STANDARD
BEGIN:DAYLIGHT
TZOFFSETFROM:-0400
TZOFFSETTO:-0300
TZNAME:ADT
DTSTART:19730429T060000
END:DAYLIGHT
BEGIN:STANDARD
TZOFFSETFROM:-0300
TZOFFSETTO:-0400
TZNAME:AST
DTSTART:19731028T050000
END:STANDARD
BEGIN:DAYLIGHT
TZOFFSETFROM:-0400
TZOFFSETTO:-0300
TZNAME:ADT
DTSTART:19740428T060000
END:DAYLIGHT
BEGIN:STANDARD
TZOFFSETFROM:-0300
TZOFFSETTO:-0400
TZNAME:AST
DTSTART:19741027T050000
END:STANDARD
BEGIN:DAYLIGHT
TZOFFSETFROM:-0400
TZOFFSETTO:-0300
TZNAME:ADT
DTSTART:19750427T060000
END:DAYLIGHT
BEGIN:STANDARD
TZOFFSETFROM:-0300
TZOFFSETTO:-0400
TZNAME:AST
DTSTART:19751026T050000
END:STANDARD
BEGIN:DAYLIGHT
TZOFFSETFROM:-0400
TZOFFSETTO:-0300
TZNAME:ADT
DTSTART:19760425T060000
END:DAYLIGHT
BEGIN:STANDARD
TZOFFSETFROM:-0300
TZOFFSETTO:-0400
TZNAME:AST
DTSTART:19761031T050000
END:STANDARD
BEGIN:DAYLIGHT
TZOFFSETFROM:-0400
TZOFFSETTO:-0300
TZNAME:ADT
DTSTART:19770424T060000
END:DAYLIGHT
BEGIN:STANDARD
TZOFFSETFROM:-0300
TZOFFSETTO:-0400
TZNAME:AST
DTSTART:19771030T050000
END:STANDARD
BEGIN:DAYLIGHT
TZOFFSETFROM:-0400
TZOFFSETTO:-0300
TZNAME:ADT
DTSTART:19780430T060000
END:DAYLIGHT
BEGIN:STANDARD
TZOFFSETFROM:-0300
TZOFFSETTO:-0400
TZNAME:AST
DTSTART:19781029T050000
END:STANDARD
BEGIN:DAYLIGHT
TZOFFSETFROM:-0400
TZOFFSETTO:-0300
TZNAME:ADT
DTSTART:19790429T060000
END:DAYLIGHT
BEGIN:STANDARD
TZOFFSETFROM:-0300
TZOFFSETTO:-0400
TZNAME:AST
DTSTART:19791028T050000
END:STANDARD
BEGIN:DAYLIGHT
TZOFFSETFROM:-0400
TZOFFSETTO:-0300
TZNAME:ADT
DTSTART:19800427T060000
END:DAYLIGHT
BEGIN:STANDARD
TZOFFSETFROM:-0300
TZOFFSETTO:-0400
TZNAME:AST
DTSTART:19801026T050000
END:STANDARD
BEGIN:DAYLIGHT
TZOFFSETFROM:-0400
TZOFFSETTO:-0300
TZNAME:ADT
DTSTART:19810426T060000
END:DAYLIGHT
BEGIN:STANDARD
TZOFFSETFROM:-0300
TZOFFSETTO:-0400
TZNAME:AST
DTSTART:19811025T050000
END:STANDARD
BEGIN:DAYLIGHT
TZOFFSETFROM:-0400
TZOFFSETTO:-0300
TZNAME:ADT
DTSTART:19820425T060000
END:DAYLIGHT
BEGIN:STANDARD
TZOFFSETFROM:-0300
TZOFFSETTO:-0400
TZNAME:AST
DTSTART:19821031T050000
END:STANDARD
BEGIN:DAYLIGHT
TZOFFSETFROM:-0400
TZOFFSETTO:-0300
TZNAME:ADT
DTSTART:19830424T060000
END:DAYLIGHT
BEGIN:STANDARD
TZOFFSETFROM:-0300
TZOFFSETTO:-0400
TZNAME:AST
DTSTART:19831030T050000
END:STANDARD
BEGIN:DAYLIGHT
TZOFFSETFROM:-0400
TZOFFSETTO:-0300
TZNAME:ADT
DTSTART:19840429T060000
END:DAYLIGHT
BEGIN:STANDARD
TZOFFSETFROM:-0300
TZOFFSETTO:-0400
TZNAME:AST
DTSTART:19841028T050000
END:STANDARD
BEGIN:DAYLIGHT
TZOFFSETFROM:-0400
TZOFFSETTO:-0300
TZNAME:ADT
DTSTART:19850428T060000
END:DAYLIGHT
BEGIN:STANDARD
TZOFFSETFROM:-0300
TZOFFSETTO:-0400
TZNAME:AST
DTSTART:19851027T050000
END:STANDARD
BEGIN:DAYLIGHT
TZOFFSETFROM:-0400
TZOFFSETTO:-0300
TZNAME:ADT
DTSTART:19860427T060000
END:DAYLIGHT
BEGIN:STANDARD
TZOFFSETFROM:-0300
TZOFFSETTO:-0400
TZNAME:AST
DTSTART:19861026T050000
END:STANDARD
BEGIN:DAYLIGHT
TZOFFSETFROM:-0400
TZOFFSETTO:-0300
TZNAME:ADT
DTSTART:19870405T060000
END:DAYLIGHT
BEGIN:STANDARD
TZOFFSETFROM:-0300
TZOFFSETTO:-0400
TZNAME:AST
DTSTART:19871025T050000
END:STANDARD
BEGIN:DAYLIGHT
TZOFFSETFROM:-0400
TZOFFSETTO:-0300
TZNAME:ADT
DTSTART:19880403T060000
END:DAYLIGHT
BEGIN:STANDARD
TZOFFSETFROM:-0300
TZOFFSETTO:-0400
TZNAME:AST
DTSTART:19881030T050000
END:STANDARD
BEGIN:DAYLIGHT
TZOFFSETFROM:-0400
TZOFFSETTO:-0300
TZNAME:ADT
DTSTART:19890402T060000
END:DAYLIGHT
BEGIN:STANDARD
TZOFFSETFROM:-0300
TZOFFSETTO:-0400
TZNAME:AST
DTSTART:19891029T050000
END:STANDARD
BEGIN:DAYLIGHT
TZOFFSETFROM:-0400
TZOFFSETTO:-0300
TZNAME:ADT
DTSTART:19900401T060000
END:DAYLIGHT
BEGIN:STANDARD
TZOFFSETFROM:-0300
TZOFFSETTO:-0400
TZNAME:AST
DTSTART:19901028T050000
END:STANDARD
BEGIN:DAYLIGHT
TZOFFSETFROM:-0400
TZOFFSETTO:-0300
TZNAME:ADT
DTSTART:19910407T060000
END:DAYLIGHT
BEGIN:STANDARD
TZOFFSETFROM:-0300
TZOFFSETTO:-0400
TZNAME:AST
DTSTART:19911027T050000
END:STANDARD
BEGIN:DAYLIGHT
TZOFFSETFROM:-0400
TZOFFSETTO:-0300
TZNAME:ADT
DTSTART:19920405T060000
END:DAYLIGHT
BEGIN:STANDARD
TZOFFSETFROM:-0300
TZOFFSETTO:-0400
TZNAME:AST
DTSTART:19921025T050000
END:STANDARD
BEGIN:DAYLIGHT
TZOFFSETFROM:-0400
TZOFFSETTO:-0300
TZNAME:ADT
DTSTART:19930404T060000
END:DAYLIGHT
BEGIN:STANDARD
TZOFFSETFROM:-0300
TZOFFSETTO:-0400
TZNAME:AST
DTSTART:19931031T050000
END:STANDARD
BEGIN:DAYLIGHT
TZOFFSETFROM:-0400
TZOFFSETTO:-0300
TZNAME:ADT
DTSTART:19940403T060000
END:DAYLIGHT
BEGIN:STANDARD
TZOFFSETFROM:-0300
TZOFFSETTO:-0400
TZNAME:AST
DTSTART:19941030T050000
END:STANDARD
BEGIN:DAYLIGHT
TZOFFSETFROM:-0400
TZOFFSETTO:-0300
TZNAME:ADT
DTSTART:19950402T060000
END:DAYLIGHT
BEGIN:STANDARD
TZOFFSETFROM:-0300
TZOFFSETTO:-0400
TZNAME:AST
DTSTART:19951029T050000
END:STANDARD
BEGIN:DAYLIGHT
TZOFFSETFROM:-0400
TZOFFSETTO:-0300
TZNAME:ADT
DTSTART:19960407T060000
END:DAYLIGHT
BEGIN:STANDARD
TZOFFSETFROM:-0300
TZOFFSETTO:-0400
TZNAME:AST
DTSTART:19961027T050000
END:STANDARD
BEGIN:DAYLIGHT
TZOFFSETFROM:-0400
TZOFFSETTO:-0300
TZNAME:ADT
DTSTART:19970406T060000
END:DAYLIGHT
BEGIN:STANDARD
TZOFFSETFROM:-0300
TZOFFSETTO:-0400
TZNAME:AST
DTSTART:19971026T050000
END:STANDARD
BEGIN:DAYLIGHT
TZOFFSETFROM:-0400
TZOFFSETTO:-0300
TZNAME:ADT
DTSTART:19980405T060000
END:DAYLIGHT
BEGIN:STANDARD
TZOFFSETFROM:-0300
TZOFFSETTO:-0400
TZNAME:AST
DTSTART:19981025T050000
END:STANDARD
BEGIN:DAYLIGHT
TZOFFSETFROM:-0400
TZOFFSETTO:-0300
TZNAME:ADT
DTSTART:19990404T060000
END:DAYLIGHT
BEGIN:STANDARD
TZOFFSETFROM:-0300
TZOFFSETTO:-0400
TZNAME:AST
DTSTART:19991031T050000
END:STANDARD
BEGIN:DAYLIGHT
TZOFFSETFROM:-0400
TZOFFSETTO:-0300
TZNAME:ADT
DTSTART:20000402T060000
END:DAYLIGHT
BEGIN:STANDARD
TZOFFSETFROM:-0300
TZOFFSETTO:-0400
TZNAME:AST
DTSTART:20001029T050000
END:STANDARD
BEGIN:DAYLIGHT
TZOFFSETFROM:-0400
TZOFFSETTO:-0300
TZNAME:ADT
DTSTART:20010401T060000
END:DAYLIGHT
BEGIN:STANDARD
TZOFFSETFROM:-0300
TZOFFSETTO:-0400
TZNAME:AST
DTSTART:20011028T050000
END:STANDARD
BEGIN:DAYLIGHT
TZOFFSETFROM:-0400
TZOFFSETTO:-0300
TZNAME:ADT
DTSTART:20020407T060000
END:DAYLIGHT
BEGIN:STANDARD
TZOFFSETFROM:-0300
TZOFFSETTO:-0400
TZNAME:AST
DTSTART:20021027T050000
END:STANDARD
BEGIN:DAYLIGHT
TZOFFSETFROM:-0400
TZOFFSETTO:-0300
TZNAME:ADT
DTSTART:20030406T060000
END:DAYLIGHT
BEGIN:STANDARD
TZOFFSETFROM:-0300
TZOFFSETTO:-0400
TZNAME:AST
DTSTART:20031026T050000
END:STANDARD
BEGIN:DAYLIGHT
TZOFFSETFROM:-0400
TZOFFSETTO:-0300
TZNAME:ADT
DTSTART:20040404T060000
END:DAYLIGHT
BEGIN:STANDARD
TZOFFSETFROM:-0300
TZOFFSETTO:-0400
TZNAME:AST
DTSTART:20041031T050000
END:STANDARD
BEGIN:DAYLIGHT
TZOFFSETFROM:-0400
TZOFFSETTO:-0300
TZNAME:ADT
DTSTART:20050403T060000
END:DAYLIGHT
BEGIN:STANDARD
TZOFFSETFROM:-0300
TZOFFSETTO:-0400
TZNAME:AST
DTSTART:20051030T050000
END:STANDARD
BEGIN:DAYLIGHT
TZOFFSETFROM:-0400
TZOFFSETTO:-0300
TZNAME:ADT
DTSTART:20060402T060000
END:DAYLIGHT
BEGIN:STANDARD
TZOFFSETFROM:-0300
TZOFFSETTO:-0400
TZNAME:AST
DTSTART:20061029T050000
END:STANDARD
BEGIN:DAYLIGHT
TZOFFSETFROM:-0400
TZOFFSETTO:-0300
TZNAME:ADT
DTSTART:20070311T060000
END:DAYLIGHT
BEGIN:STANDARD
TZOFFSETFROM:-0300
TZOFFSETTO:-0400
TZNAME:AST
DTSTART:20071104T050000
END:STANDARD
BEGIN:DAYLIGHT
TZOFFSETFROM:-0400
TZOFFSETTO:-0300
TZNAME:ADT
DTSTART:20080309T060000
END:DAYLIGHT
BEGIN:STANDARD
TZOFFSETFROM:-0300
TZOFFSETTO:-0400
TZNAME:AST
DTSTART:20081102T050000
END:STANDARD
BEGIN:DAYLIGHT
TZOFFSETFROM:-0400
TZOFFSETTO:-0300
TZNAME:ADT
DTSTART:20090308T060000
END:DAYLIGHT
BEGIN:STANDARD
TZOFFSETFROM:-0300
TZOFFSETTO:-0400
TZNAME:AST
DTSTART:20091101T050000
END:STANDARD
BEGIN:DAYLIGHT
TZOFFSETFROM:-0400
TZOFFSETTO:-0300
TZNAME:ADT
DTSTART:20100314T060000
END:DAYLIGHT
BEGIN:STANDARD
TZOFFSETFROM:-0300
TZOFFSETTO:-0400
TZNAME:AST
DTSTART:20101107T050000
END:STANDARD
BEGIN:DAYLIGHT
TZOFFSETFROM:-0400
TZOFFSETTO:-0300
TZNAME:ADT
DTSTART:20110313T060000
END:DAYLIGHT
BEGIN:STANDARD
TZOFFSETFROM:-0300
TZOFFSETTO:-0400
TZNAME:AST
DTSTART:20111106T050000
END:STANDARD
BEGIN:DAYLIGHT
TZOFFSETFROM:-0400
TZOFFSETTO:-0300
TZNAME:ADT
DTSTART:20120311T060000
END:DAYLIGHT
BEGIN:STANDARD
TZOFFSETFROM:-0300
TZOFFSETTO:-0400
TZNAME:AST
DTSTART:20121104T050000
END:STANDARD
BEGIN:DAYLIGHT
TZOFFSETFROM:-0400
TZOFFSETTO:-0300
TZNAME:ADT
DTSTART:20130310T060000
END:DAYLIGHT
BEGIN:STANDARD
TZOFFSETFROM:-0300
TZOFFSETTO:-0400
TZNAME:AST
DTSTART:20131103T050000
END:STANDARD
BEGIN:DAYLIGHT
TZOFFSETFROM:-0400
TZOFFSETTO:-0300
TZNAME:ADT
DTSTART:20140309T060000
END:DAYLIGHT
BEGIN:STANDARD
TZOFFSETFROM:-0300
TZOFFSETTO:-0400
TZNAME:AST
DTSTART:20141102T050000
END:STANDARD
BEGIN:DAYLIGHT
TZOFFSETFROM:-0400
TZOFFSETTO:-0300
TZNAME:ADT
DTSTART:20150308T060000
END:DAYLIGHT
BEGIN:STANDARD
TZOFFSETFROM:-0300
TZOFFSETTO:-0400
TZNAME:AST
DTSTART:20151101T050000
END:STANDARD
BEGIN:DAYLIGHT
TZOFFSETFROM:-0400
TZOFFSETTO:-0300
TZNAME:ADT
DTSTART:20160313T060000
END:DAYLIGHT
BEGIN:STANDARD
TZOFFSETFROM:-0300
TZOFFSETTO:-0400
TZNAME:AST
DTSTART:20161106T050000
END:STANDARD
BEGIN:DAYLIGHT
TZOFFSETFROM:-0400
TZOFFSETTO:-0300
TZNAME:ADT
DTSTART:20170312T060000
END:DAYLIGHT
BEGIN:STANDARD
TZOFFSETFROM:-0300
TZOFFSETTO:-0400
TZNAME:AST
DTSTART:20171105T050000
END:STANDARD
BEGIN:DAYLIGHT
TZOFFSETFROM:-0400
TZOFFSETTO:-0300
TZNAME:ADT
DTSTART:20180311T060000
END:DAYLIGHT
BEGIN:STANDARD
TZOFFSETFROM:-0300
TZOFFSETTO:-0400
TZNAME:AST
DTSTART:20181104T050000
END:STANDARD
BEGIN:DAYLIGHT
TZOFFSETFROM:-0400
TZOFFSETTO:-0300
TZNAME:ADT
DTSTART:20190310T060000
END:DAYLIGHT
BEGIN:STANDARD
TZOFFSETFROM:-0300
TZOFFSETTO:-0400
TZNAME:AST
DTSTART:20191103T050000
END:STANDARD
BEGIN:DAYLIGHT
TZOFFSETFROM:-0400
TZOFFSETTO:-0300
TZNAME:ADT
DTSTART:20200308T060000
END:DAYLIGHT
BEGIN:STANDARD
TZOFFSETFROM:-0300
TZOFFSETTO:-0400
TZNAME:AST
DTSTART:20201101T050000
END:STANDARD
BEGIN:DAYLIGHT
TZOFFSETFROM:-0400
TZOFFSETTO:-0300
TZNAME:ADT
DTSTART:20210314T060000
END:DAYLIGHT
BEGIN:STANDARD
TZOFFSETFROM:-0300
TZOFFSETTO:-0400
TZNAME:AST
DTSTART:20211107T050000
END:STANDARD
BEGIN:DAYLIGHT
TZOFFSETFROM:-0400
TZOFFSETTO:-0300
TZNAME:ADT
DTSTART:20220313T060000
END:DAYLIGHT
BEGIN:STANDARD
TZOFFSETFROM:-0300
TZOFFSETTO:-0400
TZNAME:AST
DTSTART:20221106T050000
END:STANDARD
BEGIN:DAYLIGHT
TZOFFSETFROM:-0400
TZOFFSETTO:-0300
TZNAME:ADT
DTSTART:20230312T060000
END:DAYLIGHT
BEGIN:STANDARD
TZOFFSETFROM:-0300
TZOFFSETTO:-0400
TZNAME:AST
DTSTART:20231105T050000
END:STANDARD
BEGIN:DAYLIGHT
TZOFFSETFROM:-0400
TZOFFSETTO:-0300
TZNAME:ADT
DTSTART:20240310T060000
END:DAYLIGHT
BEGIN:STANDARD
TZOFFSETFROM:-0300
TZOFFSETTO:-0400
TZNAME:AST
DTSTART:20241103T050000
END:STANDARD
BEGIN:DAYLIGHT
TZOFFSETFROM:-0400
TZOFFSETTO:-0300
TZNAME:ADT
DTSTART:20250309T060000
END:DAYLIGHT
BEGIN:STANDARD
TZOFFSETFROM:-0300
TZOFFSETTO:-0400
TZNAME:AST
DTSTART:20251102T050000
END:STANDARD
BEGIN:DAYLIGHT
TZOFFSETFROM:-0400
TZOFFSETTO:-0300
TZNAME:ADT
DTSTART:20260308T060000
END:DAYLIGHT
BEGIN:STANDARD
TZOFFSETFROM:-0300
TZOFFSETTO:-0400
TZNAME:AST
DTSTART:20261101T050000
END:STANDARD
END:VTIMEZONE
BEGIN:VEVENT
DTSTART;TZID=America/Halifax:20260423T212715
DTEND;TZID=America/Halifax:20240623T000000
DTSTAMP:20260423T212715
CREATED:20240624T040010Z
LAST-MODIFIED:20240410T233808Z
UID:1767-0-1719100800@saugertiestourism.com
SUMMARY:Saugerties Vintage Baseball
DESCRIPTION:Watch baseball teams play in vintage uniforms and with vintage rules
URL:https://saugertiestourism.com/event/saugerties-vintage-baseball/
LOCATION:Glasco Fireman’s Field
END:VEVENT
BEGIN:VEVENT
DTSTART;TZID=America/Halifax:20260423T212715
DTEND;TZID=America/Halifax:20250605T000000
DTSTAMP:20260423T212715
CREATED:20250605T040055Z
LAST-MODIFIED:20250306T172538Z
UID:2028-0-1749081600@saugertiestourism.com
SUMMARY:Saugerties Stallions
DESCRIPTION:Tickets-Adult-$5.00\, Students/Seniors-$3.00\, Under 12 free
URL:https://saugertiestourism.com/event/saugerties-stallions-16/
LOCATION:Cantine field\, Washington Ave\, Saugerties\, 12477\, United States
END:VEVENT
BEGIN:VEVENT
DTSTART;TZID=America/Halifax:20240413T120000
DTEND;TZID=America/Halifax:20240511T170000
DTSTAMP:20260423T212715
CREATED:20240429T040015Z
LAST-MODIFIED:20240429T131845Z
UID:1796-1713009600-1715446800@saugertiestourism.com
SUMMARY:Off The Charts-Medical Art & Internal Body Art Exhibit
DESCRIPTION:Located at 11 Jane Street Art Center\nPanel Discussion\, May 4\, 2-4 pm\nGallery open\, Thursdays 12-5\, Friday & Saturdays 12-6\, Sundays 12-5
URL:https://saugertiestourism.com/event/off-the-charts-medical-art-internal-body-art-exhibit/
LOCATION:Jane Street Art Center\, 11 Jane Street\, Saugerties\, NY\, 12477\, United States
END:VEVENT
BEGIN:VEVENT
DTSTART;TZID=America/Halifax:20240504T070000
DTEND;TZID=America/Halifax:20240504T130000
DTSTAMP:20260423T212715
CREATED:20240411T001137Z
LAST-MODIFIED:20240411T001137Z
UID:1771-1714806000-1714827600@saugertiestourism.com
SUMMARY:Andrew Mullen Trout Fishing Derby
DESCRIPTION:Trout fishing Derby held to raise funds for scholarships in honor of Andrew Mullen.\nFishing\, raffles\, food\, trophies for children 0-18\nMinimum $10 donation per person\n7:00 Registration\n7:30\, Fishing begins\n12:00-Weigh in\, 12:30 award ceremony
URL:https://saugertiestourism.com/event/andrew-mullen-trout-fishing-derby/
LOCATION:225 Cole Bank Rd.\, 225 Cole Bank Rd.\, Saugerties\, 12477\, United States
END:VEVENT
BEGIN:VEVENT
DTSTART;TZID=America/Halifax:20240504T160000
DTEND;TZID=America/Halifax:20240506T210000
DTSTAMP:20260423T212715
CREATED:20240213T014259Z
LAST-MODIFIED:20240213T014530Z
UID:1698-1714838400-1715029200@saugertiestourism.com
SUMMARY:Saugerties Animal Shelter Blue Jean Ball
DESCRIPTION:Located at Fortune Valley Manor\, 248 Old Stage Road\nto benefit the Saugerties Animal Shelter\nFMI: saugertiesanimalshelter2017@gmail.com\nTickets $125.00 each\, available at saugertiesanimalshelter.networkforgood.com
URL:https://saugertiestourism.com/event/spring-series-hits-on-the-hudson-4/
LOCATION:Fortune Valley Manor\, 248 Old Stage Road\, Saugerties\, 12477\, United States
ORGANIZER;CN="Saugerties Animal Shelter":MAILTO:gmonfett@hvc.rr.com
END:VEVENT
BEGIN:VEVENT
DTSTART;TZID=America/Halifax:20240509T180000
DTEND;TZID=America/Halifax:20240509T203000
DTSTAMP:20260423T212715
CREATED:20240304T202915Z
LAST-MODIFIED:20240304T202915Z
UID:1714-1715277600-1715286600@saugertiestourism.com
SUMMARY:Chosen Family Presents:Meridian Brothers\, Opus 40
DESCRIPTION:General Admission $25\, Carpool Pass $65\, kids (5-16) $15
URL:https://saugertiestourism.com/event/catskill-mountain-shakespeare-the-tempest/
LOCATION:Opus 40\, 50 Fite Road\, Saugerties\, 12477\, United States
END:VEVENT
BEGIN:VEVENT
DTSTART;TZID=America/Halifax:20240512T173000
DTEND;TZID=America/Halifax:20240512T203000
DTSTAMP:20260423T212715
CREATED:20240304T203345Z
LAST-MODIFIED:20240304T203345Z
UID:1717-1715535000-1715545800@saugertiestourism.com
SUMMARY:Chosen Family Presents: Colin Stetson
DESCRIPTION:General Admission-$25\, Car Pool Pass-$65\, kids (5-16) $15
URL:https://saugertiestourism.com/event/chosen-family-presents-colin-stetson/
LOCATION:Opus 40\, 50 Fite Road\, Saugerties\, 12477\, United States
END:VEVENT
BEGIN:VEVENT
DTSTART;VALUE=DATE:20240517
DTEND;VALUE=DATE:20240520
DTSTAMP:20260423T212715
CREATED:20240125T123701Z
LAST-MODIFIED:20240125T123701Z
UID:1668-1715904000-1716163199@saugertiestourism.com
SUMMARY:Spring Series\, HITS on the Hudson
DESCRIPTION:Sprig Premiere May 17-19 Entry I Schedule
URL:https://saugertiestourism.com/event/spring-series-hits-on-the-hudson/
LOCATION:HITS on the Hudson\, 454 Washington Avenue\, Saugerties\, 12477\, United States
END:VEVENT
BEGIN:VEVENT
DTSTART;VALUE=DATE:20240517
DTEND;VALUE=DATE:20240520
DTSTAMP:20260423T212715
CREATED:20240125T161422Z
LAST-MODIFIED:20240125T161907Z
UID:1679-1715904000-1716163199@saugertiestourism.com
SUMMARY:HITS -on-the Hudson III
DESCRIPTION:
URL:https://saugertiestourism.com/event/spring-series-hits-on-the-hudson-3/
LOCATION:310 Washington Ave.\, Saugerties\, 12477\, United States
END:VEVENT
BEGIN:VEVENT
DTSTART;TZID=America/Halifax:20240518T160000
DTEND;TZID=America/Halifax:20240518T190000
DTSTAMP:20260423T212715
CREATED:20240429T130728Z
LAST-MODIFIED:20240429T131645Z
UID:1798-1716048000-1716058800@saugertiestourism.com
SUMMARY:Suprina\, Art Exhibit
DESCRIPTION:Located at 11 Jane Street Art Center\nOpening reception\, May 18\, 4-7 pm\nExhibit open\, Thursdays 12-5\, Friday & Saturdays 12-6\, Sundays 12-5
URL:https://saugertiestourism.com/event/suprina-art-exhibit/
LOCATION:Jane Street Art Center\, 11 Jane Street\, Saugerties\, NY\, 12477\, United States
END:VEVENT
BEGIN:VEVENT
DTSTART;VALUE=DATE:20240522
DTEND;VALUE=DATE:20240527
DTSTAMP:20260423T212715
CREATED:20240125T143013Z
LAST-MODIFIED:20240125T150209Z
UID:1672-1716336000-1716767999@saugertiestourism.com
SUMMARY:HITS-on-the-Hudson I
DESCRIPTION:Entry I Schedule
URL:https://saugertiestourism.com/event/spring-series-hits-on-the-hudson-2/
LOCATION:HITS-on-Hudson\, 454 Washington Avenue\, Saugerties\, NY\, 12477\, United States
END:VEVENT
BEGIN:VEVENT
DTSTART;VALUE=DATE:20240524
DTEND;VALUE=DATE:20240904
DTSTAMP:20260423T212715
CREATED:20240111T202536Z
LAST-MODIFIED:20240111T202611Z
UID:1658-1716508800-1725407999@saugertiestourism.com
SUMMARY:Groovin' Around Saugerties
DESCRIPTION:16th Annual Art Display\n35 Hippie buses painted by local artists on the streets of\nthe Town & Village to tie in with the 30th anniv of Woodstock 94.\nMay 24- September 3\nSponsored by the Saugerties Chamber of Commerce.
URL:https://saugertiestourism.com/event/groovin-around-saugerties/
LOCATION:Village & Town of Saugerties
END:VEVENT
BEGIN:VEVENT
DTSTART;TZID=America/Halifax:20240524T180000
DTEND;TZID=America/Halifax:20240524T223000
DTSTAMP:20260423T212716
CREATED:20240304T204227Z
LAST-MODIFIED:20240304T204227Z
UID:1720-1716573600-1716589800@saugertiestourism.com
SUMMARY:O Brother \, Where Art Thou\, Outdoor Movie
DESCRIPTION:Upstate Films at Opus 40L O’Brother Where Art Thou w/Slide Mountain Band\nGeneral Admission-$12\, Carpool Pass $36\, Seniors/Students-$10\, kids (5-16) $8
URL:https://saugertiestourism.com/event/o-brother-where-art-thou-outdoor-movie/
LOCATION:Opus 40\, 50 Fite Road\, Saugerties\, 12477\, United States
END:VEVENT
BEGIN:VEVENT
DTSTART;TZID=America/Halifax:20240524T190000
DTEND;TZID=America/Halifax:20240524T220000
DTSTAMP:20260423T212716
CREATED:20240304T210310Z
LAST-MODIFIED:20240304T210310Z
UID:1724-1716577200-1716588000@saugertiestourism.com
SUMMARY:Spinal Tap\, Outdoor Movie\, Opus 40
DESCRIPTION:Upstate Films at Opus 40\nGeneral Admission $10\, Carpool Pass $30\, Seniors/Students-$8\, kids (5-16)\nDrinks by Stockade Tavern\, Food by Local Food vendors\nsnacks\, sodas\, popcorn via Upstate Films
URL:https://saugertiestourism.com/event/spinal-tap-outdoor-movie-opus-40/
LOCATION:Opus 40\, 50 Fite Road\, Saugerties\, 12477\, United States
END:VEVENT
BEGIN:VEVENT
DTSTART;TZID=America/Halifax:20240525T100000
DTEND;TZID=America/Halifax:20240525T140000
DTSTAMP:20260423T212716
CREATED:20240102T213007Z
LAST-MODIFIED:20240102T213007Z
UID:1623-1716631200-1716645600@saugertiestourism.com
SUMMARY:Saugerties Farmers Market
DESCRIPTION:Local Farmers & vendors\nLive music\nOpening weekend\, Saturdays\, 10 am-2 pm until end of October
URL:https://saugertiestourism.com/event/saugerties-farmers-market-14/
LOCATION:115 Main Street
END:VEVENT
BEGIN:VEVENT
DTSTART;TZID=America/Halifax:20240526T110000
DTEND;TZID=America/Halifax:20240526T140000
DTSTAMP:20260423T212716
CREATED:20240111T201640Z
LAST-MODIFIED:20240111T201640Z
UID:1655-1716721200-1716732000@saugertiestourism.com
SUMMARY:Saugerties Historical Society Museum
DESCRIPTION:Opening weekend\nSaturdays 11 am-2 pm\nSunday 1-4 pm
URL:https://saugertiestourism.com/event/saugerties-historical-society-museum/
LOCATION:119 Main St\, 119 Main St\, Saugerties\, NY\, 12477\, United States
END:VEVENT
END:VCALENDAR