BEGIN:VCALENDAR
VERSION:2.0
PRODID:-//Saugerties Tourism - ECPv6.15.20//NONSGML v1.0//EN
CALSCALE:GREGORIAN
METHOD:PUBLISH
X-WR-CALNAME:Saugerties Tourism
X-ORIGINAL-URL:https://saugertiestourism.com
X-WR-CALDESC:Events for Saugerties Tourism
REFRESH-INTERVAL;VALUE=DURATION:PT1H
X-Robots-Tag:noindex
X-PUBLISHED-TTL:PT1H
BEGIN:VTIMEZONE
TZID:America/Halifax
BEGIN:DAYLIGHT
TZOFFSETFROM:-0400
TZOFFSETTO:-0300
TZNAME:ADT
DTSTART:19690427T060000
END:DAYLIGHT
BEGIN:STANDARD
TZOFFSETFROM:-0300
TZOFFSETTO:-0400
TZNAME:AST
DTSTART:19691026T050000
END:STANDARD
BEGIN:DAYLIGHT
TZOFFSETFROM:-0400
TZOFFSETTO:-0300
TZNAME:ADT
DTSTART:19700426T060000
END:DAYLIGHT
BEGIN:STANDARD
TZOFFSETFROM:-0300
TZOFFSETTO:-0400
TZNAME:AST
DTSTART:19701025T050000
END:STANDARD
BEGIN:DAYLIGHT
TZOFFSETFROM:-0400
TZOFFSETTO:-0300
TZNAME:ADT
DTSTART:19710425T060000
END:DAYLIGHT
BEGIN:STANDARD
TZOFFSETFROM:-0300
TZOFFSETTO:-0400
TZNAME:AST
DTSTART:19711031T050000
END:STANDARD
BEGIN:DAYLIGHT
TZOFFSETFROM:-0400
TZOFFSETTO:-0300
TZNAME:ADT
DTSTART:19720430T060000
END:DAYLIGHT
BEGIN:STANDARD
TZOFFSETFROM:-0300
TZOFFSETTO:-0400
TZNAME:AST
DTSTART:19721029T050000
END:STANDARD
BEGIN:DAYLIGHT
TZOFFSETFROM:-0400
TZOFFSETTO:-0300
TZNAME:ADT
DTSTART:19730429T060000
END:DAYLIGHT
BEGIN:STANDARD
TZOFFSETFROM:-0300
TZOFFSETTO:-0400
TZNAME:AST
DTSTART:19731028T050000
END:STANDARD
BEGIN:DAYLIGHT
TZOFFSETFROM:-0400
TZOFFSETTO:-0300
TZNAME:ADT
DTSTART:19740428T060000
END:DAYLIGHT
BEGIN:STANDARD
TZOFFSETFROM:-0300
TZOFFSETTO:-0400
TZNAME:AST
DTSTART:19741027T050000
END:STANDARD
BEGIN:DAYLIGHT
TZOFFSETFROM:-0400
TZOFFSETTO:-0300
TZNAME:ADT
DTSTART:19750427T060000
END:DAYLIGHT
BEGIN:STANDARD
TZOFFSETFROM:-0300
TZOFFSETTO:-0400
TZNAME:AST
DTSTART:19751026T050000
END:STANDARD
BEGIN:DAYLIGHT
TZOFFSETFROM:-0400
TZOFFSETTO:-0300
TZNAME:ADT
DTSTART:19760425T060000
END:DAYLIGHT
BEGIN:STANDARD
TZOFFSETFROM:-0300
TZOFFSETTO:-0400
TZNAME:AST
DTSTART:19761031T050000
END:STANDARD
BEGIN:DAYLIGHT
TZOFFSETFROM:-0400
TZOFFSETTO:-0300
TZNAME:ADT
DTSTART:19770424T060000
END:DAYLIGHT
BEGIN:STANDARD
TZOFFSETFROM:-0300
TZOFFSETTO:-0400
TZNAME:AST
DTSTART:19771030T050000
END:STANDARD
BEGIN:DAYLIGHT
TZOFFSETFROM:-0400
TZOFFSETTO:-0300
TZNAME:ADT
DTSTART:19780430T060000
END:DAYLIGHT
BEGIN:STANDARD
TZOFFSETFROM:-0300
TZOFFSETTO:-0400
TZNAME:AST
DTSTART:19781029T050000
END:STANDARD
BEGIN:DAYLIGHT
TZOFFSETFROM:-0400
TZOFFSETTO:-0300
TZNAME:ADT
DTSTART:19790429T060000
END:DAYLIGHT
BEGIN:STANDARD
TZOFFSETFROM:-0300
TZOFFSETTO:-0400
TZNAME:AST
DTSTART:19791028T050000
END:STANDARD
BEGIN:DAYLIGHT
TZOFFSETFROM:-0400
TZOFFSETTO:-0300
TZNAME:ADT
DTSTART:19800427T060000
END:DAYLIGHT
BEGIN:STANDARD
TZOFFSETFROM:-0300
TZOFFSETTO:-0400
TZNAME:AST
DTSTART:19801026T050000
END:STANDARD
BEGIN:DAYLIGHT
TZOFFSETFROM:-0400
TZOFFSETTO:-0300
TZNAME:ADT
DTSTART:19810426T060000
END:DAYLIGHT
BEGIN:STANDARD
TZOFFSETFROM:-0300
TZOFFSETTO:-0400
TZNAME:AST
DTSTART:19811025T050000
END:STANDARD
BEGIN:DAYLIGHT
TZOFFSETFROM:-0400
TZOFFSETTO:-0300
TZNAME:ADT
DTSTART:19820425T060000
END:DAYLIGHT
BEGIN:STANDARD
TZOFFSETFROM:-0300
TZOFFSETTO:-0400
TZNAME:AST
DTSTART:19821031T050000
END:STANDARD
BEGIN:DAYLIGHT
TZOFFSETFROM:-0400
TZOFFSETTO:-0300
TZNAME:ADT
DTSTART:19830424T060000
END:DAYLIGHT
BEGIN:STANDARD
TZOFFSETFROM:-0300
TZOFFSETTO:-0400
TZNAME:AST
DTSTART:19831030T050000
END:STANDARD
BEGIN:DAYLIGHT
TZOFFSETFROM:-0400
TZOFFSETTO:-0300
TZNAME:ADT
DTSTART:19840429T060000
END:DAYLIGHT
BEGIN:STANDARD
TZOFFSETFROM:-0300
TZOFFSETTO:-0400
TZNAME:AST
DTSTART:19841028T050000
END:STANDARD
BEGIN:DAYLIGHT
TZOFFSETFROM:-0400
TZOFFSETTO:-0300
TZNAME:ADT
DTSTART:19850428T060000
END:DAYLIGHT
BEGIN:STANDARD
TZOFFSETFROM:-0300
TZOFFSETTO:-0400
TZNAME:AST
DTSTART:19851027T050000
END:STANDARD
BEGIN:DAYLIGHT
TZOFFSETFROM:-0400
TZOFFSETTO:-0300
TZNAME:ADT
DTSTART:19860427T060000
END:DAYLIGHT
BEGIN:STANDARD
TZOFFSETFROM:-0300
TZOFFSETTO:-0400
TZNAME:AST
DTSTART:19861026T050000
END:STANDARD
BEGIN:DAYLIGHT
TZOFFSETFROM:-0400
TZOFFSETTO:-0300
TZNAME:ADT
DTSTART:19870405T060000
END:DAYLIGHT
BEGIN:STANDARD
TZOFFSETFROM:-0300
TZOFFSETTO:-0400
TZNAME:AST
DTSTART:19871025T050000
END:STANDARD
BEGIN:DAYLIGHT
TZOFFSETFROM:-0400
TZOFFSETTO:-0300
TZNAME:ADT
DTSTART:19880403T060000
END:DAYLIGHT
BEGIN:STANDARD
TZOFFSETFROM:-0300
TZOFFSETTO:-0400
TZNAME:AST
DTSTART:19881030T050000
END:STANDARD
BEGIN:DAYLIGHT
TZOFFSETFROM:-0400
TZOFFSETTO:-0300
TZNAME:ADT
DTSTART:19890402T060000
END:DAYLIGHT
BEGIN:STANDARD
TZOFFSETFROM:-0300
TZOFFSETTO:-0400
TZNAME:AST
DTSTART:19891029T050000
END:STANDARD
BEGIN:DAYLIGHT
TZOFFSETFROM:-0400
TZOFFSETTO:-0300
TZNAME:ADT
DTSTART:19900401T060000
END:DAYLIGHT
BEGIN:STANDARD
TZOFFSETFROM:-0300
TZOFFSETTO:-0400
TZNAME:AST
DTSTART:19901028T050000
END:STANDARD
BEGIN:DAYLIGHT
TZOFFSETFROM:-0400
TZOFFSETTO:-0300
TZNAME:ADT
DTSTART:19910407T060000
END:DAYLIGHT
BEGIN:STANDARD
TZOFFSETFROM:-0300
TZOFFSETTO:-0400
TZNAME:AST
DTSTART:19911027T050000
END:STANDARD
BEGIN:DAYLIGHT
TZOFFSETFROM:-0400
TZOFFSETTO:-0300
TZNAME:ADT
DTSTART:19920405T060000
END:DAYLIGHT
BEGIN:STANDARD
TZOFFSETFROM:-0300
TZOFFSETTO:-0400
TZNAME:AST
DTSTART:19921025T050000
END:STANDARD
BEGIN:DAYLIGHT
TZOFFSETFROM:-0400
TZOFFSETTO:-0300
TZNAME:ADT
DTSTART:19930404T060000
END:DAYLIGHT
BEGIN:STANDARD
TZOFFSETFROM:-0300
TZOFFSETTO:-0400
TZNAME:AST
DTSTART:19931031T050000
END:STANDARD
BEGIN:DAYLIGHT
TZOFFSETFROM:-0400
TZOFFSETTO:-0300
TZNAME:ADT
DTSTART:19940403T060000
END:DAYLIGHT
BEGIN:STANDARD
TZOFFSETFROM:-0300
TZOFFSETTO:-0400
TZNAME:AST
DTSTART:19941030T050000
END:STANDARD
BEGIN:DAYLIGHT
TZOFFSETFROM:-0400
TZOFFSETTO:-0300
TZNAME:ADT
DTSTART:19950402T060000
END:DAYLIGHT
BEGIN:STANDARD
TZOFFSETFROM:-0300
TZOFFSETTO:-0400
TZNAME:AST
DTSTART:19951029T050000
END:STANDARD
BEGIN:DAYLIGHT
TZOFFSETFROM:-0400
TZOFFSETTO:-0300
TZNAME:ADT
DTSTART:19960407T060000
END:DAYLIGHT
BEGIN:STANDARD
TZOFFSETFROM:-0300
TZOFFSETTO:-0400
TZNAME:AST
DTSTART:19961027T050000
END:STANDARD
BEGIN:DAYLIGHT
TZOFFSETFROM:-0400
TZOFFSETTO:-0300
TZNAME:ADT
DTSTART:19970406T060000
END:DAYLIGHT
BEGIN:STANDARD
TZOFFSETFROM:-0300
TZOFFSETTO:-0400
TZNAME:AST
DTSTART:19971026T050000
END:STANDARD
BEGIN:DAYLIGHT
TZOFFSETFROM:-0400
TZOFFSETTO:-0300
TZNAME:ADT
DTSTART:19980405T060000
END:DAYLIGHT
BEGIN:STANDARD
TZOFFSETFROM:-0300
TZOFFSETTO:-0400
TZNAME:AST
DTSTART:19981025T050000
END:STANDARD
BEGIN:DAYLIGHT
TZOFFSETFROM:-0400
TZOFFSETTO:-0300
TZNAME:ADT
DTSTART:19990404T060000
END:DAYLIGHT
BEGIN:STANDARD
TZOFFSETFROM:-0300
TZOFFSETTO:-0400
TZNAME:AST
DTSTART:19991031T050000
END:STANDARD
BEGIN:DAYLIGHT
TZOFFSETFROM:-0400
TZOFFSETTO:-0300
TZNAME:ADT
DTSTART:20000402T060000
END:DAYLIGHT
BEGIN:STANDARD
TZOFFSETFROM:-0300
TZOFFSETTO:-0400
TZNAME:AST
DTSTART:20001029T050000
END:STANDARD
BEGIN:DAYLIGHT
TZOFFSETFROM:-0400
TZOFFSETTO:-0300
TZNAME:ADT
DTSTART:20010401T060000
END:DAYLIGHT
BEGIN:STANDARD
TZOFFSETFROM:-0300
TZOFFSETTO:-0400
TZNAME:AST
DTSTART:20011028T050000
END:STANDARD
BEGIN:DAYLIGHT
TZOFFSETFROM:-0400
TZOFFSETTO:-0300
TZNAME:ADT
DTSTART:20020407T060000
END:DAYLIGHT
BEGIN:STANDARD
TZOFFSETFROM:-0300
TZOFFSETTO:-0400
TZNAME:AST
DTSTART:20021027T050000
END:STANDARD
BEGIN:DAYLIGHT
TZOFFSETFROM:-0400
TZOFFSETTO:-0300
TZNAME:ADT
DTSTART:20030406T060000
END:DAYLIGHT
BEGIN:STANDARD
TZOFFSETFROM:-0300
TZOFFSETTO:-0400
TZNAME:AST
DTSTART:20031026T050000
END:STANDARD
BEGIN:DAYLIGHT
TZOFFSETFROM:-0400
TZOFFSETTO:-0300
TZNAME:ADT
DTSTART:20040404T060000
END:DAYLIGHT
BEGIN:STANDARD
TZOFFSETFROM:-0300
TZOFFSETTO:-0400
TZNAME:AST
DTSTART:20041031T050000
END:STANDARD
BEGIN:DAYLIGHT
TZOFFSETFROM:-0400
TZOFFSETTO:-0300
TZNAME:ADT
DTSTART:20050403T060000
END:DAYLIGHT
BEGIN:STANDARD
TZOFFSETFROM:-0300
TZOFFSETTO:-0400
TZNAME:AST
DTSTART:20051030T050000
END:STANDARD
BEGIN:DAYLIGHT
TZOFFSETFROM:-0400
TZOFFSETTO:-0300
TZNAME:ADT
DTSTART:20060402T060000
END:DAYLIGHT
BEGIN:STANDARD
TZOFFSETFROM:-0300
TZOFFSETTO:-0400
TZNAME:AST
DTSTART:20061029T050000
END:STANDARD
BEGIN:DAYLIGHT
TZOFFSETFROM:-0400
TZOFFSETTO:-0300
TZNAME:ADT
DTSTART:20070311T060000
END:DAYLIGHT
BEGIN:STANDARD
TZOFFSETFROM:-0300
TZOFFSETTO:-0400
TZNAME:AST
DTSTART:20071104T050000
END:STANDARD
BEGIN:DAYLIGHT
TZOFFSETFROM:-0400
TZOFFSETTO:-0300
TZNAME:ADT
DTSTART:20080309T060000
END:DAYLIGHT
BEGIN:STANDARD
TZOFFSETFROM:-0300
TZOFFSETTO:-0400
TZNAME:AST
DTSTART:20081102T050000
END:STANDARD
BEGIN:DAYLIGHT
TZOFFSETFROM:-0400
TZOFFSETTO:-0300
TZNAME:ADT
DTSTART:20090308T060000
END:DAYLIGHT
BEGIN:STANDARD
TZOFFSETFROM:-0300
TZOFFSETTO:-0400
TZNAME:AST
DTSTART:20091101T050000
END:STANDARD
BEGIN:DAYLIGHT
TZOFFSETFROM:-0400
TZOFFSETTO:-0300
TZNAME:ADT
DTSTART:20100314T060000
END:DAYLIGHT
BEGIN:STANDARD
TZOFFSETFROM:-0300
TZOFFSETTO:-0400
TZNAME:AST
DTSTART:20101107T050000
END:STANDARD
BEGIN:DAYLIGHT
TZOFFSETFROM:-0400
TZOFFSETTO:-0300
TZNAME:ADT
DTSTART:20110313T060000
END:DAYLIGHT
BEGIN:STANDARD
TZOFFSETFROM:-0300
TZOFFSETTO:-0400
TZNAME:AST
DTSTART:20111106T050000
END:STANDARD
BEGIN:DAYLIGHT
TZOFFSETFROM:-0400
TZOFFSETTO:-0300
TZNAME:ADT
DTSTART:20120311T060000
END:DAYLIGHT
BEGIN:STANDARD
TZOFFSETFROM:-0300
TZOFFSETTO:-0400
TZNAME:AST
DTSTART:20121104T050000
END:STANDARD
BEGIN:DAYLIGHT
TZOFFSETFROM:-0400
TZOFFSETTO:-0300
TZNAME:ADT
DTSTART:20130310T060000
END:DAYLIGHT
BEGIN:STANDARD
TZOFFSETFROM:-0300
TZOFFSETTO:-0400
TZNAME:AST
DTSTART:20131103T050000
END:STANDARD
BEGIN:DAYLIGHT
TZOFFSETFROM:-0400
TZOFFSETTO:-0300
TZNAME:ADT
DTSTART:20140309T060000
END:DAYLIGHT
BEGIN:STANDARD
TZOFFSETFROM:-0300
TZOFFSETTO:-0400
TZNAME:AST
DTSTART:20141102T050000
END:STANDARD
BEGIN:DAYLIGHT
TZOFFSETFROM:-0400
TZOFFSETTO:-0300
TZNAME:ADT
DTSTART:20150308T060000
END:DAYLIGHT
BEGIN:STANDARD
TZOFFSETFROM:-0300
TZOFFSETTO:-0400
TZNAME:AST
DTSTART:20151101T050000
END:STANDARD
BEGIN:DAYLIGHT
TZOFFSETFROM:-0400
TZOFFSETTO:-0300
TZNAME:ADT
DTSTART:20160313T060000
END:DAYLIGHT
BEGIN:STANDARD
TZOFFSETFROM:-0300
TZOFFSETTO:-0400
TZNAME:AST
DTSTART:20161106T050000
END:STANDARD
BEGIN:DAYLIGHT
TZOFFSETFROM:-0400
TZOFFSETTO:-0300
TZNAME:ADT
DTSTART:20170312T060000
END:DAYLIGHT
BEGIN:STANDARD
TZOFFSETFROM:-0300
TZOFFSETTO:-0400
TZNAME:AST
DTSTART:20171105T050000
END:STANDARD
BEGIN:DAYLIGHT
TZOFFSETFROM:-0400
TZOFFSETTO:-0300
TZNAME:ADT
DTSTART:20180311T060000
END:DAYLIGHT
BEGIN:STANDARD
TZOFFSETFROM:-0300
TZOFFSETTO:-0400
TZNAME:AST
DTSTART:20181104T050000
END:STANDARD
BEGIN:DAYLIGHT
TZOFFSETFROM:-0400
TZOFFSETTO:-0300
TZNAME:ADT
DTSTART:20190310T060000
END:DAYLIGHT
BEGIN:STANDARD
TZOFFSETFROM:-0300
TZOFFSETTO:-0400
TZNAME:AST
DTSTART:20191103T050000
END:STANDARD
BEGIN:DAYLIGHT
TZOFFSETFROM:-0400
TZOFFSETTO:-0300
TZNAME:ADT
DTSTART:20200308T060000
END:DAYLIGHT
BEGIN:STANDARD
TZOFFSETFROM:-0300
TZOFFSETTO:-0400
TZNAME:AST
DTSTART:20201101T050000
END:STANDARD
BEGIN:DAYLIGHT
TZOFFSETFROM:-0400
TZOFFSETTO:-0300
TZNAME:ADT
DTSTART:20210314T060000
END:DAYLIGHT
BEGIN:STANDARD
TZOFFSETFROM:-0300
TZOFFSETTO:-0400
TZNAME:AST
DTSTART:20211107T050000
END:STANDARD
BEGIN:DAYLIGHT
TZOFFSETFROM:-0400
TZOFFSETTO:-0300
TZNAME:ADT
DTSTART:20220313T060000
END:DAYLIGHT
BEGIN:STANDARD
TZOFFSETFROM:-0300
TZOFFSETTO:-0400
TZNAME:AST
DTSTART:20221106T050000
END:STANDARD
BEGIN:DAYLIGHT
TZOFFSETFROM:-0400
TZOFFSETTO:-0300
TZNAME:ADT
DTSTART:20230312T060000
END:DAYLIGHT
BEGIN:STANDARD
TZOFFSETFROM:-0300
TZOFFSETTO:-0400
TZNAME:AST
DTSTART:20231105T050000
END:STANDARD
BEGIN:DAYLIGHT
TZOFFSETFROM:-0400
TZOFFSETTO:-0300
TZNAME:ADT
DTSTART:20240310T060000
END:DAYLIGHT
BEGIN:STANDARD
TZOFFSETFROM:-0300
TZOFFSETTO:-0400
TZNAME:AST
DTSTART:20241103T050000
END:STANDARD
BEGIN:DAYLIGHT
TZOFFSETFROM:-0400
TZOFFSETTO:-0300
TZNAME:ADT
DTSTART:20250309T060000
END:DAYLIGHT
BEGIN:STANDARD
TZOFFSETFROM:-0300
TZOFFSETTO:-0400
TZNAME:AST
DTSTART:20251102T050000
END:STANDARD
BEGIN:DAYLIGHT
TZOFFSETFROM:-0400
TZOFFSETTO:-0300
TZNAME:ADT
DTSTART:20260308T060000
END:DAYLIGHT
BEGIN:STANDARD
TZOFFSETFROM:-0300
TZOFFSETTO:-0400
TZNAME:AST
DTSTART:20261101T050000
END:STANDARD
END:VTIMEZONE
BEGIN:VEVENT
DTSTART;TZID=America/Halifax:20260424T122115
DTEND;TZID=America/Halifax:20240623T000000
DTSTAMP:20260424T122115
CREATED:20240624T040010Z
LAST-MODIFIED:20240410T233808Z
UID:1767-0-1719100800@saugertiestourism.com
SUMMARY:Saugerties Vintage Baseball
DESCRIPTION:Watch baseball teams play in vintage uniforms and with vintage rules
URL:https://saugertiestourism.com/event/saugerties-vintage-baseball/
LOCATION:Glasco Fireman’s Field
END:VEVENT
BEGIN:VEVENT
DTSTART;TZID=America/Halifax:20260424T122115
DTEND;TZID=America/Halifax:20250605T000000
DTSTAMP:20260424T122115
CREATED:20250605T040055Z
LAST-MODIFIED:20250306T172538Z
UID:2028-0-1749081600@saugertiestourism.com
SUMMARY:Saugerties Stallions
DESCRIPTION:Tickets-Adult-$5.00\, Students/Seniors-$3.00\, Under 12 free
URL:https://saugertiestourism.com/event/saugerties-stallions-16/
LOCATION:Cantine field\, Washington Ave\, Saugerties\, 12477\, United States
END:VEVENT
BEGIN:VEVENT
DTSTART;VALUE=DATE:20230830
DTEND;VALUE=DATE:20230904
DTSTAMP:20260424T122115
CREATED:20230305T183837Z
LAST-MODIFIED:20230305T183837Z
UID:1365-1693353600-1693785599@saugertiestourism.com
SUMMARY:HITS-on-the-Hudson VII - National / 5*
DESCRIPTION:FALL SERIES\nHITS-on-the-Hudson VII – National / 5* Aug. 30 – Sept. 3\ninfo: hitsshows.com \n  \nHITS Saugerties Series \nMay 19th – September 10th\, 2023 \n\nThe HITS Saugerties Series welcomes equestrians for nine weeks of events\, $3 million in prize money\, bi-weekly Grand Prix\, qualifiers for the HITS Championship\, USEF National-Rated Hunters\, 5* and 6* Jumpers\, and the VIP Club. The majestic Catskill Mountains provide a sweeping backdrop to this exciting series\, that has made its home at HITS-on-the-Hudson since 2004. In the fall\, the HITS Championship caps the HITS Saugerties Series with hunter and jumper finals and the HITS Saugerties Grand Prix.
URL:https://saugertiestourism.com/event/hits-on-the-hudson-vii-national-5/
LOCATION:HITS\, 454 Washington Avenue Extension\, Saugerties\, NY\, 12477\, United States
END:VEVENT
BEGIN:VEVENT
DTSTART;TZID=America/Halifax:20230901T183000
DTEND;TZID=America/Halifax:20230901T183000
DTSTAMP:20260424T122115
CREATED:20230328T143315Z
LAST-MODIFIED:20230328T143315Z
UID:1399-1693593000-1693593000@saugertiestourism.com
SUMMARY:Chamber Sunset Concert at the Dutch Barn
DESCRIPTION:Enjoy a free concert sponsored by the Chamber of Commerce
URL:https://saugertiestourism.com/event/chamber-sunset-concert-at-the-dutch-barn/
LOCATION:The Dutch Barn at Kiersted House\, 119 Main Street\, Saugerties\, NY\, 12477
END:VEVENT
BEGIN:VEVENT
DTSTART;TZID=America/Halifax:20230902T100000
DTEND;TZID=America/Halifax:20230902T140000
DTSTAMP:20260424T122115
CREATED:20230901T124020Z
LAST-MODIFIED:20230901T124020Z
UID:1526-1693648800-1693663200@saugertiestourism.com
SUMMARY:Saugerties Farmers Market
DESCRIPTION:Annual Farm day complete with animals\, tractor rides\,\nlocal farms & lots of great local vendors\nSponsored by the Town of Saugerties
URL:https://saugertiestourism.com/event/saugerties-farmers-market-11/
LOCATION:115 Main Street
END:VEVENT
BEGIN:VEVENT
DTSTART;VALUE=DATE:20230906
DTEND;VALUE=DATE:20230911
DTSTAMP:20260424T122115
CREATED:20230305T184002Z
LAST-MODIFIED:20230305T184002Z
UID:1367-1693958400-1694390399@saugertiestourism.com
SUMMARY:HITS-on-the-Hudson VIII - National / 6*\, FEI CSI 4*
DESCRIPTION:FALL SERIES\nHITS-on-the-Hudson VIII – National / 6*\, FEI CSI 4* September 6-10\ninfo: hitsshows.com \n  \nHITS Saugerties Series \nMay 19th – September 10th\, 2023 \n\nThe HITS Saugerties Series welcomes equestrians for nine weeks of events\, $3 million in prize money\, bi-weekly Grand Prix\, qualifiers for the HITS Championship\, USEF National-Rated Hunters\, 5* and 6* Jumpers\, and the VIP Club. The majestic Catskill Mountains provide a sweeping backdrop to this exciting series\, that has made its home at HITS-on-the-Hudson since 2004. In the fall\, the HITS Championship caps the HITS Saugerties Series with hunter and jumper finals and the HITS Saugerties Grand Prix.
URL:https://saugertiestourism.com/event/hits-on-the-hudson-viii-national-6-fei-csi-4/
LOCATION:HITS\, 454 Washington Avenue Extension\, Saugerties\, NY\, 12477\, United States
END:VEVENT
BEGIN:VEVENT
DTSTART;VALUE=DATE:20230910
DTEND;VALUE=DATE:20230911
DTSTAMP:20260424T122115
CREATED:20230305T184133Z
LAST-MODIFIED:20230305T184133Z
UID:1369-1694304000-1694390399@saugertiestourism.com
SUMMARY:HITS Championship
DESCRIPTION:FALL SERIES\nHITS Championship\, September 10\nUSHJA 3’3″ Adult Gladstone Cup Equitation Classic\nUSHJA 3’3″ Adult Jumping Seat Medal Finals \ninfo: hitsshows.com \n  \nHITS Saugerties Series \nMay 19th – September 10th\, 2023 \n\nThe HITS Saugerties Series welcomes equestrians for nine weeks of events\, $3 million in prize money\, bi-weekly Grand Prix\, qualifiers for the HITS Championship\, USEF National-Rated Hunters\, 5* and 6* Jumpers\, and the VIP Club. The majestic Catskill Mountains provide a sweeping backdrop to this exciting series\, that has made its home at HITS-on-the-Hudson since 2004. In the fall\, the HITS Championship caps the HITS Saugerties Series with hunter and jumper finals and the HITS Saugerties Grand Prix.
URL:https://saugertiestourism.com/event/hits-championship/
LOCATION:HITS\, 454 Washington Avenue Extension\, Saugerties\, NY\, 12477\, United States
END:VEVENT
BEGIN:VEVENT
DTSTART;TZID=America/Halifax:20230910T100000
DTEND;TZID=America/Halifax:20230910T120000
DTSTAMP:20260424T122115
CREATED:20230901T123152Z
LAST-MODIFIED:20230901T123249Z
UID:1524-1694340000-1694347200@saugertiestourism.com
SUMMARY:Horsin' Around Saugerties
DESCRIPTION:Brunch & Auction\nSupport local artists\, the Saugerties Chamber of Commerce\nand the Ryan house who will receive a donation from the proceeds raised
URL:https://saugertiestourism.com/event/horsin-around-saugerties-2/
LOCATION:HITS-on-Hudson\, 454 Washington Avenue\, Saugerties\, NY\, 12477\, United States
END:VEVENT
BEGIN:VEVENT
DTSTART;VALUE=DATE:20230913
DTEND;VALUE=DATE:20230918
DTSTAMP:20260424T122115
CREATED:20230305T184425Z
LAST-MODIFIED:20230305T184425Z
UID:1372-1694563200-1694995199@saugertiestourism.com
SUMMARY:HITS - M&S Insurance League National Finals
DESCRIPTION:M&S Insurance League National Finals September 13-17\ninfo: hitsshows.com \nThe Marshall & Sterling Insurance League is a grassroots organization dedicated to providing competition for up-and-coming Children and Adult Hunter\, Jumper and Equitation riders. The M&S League has grown\, since its inception in 1991\, from 10 member shows with 100 riders to over 1\,300 horse shows with more than 1\,500 competitors today. The League provides a vast opportunity for riders to compete throughout the year and to participate in the prestigious Marshall & Sterling Insurance League National Finals at HITS-on-the-Hudson in Saugerties\, New York. \n\n 
URL:https://saugertiestourism.com/event/hits-ms-insurance-league-national-finals-2/
LOCATION:HITS\, 454 Washington Avenue Extension\, Saugerties\, NY\, 12477\, United States
END:VEVENT
BEGIN:VEVENT
DTSTART;TZID=America/Halifax:20230922T170000
DTEND;TZID=America/Halifax:20230922T170000
DTSTAMP:20260424T122115
CREATED:20230921T002519Z
LAST-MODIFIED:20230921T002519Z
UID:1574-1695402000-1695402000@saugertiestourism.com
SUMMARY:Opus 40\, Lara Hope & The Ark-Tones
DESCRIPTION:Sunset Concert on the meadow at Opus 40.\nGates open 5 pm\, 6 pm show\ninfo@opus40.org. opus40.org
URL:https://saugertiestourism.com/event/opus-40-lara-hope-the-ark-tones/
LOCATION:Opus 40\, 50 Fite Road\, Saugerties\, 12477\, United States
END:VEVENT
BEGIN:VEVENT
DTSTART;TZID=America/Halifax:20230923T100000
DTEND;TZID=America/Halifax:20230923T140000
DTSTAMP:20260424T122115
CREATED:20230921T000259Z
LAST-MODIFIED:20230921T000259Z
UID:1562-1695463200-1695477600@saugertiestourism.com
SUMMARY:Saugerties Farmers Market
DESCRIPTION:115 Main St. Saturdays 10am-2pm
URL:https://saugertiestourism.com/event/saugerties-farmers-market-12/
LOCATION:115 Main Street
END:VEVENT
BEGIN:VEVENT
DTSTART;TZID=America/Halifax:20230927T200000
DTEND;TZID=America/Halifax:20230927T200000
DTSTAMP:20260424T122115
CREATED:20230920T233620Z
LAST-MODIFIED:20230920T233620Z
UID:1543-1695844800-1695844800@saugertiestourism.com
SUMMARY:Tablao Flamenco at The Local
DESCRIPTION:FMI: THELOCALSAUGERTIES.COM\nMusic\, dance & song\nOpen one hour before show
URL:https://saugertiestourism.com/event/tablao-flamenco-at-the-local/
LOCATION:The Local Saugerties\, 16 John St\, Saugerties\, NY\, 12477\, United States
END:VEVENT
BEGIN:VEVENT
DTSTART;VALUE=DATE:20230930
DTEND;VALUE=DATE:20231002
DTSTAMP:20260424T122116
CREATED:20230213T012233Z
LAST-MODIFIED:20230213T012233Z
UID:1227-1696032000-1696204799@saugertiestourism.com
SUMMARY:Hudson Valley Garlic Festival
DESCRIPTION:Hudson Valley Garlic Festival\nPresented by the Kiwanis Club of Saugerties\n\nSeptember 30 – October 1\, 2023\n\nSaturday\, September 30: 10 am – 6 pm\nSunday\, October 1: 10 am – 5 pm\n\nTickets & Info:  http://hvgf.org
URL:https://saugertiestourism.com/event/hudson-valley-garlic-festival-3/
LOCATION:Cantine Veterans Memorial Field
END:VEVENT
BEGIN:VEVENT
DTSTART;TZID=America/Halifax:20230930T080000
DTEND;TZID=America/Halifax:20231001T170000
DTSTAMP:20260424T122116
CREATED:20230304T213726Z
LAST-MODIFIED:20230603T133208Z
UID:1276-1696060800-1696179600@saugertiestourism.com
SUMMARY:Saugerties Vintage Base Ball Club
DESCRIPTION:
URL:https://saugertiestourism.com/event/saugerties-vintage-base-ball-club-6/
LOCATION:Marbletown Park\, 350 Tongore Road\, Kingston\, NY\, United States
END:VEVENT
BEGIN:VEVENT
DTSTART;TZID=America/Halifax:20230930T200000
DTEND;TZID=America/Halifax:20230930T200000
DTSTAMP:20260424T122116
CREATED:20230920T233915Z
LAST-MODIFIED:20230920T233915Z
UID:1547-1696104000-1696104000@saugertiestourism.com
SUMMARY:Tribute to Leonard Cohen
DESCRIPTION:At the Saugerties Local\nDoors open one hour before event
URL:https://saugertiestourism.com/event/tribute-to-leonard-cohen/
LOCATION:The Local Saugerties\, 16 John St\, Saugerties\, NY\, 12477\, United States
END:VEVENT
END:VCALENDAR