BEGIN:VCALENDAR
VERSION:2.0
PRODID:-//Saugerties Tourism - ECPv6.15.20//NONSGML v1.0//EN
CALSCALE:GREGORIAN
METHOD:PUBLISH
X-WR-CALNAME:Saugerties Tourism
X-ORIGINAL-URL:https://saugertiestourism.com
X-WR-CALDESC:Events for Saugerties Tourism
REFRESH-INTERVAL;VALUE=DURATION:PT1H
X-Robots-Tag:noindex
X-PUBLISHED-TTL:PT1H
BEGIN:VTIMEZONE
TZID:America/Halifax
BEGIN:DAYLIGHT
TZOFFSETFROM:-0400
TZOFFSETTO:-0300
TZNAME:ADT
DTSTART:20230312T060000
END:DAYLIGHT
BEGIN:STANDARD
TZOFFSETFROM:-0300
TZOFFSETTO:-0400
TZNAME:AST
DTSTART:20231105T050000
END:STANDARD
BEGIN:DAYLIGHT
TZOFFSETFROM:-0400
TZOFFSETTO:-0300
TZNAME:ADT
DTSTART:20240310T060000
END:DAYLIGHT
BEGIN:STANDARD
TZOFFSETFROM:-0300
TZOFFSETTO:-0400
TZNAME:AST
DTSTART:20241103T050000
END:STANDARD
BEGIN:DAYLIGHT
TZOFFSETFROM:-0400
TZOFFSETTO:-0300
TZNAME:ADT
DTSTART:20250309T060000
END:DAYLIGHT
BEGIN:STANDARD
TZOFFSETFROM:-0300
TZOFFSETTO:-0400
TZNAME:AST
DTSTART:20251102T050000
END:STANDARD
BEGIN:DAYLIGHT
TZOFFSETFROM:-0400
TZOFFSETTO:-0300
TZNAME:ADT
DTSTART:20260308T060000
END:DAYLIGHT
BEGIN:STANDARD
TZOFFSETFROM:-0300
TZOFFSETTO:-0400
TZNAME:AST
DTSTART:20261101T050000
END:STANDARD
END:VTIMEZONE
BEGIN:VEVENT
DTSTART;TZID=America/Halifax:20250228T200000
DTEND;TZID=America/Halifax:20250228T220000
DTSTAMP:20260423T054144
CREATED:20241230T225947Z
LAST-MODIFIED:20241230T225947Z
UID:1948-1740772800-1740780000@saugertiestourism.com
SUMMARY:Rebecca Martin :SHE Album Release Party!
DESCRIPTION:Rebecca Martin has shaped a singular career devoted to the beauty and possibility of\npure creative discovery.
URL:https://saugertiestourism.com/event/rebecca-martin-she-album-release-party/
LOCATION:The Local Saugerties\, 16 John St\, Saugerties\, NY\, 12477\, United States
END:VEVENT
BEGIN:VEVENT
DTSTART;TZID=America/Halifax:20250223T170000
DTEND;TZID=America/Halifax:20250223T190000
DTSTAMP:20260423T054144
CREATED:20241230T224742Z
LAST-MODIFIED:20241230T224742Z
UID:1946-1740330000-1740337200@saugertiestourism.com
SUMMARY:Korean Swing\, Funk and Rock: Sangjaru
DESCRIPTION:Direct from Korea! Sangjiaru is one of South Korea’s most innovative young bands
URL:https://saugertiestourism.com/event/korean-swing-funk-and-rock-sangjaru/
LOCATION:The Local Saugerties\, 16 John St\, Saugerties\, NY\, 12477\, United States
END:VEVENT
BEGIN:VEVENT
DTSTART;TZID=America/Halifax:20250222T200000
DTEND;TZID=America/Halifax:20250222T220000
DTSTAMP:20260423T054144
CREATED:20241230T224423Z
LAST-MODIFIED:20241230T224423Z
UID:1944-1740254400-1740261600@saugertiestourism.com
SUMMARY:Good Vibes Explosion! Krakauer and Tagg's Square Peg Throwdown
DESCRIPTION:Come for a Mazel Tov Cocktail party
URL:https://saugertiestourism.com/event/good-vibes-explosion-krakauer-and-taggs-square-peg-throwdown/
END:VEVENT
BEGIN:VEVENT
DTSTART;TZID=America/Halifax:20250214T200000
DTEND;TZID=America/Halifax:20250214T220000
DTSTAMP:20260423T054144
CREATED:20241230T224032Z
LAST-MODIFIED:20241230T224032Z
UID:1942-1739563200-1739570400@saugertiestourism.com
SUMMARY:A Very Jazzy Valentines Day: Rachel Z "Sensual" Trio with Omar Hakim & Jonathan Toscano
DESCRIPTION:Spend Valentines Day at the Local with a romantic show!\nPianist Rachel Z’s new album “Sensual” pushes the boundaries of contemporary music blending\nelements of jazz\, rock\, folk\, and beyond.
URL:https://saugertiestourism.com/event/a-very-jazzy-valentines-day-rachel-z-sensual-trio-with-omar-hakim-jonathan-toscano/
LOCATION:The Local Saugerties\, 16 John St\, Saugerties\, NY\, 12477\, United States
END:VEVENT
BEGIN:VEVENT
DTSTART;TZID=America/Halifax:20250209T140000
DTEND;TZID=America/Halifax:20250209T170000
DTSTAMP:20260423T054144
CREATED:20250205T221634Z
LAST-MODIFIED:20250205T221634Z
UID:2011-1739109600-1739120400@saugertiestourism.com
SUMMARY:The Old Folkies\, music event at Rock Da Casbah
DESCRIPTION:Live Music at Rock Da Casbah
URL:https://saugertiestourism.com/event/the-old-folkies-music-event-at-rock-da-casbah/
LOCATION:Rock Da casbah\, 216 Main Street\, Saugerties\, NY\, 12477\, United States
END:VEVENT
BEGIN:VEVENT
DTSTART;TZID=America/Halifax:20250208T090000
DTEND;TZID=America/Halifax:20250208T150000
DTSTAMP:20260423T054144
CREATED:20250205T221230Z
LAST-MODIFIED:20250205T221230Z
UID:2008-1739005200-1739026800@saugertiestourism.com
SUMMARY:Farmhouse Feed & Co\, Valentine's Day Pet Photos
DESCRIPTION:Valentine’s Day Pet Photos & Nail Trims\nReceive 5 edited photos for $20\nNail Trims $20\nKatie Marie Photography 9-3\nJane’s Pet Care 10-2\nwalk-in’s welcome
URL:https://saugertiestourism.com/event/farmhouse-feed-co-valentines-day-pet-photos/
LOCATION:Farmhouse Feed\, 1284 Churchland Lane\, Saugerties\, 12477\, United States
END:VEVENT
BEGIN:VEVENT
DTSTART;TZID=America/Halifax:20250201T200000
DTEND;TZID=America/Halifax:20250201T220000
DTSTAMP:20260423T054144
CREATED:20241230T222429Z
LAST-MODIFIED:20241230T222429Z
UID:1939-1738440000-1738447200@saugertiestourism.com
SUMMARY:Turntables on the Hudson with Nickodemus and DJ Rekha
DESCRIPTION:Get ready to dance to the funkiest grooves
URL:https://saugertiestourism.com/event/turntables-on-the-hudson-with-nickodemus-and-dj-rekha/
LOCATION:The Local Saugerties\, 16 John St\, Saugerties\, NY\, 12477\, United States
END:VEVENT
BEGIN:VEVENT
DTSTART;TZID=America/Halifax:20250110T190000
DTEND;TZID=America/Halifax:20250110T210000
DTSTAMP:20260423T054144
CREATED:20241230T222122Z
LAST-MODIFIED:20241230T222122Z
UID:1937-1736535600-1736542800@saugertiestourism.com
SUMMARY:John Street Jam
DESCRIPTION:The John Street Jam in the round at The Local\nfeaturing Michele Gedney\, Paul Andreassen\, Jenna Nichols\, Garrin Bennfield\, Charles Wellcome and Phil Miller.\nTickets available at the localsaugerties.com
URL:https://saugertiestourism.com/event/john-street-jam/
LOCATION:The Local Saugerties\, 16 John St\, Saugerties\, NY\, 12477\, United States
END:VEVENT
BEGIN:VEVENT
DTSTART;TZID=America/Halifax:20241230T100000
DTEND;TZID=America/Halifax:20241230T180000
DTSTAMP:20260423T054144
CREATED:20241230T232055Z
LAST-MODIFIED:20241230T232055Z
UID:1953-1735552800-1735581600@saugertiestourism.com
SUMMARY:Hudson Valley Garlic Festival
DESCRIPTION:FMI: hvgf.org
URL:https://saugertiestourism.com/event/hudson-valley-garlic-festival-5/
LOCATION:Cantine Veterans Memorial Field
END:VEVENT
BEGIN:VEVENT
DTSTART;TZID=America/Halifax:20241212T170000
DTEND;TZID=America/Halifax:20241212T210000
DTSTAMP:20260423T054144
CREATED:20241119T192202Z
LAST-MODIFIED:20241119T192202Z
UID:1916-1734022800-1734037200@saugertiestourism.com
SUMMARY:A Taste of Italy
DESCRIPTION:fortune Valley Manor\nSip & Shop\, Live music by Phillip Palladino
URL:https://saugertiestourism.com/event/a-taste-of-italy/
LOCATION:Fortune Valley Manor\, 248 Old Stage Road\, Saugerties\, 12477\, United States
END:VEVENT
BEGIN:VEVENT
DTSTART;TZID=America/Halifax:20241209T120000
DTEND;TZID=America/Halifax:20241209T150000
DTSTAMP:20260423T054144
CREATED:20241204T164019Z
LAST-MODIFIED:20241204T164019Z
UID:1934-1733745600-1733756400@saugertiestourism.com
SUMMARY:Christmas at the Dutch Barn at Kiersted house
DESCRIPTION:Located behind the Saugerties Historical Society\, 119 Main St.\nSanta will be there\, Hope Farm with live animals\, free hot chocolate & cookies
URL:https://saugertiestourism.com/event/christmas-at-the-dutch-barn-at-kiersted-house/
LOCATION:Saugerties Historical Society\, 119 Main Street\, Saugerties\, NY\, 12477\, United States
END:VEVENT
BEGIN:VEVENT
DTSTART;TZID=America/Halifax:20241208T120000
DTEND;TZID=America/Halifax:20241208T170000
DTSTAMP:20260423T054144
CREATED:20241119T190513Z
LAST-MODIFIED:20241119T190513Z
UID:1907-1733659200-1733677200@saugertiestourism.com
SUMMARY:Holiday in the Village
DESCRIPTION:Santa at the Saugerties Historical Society\nChristmas market and crafts at Saugerties Boys & Girls Club\nSpecial events throughout the Village of Saugerties\nTree lighting at Seamon’s Park\nFree
URL:https://saugertiestourism.com/event/holiday-in-the-village-3/
END:VEVENT
BEGIN:VEVENT
DTSTART;TZID=America/Halifax:20241208T110000
DTEND;TZID=America/Halifax:20241208T180000
DTSTAMP:20260423T054144
CREATED:20241204T163609Z
LAST-MODIFIED:20241204T163609Z
UID:1931-1733655600-1733680800@saugertiestourism.com
SUMMARY:Holiday in the Village\, Newberry Artisan Market
DESCRIPTION:Join us for Holiday in the Village of Saugerties!\nCheck out our 37 incredible vendors\nFrom 12-5pm\, Caribbean Soul Food by Royalty Enterprises & Hudson Valley Spirits by Cooper’s Daughter
URL:https://saugertiestourism.com/event/holiday-in-the-village-newberry-artisan-market/
LOCATION:Newberry Artisan  Market\, 236 Main Street\, Saugerties\, 12477\, United States
END:VEVENT
BEGIN:VEVENT
DTSTART;TZID=America/Halifax:20241208T080000
DTEND;TZID=America/Halifax:20241208T110000
DTSTAMP:20260423T054144
CREATED:20241119T191002Z
LAST-MODIFIED:20241119T191002Z
UID:1909-1733644800-1733655600@saugertiestourism.com
SUMMARY:Christmas Breakfast Buffet
DESCRIPTION:VFW Post\nBreakfast with Santa\nage 12 & up-$12\n7-11 years of age-$10\nEat in or take out\nProceeds go to support Veterans and Community programs
URL:https://saugertiestourism.com/event/christmas-breakfast-buffet/
END:VEVENT
BEGIN:VEVENT
DTSTART;TZID=America/Halifax:20241207T140000
DTEND;TZID=America/Halifax:20241207T150000
DTSTAMP:20260423T054144
CREATED:20241204T162705Z
LAST-MODIFIED:20241204T162705Z
UID:1929-1733580000-1733583600@saugertiestourism.com
SUMMARY:Saugerties Poem Reading\, Will Nixon
DESCRIPTION:If not in Heaven\, Then in Saugerties\, a town portrait in poems inspired by the stores\,\nbars\, galleries\, restaurants\, parks and people that make Saugerties special.\nMore than a dozen shop owners and others will read “their” poems.\nEvent is in collaboration with Jane Street Art center and the Sketchbook Gallery\nas part of welcome Home\, a group exhibition thematically about nuances of home.\nThis event will take place in Jane St. Art Center
URL:https://saugertiestourism.com/event/saugerties-poem-reading-will-nixon/
LOCATION:Jane Street Art Center\, 11 Jane Street\, Saugerties\, NY\, 12477\, United States
END:VEVENT
BEGIN:VEVENT
DTSTART;TZID=America/Halifax:20241123T180000
DTEND;TZID=America/Halifax:20241123T210000
DTSTAMP:20260423T054144
CREATED:20241119T191324Z
LAST-MODIFIED:20241119T191324Z
UID:1911-1732384800-1732395600@saugertiestourism.com
SUMMARY:Tramps Like Us benefit by Sawyer Motors
DESCRIPTION:The Springsteen Tribute\nSaugerties high school auditorium\n$30 per ticket available at Sawyer Motors\ndoors open at 6pm
URL:https://saugertiestourism.com/event/tramps-like-us-benefit-by-sawyer-motors/
LOCATION:Saugerties High School
END:VEVENT
BEGIN:VEVENT
DTSTART;TZID=America/Halifax:20241123T100000
DTEND;TZID=America/Halifax:20241123T140000
DTSTAMP:20260423T054144
CREATED:20241119T191714Z
LAST-MODIFIED:20241119T191714Z
UID:1913-1732356000-1732370400@saugertiestourism.com
SUMMARY:Saugerties Thanksgiving Farmers Market
DESCRIPTION:Get ready for Thanksgiving
URL:https://saugertiestourism.com/event/saugerties-thanksgiving-farmers-market/
LOCATION:Saugerties Senior Center\, 207 Market St\, Saugerties\, NY\, 12477\, United States
END:VEVENT
BEGIN:VEVENT
DTSTART;TZID=America/Halifax:20241109T160000
DTEND;TZID=America/Halifax:20241109T190000
DTSTAMP:20260423T054144
CREATED:20240429T134805Z
LAST-MODIFIED:20241022T143550Z
UID:1807-1731168000-1731178800@saugertiestourism.com
SUMMARY:Welcome Home\, Opening Reception
DESCRIPTION:Jane Street Art Center\, Opening exhibit November 9\, 2024\nThursdays 12-5 pm\, Friday & Saturdays 12-6 pm\, Sunday 12-5 pm\nExhibit until December 14\, 2024
URL:https://saugertiestourism.com/event/jennifer-hicks-art-exhibit/
LOCATION:Jane Street Art Center\, 11 Jane Street\, Saugerties\, NY\, 12477\, United States
END:VEVENT
BEGIN:VEVENT
DTSTART;TZID=America/Halifax:20241026T120000
DTEND;TZID=America/Halifax:20241026T150000
DTSTAMP:20260423T054144
CREATED:20241016T203437Z
LAST-MODIFIED:20241016T203558Z
UID:1900-1729944000-1729954800@saugertiestourism.com
SUMMARY:Touch-a-Truck & Trick-or-Treating!
DESCRIPTION:Saturday\, October 26\, 2024 \nCantine Field \nVehicles of all types! \n12pm – 3pm \n$5 per person\, under 2 years old gets in Free! \nTo benefit building a Saugerties Splash Pad
URL:https://saugertiestourism.com/event/touch-a-truck-trick-or-treating/
LOCATION:Cantine Veterans Memorial Field
END:VEVENT
BEGIN:VEVENT
DTSTART;TZID=America/Halifax:20241026T100000
DTEND;TZID=America/Halifax:20241026T140000
DTSTAMP:20260423T054144
CREATED:20241015T002348Z
LAST-MODIFIED:20241015T002348Z
UID:1896-1729936800-1729951200@saugertiestourism.com
SUMMARY:Halloween at the Saugerties Farmers Market
DESCRIPTION:Tricks & Treats happen on Saturday\, October 26th\nCostume Contest: 11:30 am; Prizes @ Noon
URL:https://saugertiestourism.com/event/halloween-at-the-saugerties-farmers-market/
LOCATION:Saugerties Farmers Market\, 115 Main Street\, Saugerties\, 12477\, United States
END:VEVENT
BEGIN:VEVENT
DTSTART;TZID=America/Halifax:20240929T100000
DTEND;TZID=America/Halifax:20240929T180000
DTSTAMP:20260423T054144
CREATED:20240102T213544Z
LAST-MODIFIED:20240102T213544Z
UID:1626-1727604000-1727632800@saugertiestourism.com
SUMMARY:Hudson Valley Garlic Festival
DESCRIPTION:Two day festival sponsored by the Saugerties Kiwanis\nSaturday\, September 28\, 10am-6pm\nSunday\, September 29\, 10 am-5pm
URL:https://saugertiestourism.com/event/hudson-valley-garlic-festival-4/
LOCATION:454 Washington Ave. Extension\, Saugerties NY 12477\, 25 South Partition Street\, Saugerties\, NY\, 12477\, United States
ORGANIZER;CN="Saugerties Kiwanis":MAILTO:info@hvgf@gmail.com
END:VEVENT
BEGIN:VEVENT
DTSTART;TZID=America/Halifax:20240922T150000
DTEND;TZID=America/Halifax:20240922T170000
DTSTAMP:20260423T054144
CREATED:20240625T185137Z
LAST-MODIFIED:20240625T185137Z
UID:1879-1727017200-1727024400@saugertiestourism.com
SUMMARY:Saugerties Community Band
DESCRIPTION:Live music in the Dutch Barn at Kiersted house\nFree to public\, donations accepted
URL:https://saugertiestourism.com/event/saugerties-community-band-3/
LOCATION:119 Main St\, 119 Main St\, Saugerties\, NY\, 12477\, United States
END:VEVENT
BEGIN:VEVENT
DTSTART;TZID=America/Halifax:20240921T160000
DTEND;TZID=America/Halifax:20240921T190000
DTSTAMP:20260423T054144
CREATED:20240429T134329Z
LAST-MODIFIED:20240429T134329Z
UID:1805-1726934400-1726945200@saugertiestourism.com
SUMMARY:Ramona Jenkin\, Art Exhibit
DESCRIPTION:Jane Street Art Center\, Sept 21-)October 26\nOpening reception-Sept 21\, 4-7 pm\nthursdays 12-5\, Friday & Saturdays 12-6\, Sundays 12-5
URL:https://saugertiestourism.com/event/ramona-jenkin-art-exhibit/
LOCATION:Jane Street Art Center\, 11 Jane Street\, Saugerties\, NY\, 12477\, United States
END:VEVENT
BEGIN:VEVENT
DTSTART;TZID=America/Halifax:20240915T150000
DTEND;TZID=America/Halifax:20240915T180000
DTSTAMP:20260423T054144
CREATED:20240625T183245Z
LAST-MODIFIED:20240625T183245Z
UID:1872-1726412400-1726423200@saugertiestourism.com
SUMMARY:Gala & Auction of Groovin around Saugerties
DESCRIPTION:Live auction of Chamber of Commerce Street art.\nticket information available at DiscoverSaugerties.com\n$35 in advance\, $40 at door\n37 artists painted “hippie buses”\nLive fare\, wine\, beer and soft drinks provided
URL:https://saugertiestourism.com/event/gala-auction-of-groovin-around-saugerties/
LOCATION:Saugerties Performing Arts Factory\, 169 Ulster Avenue\, Saugerties\, 12477\, United States
END:VEVENT
BEGIN:VEVENT
DTSTART;VALUE=DATE:20240907
DTEND;VALUE=DATE:20240908
DTSTAMP:20260423T054144
CREATED:20240411T001923Z
LAST-MODIFIED:20240411T002538Z
UID:1780-1725667200-1725753599@saugertiestourism.com
SUMMARY:Saugerties Vintage Baseball\, Pidgeon Pennant
DESCRIPTION:
URL:https://saugertiestourism.com/event/saugerties-vintage-baseball-pidgeon-pennant/
LOCATION:Glasco Fireman’s Field
END:VEVENT
BEGIN:VEVENT
DTSTART;TZID=America/Halifax:20240906T183000
DTEND;TZID=America/Halifax:20240906T200000
DTSTAMP:20260423T054144
CREATED:20240413T121824Z
LAST-MODIFIED:20240413T121824Z
UID:1789-1725647400-1725652800@saugertiestourism.com
SUMMARY:Sunset Concerts
DESCRIPTION:Sponsored by the Saugerties Chamber of Commerce\nBring your lawn chair or blanket and enjoy free concerts
URL:https://saugertiestourism.com/event/sunset-concerts-4-2/
LOCATION:TBD
END:VEVENT
BEGIN:VEVENT
DTSTART;VALUE=DATE:20240829
DTEND;VALUE=DATE:20240905
DTSTAMP:20260423T054144
CREATED:20240516T004101Z
LAST-MODIFIED:20240516T004101Z
UID:1834-1724889600-1725494399@saugertiestourism.com
SUMMARY:Woodstock Museum Film Festival
DESCRIPTION:FMI: WoodstockMuseum.org\nAugust 29- September 4\nIndoor/Outdoor screenings
URL:https://saugertiestourism.com/event/woodstock-museum-film-festival/
LOCATION:Woodstock Museum\, 13 Charles Bach Road\, Saugerties\, 12477\, United States
END:VEVENT
BEGIN:VEVENT
DTSTART;TZID=America/Halifax:20240825T150000
DTEND;TZID=America/Halifax:20240825T170000
DTSTAMP:20260423T054144
CREATED:20240625T184402Z
LAST-MODIFIED:20240625T184402Z
UID:1877-1724598000-1724605200@saugertiestourism.com
SUMMARY:Saugerties Community Band
DESCRIPTION:Live music in the Dutch Barn at Kiersted house\nLocated at 119 Main Street\nFree to public\, donations accepted
URL:https://saugertiestourism.com/event/saugerties-community-band-2/
LOCATION:119 Main St\, 119 Main St\, Saugerties\, NY\, 12477\, United States
END:VEVENT
BEGIN:VEVENT
DTSTART;VALUE=DATE:20240824
DTEND;VALUE=DATE:20240826
DTSTAMP:20260423T054144
CREATED:20240516T004714Z
LAST-MODIFIED:20240516T004714Z
UID:1837-1724457600-1724630399@saugertiestourism.com
SUMMARY:Hope Rocks Festival
DESCRIPTION:Cantine Field\, FMI-HopeRocksNY.com
URL:https://saugertiestourism.com/event/hope-rocks-festival-3/
LOCATION:Cantine field\, Saugerties\, 12477\, United States
ORGANIZER;CN="www.hoperocksny.com":MAILTO:info@hoperocksny.com
END:VEVENT
BEGIN:VEVENT
DTSTART;TZID=America/Halifax:20240823T180000
DTEND;TZID=America/Halifax:20240824T200000
DTSTAMP:20260423T054144
CREATED:20240410T231927Z
LAST-MODIFIED:20240410T231927Z
UID:1762-1724436000-1724529600@saugertiestourism.com
SUMMARY:Esopus Creek Puppet Suite
DESCRIPTION:
URL:https://saugertiestourism.com/event/esopus-creek-puppet-suite/
LOCATION:Tina Chorvas Park
END:VEVENT
END:VCALENDAR