BEGIN:VCALENDAR
VERSION:2.0
PRODID:-//Saugerties Tourism - ECPv6.15.20//NONSGML v1.0//EN
CALSCALE:GREGORIAN
METHOD:PUBLISH
X-WR-CALNAME:Saugerties Tourism
X-ORIGINAL-URL:https://saugertiestourism.com
X-WR-CALDESC:Events for Saugerties Tourism
REFRESH-INTERVAL;VALUE=DURATION:PT1H
X-Robots-Tag:noindex
X-PUBLISHED-TTL:PT1H
BEGIN:VTIMEZONE
TZID:America/Halifax
BEGIN:DAYLIGHT
TZOFFSETFROM:-0400
TZOFFSETTO:-0300
TZNAME:ADT
DTSTART:20240310T060000
END:DAYLIGHT
BEGIN:STANDARD
TZOFFSETFROM:-0300
TZOFFSETTO:-0400
TZNAME:AST
DTSTART:20241103T050000
END:STANDARD
BEGIN:DAYLIGHT
TZOFFSETFROM:-0400
TZOFFSETTO:-0300
TZNAME:ADT
DTSTART:20250309T060000
END:DAYLIGHT
BEGIN:STANDARD
TZOFFSETFROM:-0300
TZOFFSETTO:-0400
TZNAME:AST
DTSTART:20251102T050000
END:STANDARD
BEGIN:DAYLIGHT
TZOFFSETFROM:-0400
TZOFFSETTO:-0300
TZNAME:ADT
DTSTART:20260308T060000
END:DAYLIGHT
BEGIN:STANDARD
TZOFFSETFROM:-0300
TZOFFSETTO:-0400
TZNAME:AST
DTSTART:20261101T050000
END:STANDARD
END:VTIMEZONE
BEGIN:VEVENT
DTSTART;TZID=America/Halifax:20250716T180000
DTEND;TZID=America/Halifax:20250716T203000
DTSTAMP:20260423T071612
CREATED:20250407T004825Z
LAST-MODIFIED:20250407T004825Z
UID:2041-1752688800-1752697800@saugertiestourism.com
SUMMARY:Waterfront Wednesdays @Tidewater Center
DESCRIPTION:Weekly series featuring live performances\, hands on art projects and workshops\n$10.00 suggested donation
URL:https://saugertiestourism.com/event/waterfront-wednesdays-tidewater-center/
LOCATION:Tidewater Center\, 61 East Bridge St\, Saugerties\, 12477\, United States
END:VEVENT
BEGIN:VEVENT
DTSTART;TZID=America/Halifax:20250713T130000
DTEND;TZID=America/Halifax:20250713T180000
DTSTAMP:20260423T071612
CREATED:20250205T214458Z
LAST-MODIFIED:20250205T214458Z
UID:2002-1752411600-1752429600@saugertiestourism.com
SUMMARY:Sawyer Car Show
DESCRIPTION:Four live bands\, cars located on Main & Partition Street\nOne of the largest Car show in the Northeast.
URL:https://saugertiestourism.com/event/sawyer-car-show-4/
LOCATION:Main & Partition Street\, Saugerties\, United States
END:VEVENT
BEGIN:VEVENT
DTSTART;TZID=America/Halifax:20250713T130000
DTEND;TZID=America/Halifax:20250713T160000
DTSTAMP:20260423T071612
CREATED:20241230T233754Z
LAST-MODIFIED:20241230T233754Z
UID:1963-1752411600-1752422400@saugertiestourism.com
SUMMARY:Art in the Barn
DESCRIPTION:Saugerties Artist Studio Tour/Gallery hours
URL:https://saugertiestourism.com/event/art-in-the-barn-3/
LOCATION:The Dutch Barn at Kiersted House\, 119 Main Street\, Saugerties\, NY\, 12477
ORGANIZER;CN="Saugerties Artist Studio Artist Tour":MAILTO:saugertiesarttour@gmail.com
END:VEVENT
BEGIN:VEVENT
DTSTART;TZID=America/Halifax:20250712T200000
DTEND;TZID=America/Halifax:20250712T220000
DTSTAMP:20260423T071612
CREATED:20250423T195025Z
LAST-MODIFIED:20250423T195025Z
UID:2065-1752350400-1752357600@saugertiestourism.com
SUMMARY:Upstate Raggae: Jimmy Cliff Birthday Celebration
DESCRIPTION:Award winning reggae band featuring Trinidadian steel pan player Sista Dee and four time Grammy nominated ex Black Uhuru\nand Sugar Minot drummer Rangotan celebrate Cliff’s birthday and the 49th anniv of his anniversary of his historic performance\nat Opus 40.\nCost $30 in advance\, $35 at door
URL:https://saugertiestourism.com/event/upstate-raggae-jimmy-cliff-birthday-celebration/
LOCATION:Opus 40\, 40 Fite Road\, Saugerties\, NY\, 12477\, United States
END:VEVENT
BEGIN:VEVENT
DTSTART;TZID=America/Halifax:20250712T130000
DTEND;TZID=America/Halifax:20250712T160000
DTSTAMP:20260423T071612
CREATED:20250626T144135Z
LAST-MODIFIED:20250626T144135Z
UID:2089-1752325200-1752336000@saugertiestourism.com
SUMMARY:Annual Sawyer Car Show Kick Off
DESCRIPTION:11th Annual Car Show Kick Off sponsored by the Reis group\non the corner of Main & Market Street\nfeaturing the band Lark\nFrozen treats\, hot dogs and Dallas sauce\nto benefit-The Sawyer Foundation
URL:https://saugertiestourism.com/event/annual-sawyer-car-show-kick-off/
LOCATION:Reis Parking lot\, Corner Main and Market St
END:VEVENT
BEGIN:VEVENT
DTSTART;TZID=America/Halifax:20250712T110000
DTEND;TZID=America/Halifax:20250712T170000
DTSTAMP:20260423T071612
CREATED:20241230T233459Z
LAST-MODIFIED:20241230T233459Z
UID:1961-1752318000-1752339600@saugertiestourism.com
SUMMARY:Art in the Barn
DESCRIPTION:Saugerties Artist Studio Tour/ Gallery hours
URL:https://saugertiestourism.com/event/art-in-the-barn-2/
LOCATION:The Dutch Barn at Kiersted House\, 119 Main Street\, Saugerties\, NY\, 12477
END:VEVENT
BEGIN:VEVENT
DTSTART;TZID=America/Halifax:20250711T170000
DTEND;TZID=America/Halifax:20250711T190000
DTSTAMP:20260423T071612
CREATED:20241230T233222Z
LAST-MODIFIED:20241230T233222Z
UID:1959-1752253200-1752260400@saugertiestourism.com
SUMMARY:Art in the Barn
DESCRIPTION:Artists belonging to the Saugerties Artist Studio Tour come together\nin a joint show in the Dutch Barn at Kiersted house.\nOpening show
URL:https://saugertiestourism.com/event/art-in-the-barn/
LOCATION:The Dutch Barn at Kiersted House\, 119 Main Street\, Saugerties\, NY\, 12477
END:VEVENT
BEGIN:VEVENT
DTSTART;TZID=America/Halifax:20250706T080000
DTEND;TZID=America/Halifax:20250706T170000
DTSTAMP:20260423T071612
CREATED:20250423T194016Z
LAST-MODIFIED:20250423T194016Z
UID:2063-1751788800-1751821200@saugertiestourism.com
SUMMARY:Orchestra Tout Puissant Marcel Duchamp at Opus 40
DESCRIPTION:Folk\, krautrock\, post-punk and African rhythms.\nOTPMD is a 12 piece post-punk avant garde folk-estra that takes you on a captivating groove journey.\nCost $30 in advance\, $35 at door
URL:https://saugertiestourism.com/event/orchestra-tout-puissant-marcel-duchamp-at-opus-40/
LOCATION:Opus 40\, 40 Fite Road\, Saugerties\, NY\, 12477\, United States
END:VEVENT
BEGIN:VEVENT
DTSTART;TZID=America/Halifax:20250704T153000
DTEND;TZID=America/Halifax:20250704T170000
DTSTAMP:20260423T071612
CREATED:20250626T174811Z
LAST-MODIFIED:20250626T174811Z
UID:2099-1751643000-1751648400@saugertiestourism.com
SUMMARY:Saugerties Chamber Sunset Concert
DESCRIPTION:Free public concerts\, located at Tina Chorvas park\nMusicians Allie Chip\, Tyler Dezago
URL:https://saugertiestourism.com/event/saugerties-chamber-sunset-concert/
LOCATION:Tina Chorvas Park
END:VEVENT
BEGIN:VEVENT
DTSTART;TZID=America/Halifax:20250704T110000
DTEND;TZID=America/Halifax:20250704T110000
DTSTAMP:20260423T071612
CREATED:20241231T001059Z
LAST-MODIFIED:20241231T001059Z
UID:1982-1751626800-1751626800@saugertiestourism.com
SUMMARY:July 4th parade
DESCRIPTION:Organized by the Village of Saugerties Fire Department\nLine-up at 10 am\, step-off at 11 am
URL:https://saugertiestourism.com/event/july-4th-parade-2/
LOCATION:Village of Saugerties
END:VEVENT
BEGIN:VEVENT
DTSTART;TZID=America/Halifax:20250629T110000
DTEND;TZID=America/Halifax:20250629T123000
DTSTAMP:20260423T071612
CREATED:20250423T211739Z
LAST-MODIFIED:20250423T211739Z
UID:2081-1751194800-1751200200@saugertiestourism.com
SUMMARY:Geology Walk with Robert Titus
DESCRIPTION:Guided Walking Tour\, $30
URL:https://saugertiestourism.com/event/geology-walk-with-robert-titus/
LOCATION:Opus 40\, 40 Fite Road\, Saugerties\, NY\, 12477\, United States
END:VEVENT
BEGIN:VEVENT
DTSTART;TZID=America/Halifax:20250628T150000
DTEND;TZID=America/Halifax:20250628T200000
DTSTAMP:20260423T071612
CREATED:20250626T173540Z
LAST-MODIFIED:20250626T173540Z
UID:2093-1751122800-1751140800@saugertiestourism.com
SUMMARY:Opus 40 Family Pride Day
DESCRIPTION:Open mic\, Drum & Dance\, Food Trucks\, Kite making\nKey of Q at 5pm\n$10 admission\, children free
URL:https://saugertiestourism.com/event/opus-40-family-pride-day/
LOCATION:Opus 40\, 40 Fite Road\, Saugerties\, NY\, 12477\, United States
END:VEVENT
BEGIN:VEVENT
DTSTART;TZID=America/Halifax:20250628T110000
DTEND;TZID=America/Halifax:20250628T140000
DTSTAMP:20260423T071612
CREATED:20250626T144441Z
LAST-MODIFIED:20250626T144441Z
UID:2091-1751108400-1751119200@saugertiestourism.com
SUMMARY:Free Ice Cream Sundaes to Celebrate July 4th holiday
DESCRIPTION:Free sundaes served on the front lawn of historic Kiersted house\nSponsored by Saugerties Historical Society\, Saugerties Farmers Market & Stewarts who provided the ice cream!
URL:https://saugertiestourism.com/event/free-ice-cream-sundaes-to-celebrate-july-4th-holiday/
LOCATION:119 Main St\, 119 Main St\, Saugerties\, NY\, 12477\, United States
END:VEVENT
BEGIN:VEVENT
DTSTART;TZID=America/Halifax:20250628T100000
DTEND;TZID=America/Halifax:20250628T140000
DTSTAMP:20260423T071612
CREATED:20250626T174338Z
LAST-MODIFIED:20250626T174338Z
UID:2097-1751104800-1751119200@saugertiestourism.com
SUMMARY:Saugerties Farmers Market
DESCRIPTION:local farmers\, craftspeople
URL:https://saugertiestourism.com/event/saugerties-farmers-market-18/
LOCATION:115 Main Street
END:VEVENT
BEGIN:VEVENT
DTSTART;TZID=America/Halifax:20250622T110000
DTEND;TZID=America/Halifax:20250622T130000
DTSTAMP:20260423T071612
CREATED:20250423T211106Z
LAST-MODIFIED:20250423T211106Z
UID:2079-1750590000-1750597200@saugertiestourism.com
SUMMARY:Mushroom Walk with Chris Baker
DESCRIPTION:Guided walking tour-cost $30
URL:https://saugertiestourism.com/event/mushroom-walk-with-chris-baker/
LOCATION:Opus 40\, 40 Fite Road\, Saugerties\, NY\, 12477\, United States
END:VEVENT
BEGIN:VEVENT
DTSTART;TZID=America/Halifax:20250615T100000
DTEND;TZID=America/Halifax:20250721T170000
DTSTAMP:20260423T071612
CREATED:20250626T174108Z
LAST-MODIFIED:20250626T174108Z
UID:2095-1749981600-1753117200@saugertiestourism.com
SUMMARY:Opus 40 Forest Bathing
DESCRIPTION:A group art show about nature
URL:https://saugertiestourism.com/event/opus-40-forest-bathing/
LOCATION:Opus 40\, 40 Fite Road\, Saugerties\, NY\, 12477\, United States
END:VEVENT
BEGIN:VEVENT
DTSTART;TZID=America/Halifax:20250612T190000
DTEND;TZID=America/Halifax:20250612T210000
DTSTAMP:20260423T071612
CREATED:20250306T173814Z
LAST-MODIFIED:20250306T173814Z
UID:2036-1749754800-1749762000@saugertiestourism.com
SUMMARY:Saugerties Stallions
DESCRIPTION:Tickets-Adult-$5.00\, seniors/students-$3.00\, Under 12-free
URL:https://saugertiestourism.com/event/saugerties-stallions-20/
LOCATION:Cantine field\, Washington Ave\, Saugerties\, 12477\, United States
END:VEVENT
BEGIN:VEVENT
DTSTART;TZID=America/Halifax:20250611T190000
DTEND;TZID=America/Halifax:20250611T210000
DTSTAMP:20260423T071612
CREATED:20250306T173454Z
LAST-MODIFIED:20250306T173454Z
UID:2034-1749668400-1749675600@saugertiestourism.com
SUMMARY:Saugerties Stallions
DESCRIPTION:Tickets-Adult-$5.00\, Seniors/students-$3.00\, Under 12-free
URL:https://saugertiestourism.com/event/saugerties-stallions-19/
LOCATION:Cantine field\, Washington Ave\, Saugerties\, 12477\, United States
END:VEVENT
BEGIN:VEVENT
DTSTART;TZID=America/Halifax:20250609T000000
DTEND;TZID=America/Halifax:20250609T000000
DTSTAMP:20260423T071612
CREATED:20250306T173210Z
LAST-MODIFIED:20250306T173210Z
UID:2032-1749427200-1749427200@saugertiestourism.com
SUMMARY:Saugerties Stallions
DESCRIPTION:Tickets\, Adults-$5.00\, students/seniors-$3.00\, Under 12-free
URL:https://saugertiestourism.com/event/saugerties-stallions-18/
LOCATION:Cantine field\, Washington Ave\, Saugerties\, 12477\, United States
END:VEVENT
BEGIN:VEVENT
DTSTART;TZID=America/Halifax:20250607T200000
DTEND;TZID=America/Halifax:20250607T220000
DTSTAMP:20260423T071612
CREATED:20250423T192802Z
LAST-MODIFIED:20250423T192802Z
UID:2061-1749326400-1749333600@saugertiestourism.com
SUMMARY:Silent Disco at Opus 40
DESCRIPTION:Rain date June 8\nSilent Disco is an immersive dance party like no other with 2 live DJ’s\nCost $30-early bird\, $35 at door
URL:https://saugertiestourism.com/event/silent-disco-at-opus-40/
LOCATION:Opus 40\, 50 Fite Road\, Saugerties\, 12477\, United States
END:VEVENT
BEGIN:VEVENT
DTSTART;TZID=America/Halifax:20250606T150000
DTEND;TZID=America/Halifax:20250606T170000
DTSTAMP:20260423T071612
CREATED:20250205T213532Z
LAST-MODIFIED:20250205T213532Z
UID:1997-1749222000-1749229200@saugertiestourism.com
SUMMARY:Sunset Concert
DESCRIPTION:free music sponsored by Saugerties Chamber of Commerce\nLocation-TBA
URL:https://saugertiestourism.com/event/sunset-concert-4/
LOCATION:NY
END:VEVENT
BEGIN:VEVENT
DTSTART;TZID=America/Halifax:20250604T190000
DTEND;TZID=America/Halifax:20250604T210000
DTSTAMP:20260423T071612
CREATED:20250306T164905Z
LAST-MODIFIED:20250306T164905Z
UID:2026-1749063600-1749070800@saugertiestourism.com
SUMMARY:Saugerties Stallions
DESCRIPTION:Tickets-Adults-$5.00\, Students/seniors-$3.00\, Under 12-free
URL:https://saugertiestourism.com/event/saugerties-stallions-15/
LOCATION:Cantine field\, Washington Ave\, Saugerties\, 12477\, United States
END:VEVENT
BEGIN:VEVENT
DTSTART;TZID=America/Halifax:20250603T000000
DTEND;TZID=America/Halifax:20250603T000000
DTSTAMP:20260423T071612
CREATED:20250306T164635Z
LAST-MODIFIED:20250306T164635Z
UID:2024-1748908800-1748908800@saugertiestourism.com
SUMMARY:Saugerties stallions
DESCRIPTION:Tickets\, adult-$5.00\, Students/Seniors-$3.00\, Under 12-free
URL:https://saugertiestourism.com/event/saugerties-stallions-14/
LOCATION:Cantine field\, Washington Ave\, Saugerties\, 12477\, United States
END:VEVENT
BEGIN:VEVENT
DTSTART;TZID=America/Halifax:20250601T190000
DTEND;TZID=America/Halifax:20250601T210000
DTSTAMP:20260423T071612
CREATED:20250306T164238Z
LAST-MODIFIED:20250306T164238Z
UID:2022-1748804400-1748811600@saugertiestourism.com
SUMMARY:Saugerties Stallions
DESCRIPTION:Tickets- Adults-$5.00. Students/Seniors-$3.00- Under 12 free
URL:https://saugertiestourism.com/event/saugerties-stallions-13/
LOCATION:Cantine field\, Washington Ave\, Saugerties\, 12477\, United States
END:VEVENT
BEGIN:VEVENT
DTSTART;TZID=America/Halifax:20250531T184500
DTEND;TZID=America/Halifax:20250531T200000
DTSTAMP:20260423T071612
CREATED:20250306T163529Z
LAST-MODIFIED:20250306T163529Z
UID:2020-1748717100-1748721600@saugertiestourism.com
SUMMARY:Saugerties Stallions
DESCRIPTION:Tickets-Adults-$5.00\,Students/Seniors-$3.00
URL:https://saugertiestourism.com/event/saugerties-stallions-12/
LOCATION:Cantine field\, Washington Ave\, Saugerties\, 12477\, United States
END:VEVENT
BEGIN:VEVENT
DTSTART;TZID=America/Halifax:20250530T190000
DTEND;TZID=America/Halifax:20250530T210000
DTSTAMP:20260423T071612
CREATED:20250306T161927Z
LAST-MODIFIED:20250306T161927Z
UID:2018-1748631600-1748638800@saugertiestourism.com
SUMMARY:Saugerties Stallions
DESCRIPTION:Saugerties collegiate team
URL:https://saugertiestourism.com/event/saugerties-stallions-11/
LOCATION:Cantine Feild\, Pavilion Street\, Saugerties\, NY\, 12477\, United States
END:VEVENT
BEGIN:VEVENT
DTSTART;TZID=America/Halifax:20250525T110000
DTEND;TZID=America/Halifax:20250525T130000
DTSTAMP:20260423T071612
CREATED:20250423T210741Z
LAST-MODIFIED:20250423T210741Z
UID:2077-1748170800-1748178000@saugertiestourism.com
SUMMARY:Foraging Walk with Dina Falconi
DESCRIPTION:Guided walking series\ncost $30
URL:https://saugertiestourism.com/event/foraging-walk-with-dina-falconi/
LOCATION:Opus 40\, 50 Fite Road\, Saugerties\, 12477\, United States
END:VEVENT
BEGIN:VEVENT
DTSTART;TZID=America/Halifax:20250524T190000
DTEND;TZID=America/Halifax:20250524T220000
DTSTAMP:20260423T071612
CREATED:20250423T191105Z
LAST-MODIFIED:20250423T191706Z
UID:2055-1748113200-1748124000@saugertiestourism.com
SUMMARY:Upstate Films Screening at Opus 40
DESCRIPTION:Screening of E.T. the Extra -Terrestrial\n7-10 pm $20
URL:https://saugertiestourism.com/event/catskill-shakespeare-co-at-opus-40/
LOCATION:Opus 40\, 40 Fite Road\, Saugerties\, NY\, 12477\, United States
END:VEVENT
BEGIN:VEVENT
DTSTART;TZID=America/Halifax:20250524T110000
DTEND;TZID=America/Halifax:20250524T140000
DTSTAMP:20260423T071612
CREATED:20241231T000125Z
LAST-MODIFIED:20241231T000125Z
UID:1978-1748084400-1748095200@saugertiestourism.com
SUMMARY:Saugerties Historical Society\, Opening day
DESCRIPTION:Opening day\, exhibits
URL:https://saugertiestourism.com/event/saugerties-historical-society-opening-day-3/
LOCATION:119 Main St\, 119 Main St\, Saugerties\, NY\, 12477\, United States
END:VEVENT
BEGIN:VEVENT
DTSTART;TZID=America/Halifax:20250524T100000
DTEND;TZID=America/Halifax:20250524T140000
DTSTAMP:20260423T071612
CREATED:20241231T000405Z
LAST-MODIFIED:20241231T000405Z
UID:1980-1748080800-1748095200@saugertiestourism.com
SUMMARY:Saugerties Farmers Market
DESCRIPTION:ribbon cutting\, opening day
URL:https://saugertiestourism.com/event/saugerties-farmers-market-17/
LOCATION:115 Main Street
END:VEVENT
END:VCALENDAR