BEGIN:VCALENDAR
VERSION:2.0
PRODID:-//Saugerties Tourism - ECPv6.15.20//NONSGML v1.0//EN
CALSCALE:GREGORIAN
METHOD:PUBLISH
X-WR-CALNAME:Saugerties Tourism
X-ORIGINAL-URL:https://saugertiestourism.com
X-WR-CALDESC:Events for Saugerties Tourism
REFRESH-INTERVAL;VALUE=DURATION:PT1H
X-Robots-Tag:noindex
X-PUBLISHED-TTL:PT1H
BEGIN:VTIMEZONE
TZID:America/Halifax
BEGIN:DAYLIGHT
TZOFFSETFROM:-0400
TZOFFSETTO:-0300
TZNAME:ADT
DTSTART:20220313T060000
END:DAYLIGHT
BEGIN:STANDARD
TZOFFSETFROM:-0300
TZOFFSETTO:-0400
TZNAME:AST
DTSTART:20221106T050000
END:STANDARD
BEGIN:DAYLIGHT
TZOFFSETFROM:-0400
TZOFFSETTO:-0300
TZNAME:ADT
DTSTART:20230312T060000
END:DAYLIGHT
BEGIN:STANDARD
TZOFFSETFROM:-0300
TZOFFSETTO:-0400
TZNAME:AST
DTSTART:20231105T050000
END:STANDARD
BEGIN:DAYLIGHT
TZOFFSETFROM:-0400
TZOFFSETTO:-0300
TZNAME:ADT
DTSTART:20240310T060000
END:DAYLIGHT
BEGIN:STANDARD
TZOFFSETFROM:-0300
TZOFFSETTO:-0400
TZNAME:AST
DTSTART:20241103T050000
END:STANDARD
END:VTIMEZONE
BEGIN:VEVENT
DTSTART;TZID=America/Halifax:20230602T183000
DTEND;TZID=America/Halifax:20230602T183000
DTSTAMP:20260424T123953
CREATED:20230409T150910Z
LAST-MODIFIED:20230409T150910Z
UID:1413-1685730600-1685730600@saugertiestourism.com
SUMMARY:Chamber Sunset Concert
DESCRIPTION:June 2\nChamber Sunset Concert\nTina Chorvas Park\n6:30pm\nSee DiscoverSaugerties.com for performer\nFree
URL:https://saugertiestourism.com/event/chamber-sunset-concert-4/
LOCATION:Tina Chorvas Park
END:VEVENT
BEGIN:VEVENT
DTSTART;TZID=America/Halifax:20230602T183000
DTEND;TZID=America/Halifax:20230602T183000
DTSTAMP:20260424T123953
CREATED:20230328T141609Z
LAST-MODIFIED:20230328T141609Z
UID:1392-1685730600-1685730600@saugertiestourism.com
SUMMARY:Chamber Sunset Concert
DESCRIPTION:
URL:https://saugertiestourism.com/event/chamber-sunset-concert/
LOCATION:Tina Chorvas Park
END:VEVENT
BEGIN:VEVENT
DTSTART;TZID=America/Halifax:20230602T180000
DTEND;TZID=America/Halifax:20230602T203000
DTSTAMP:20260424T123953
CREATED:20230525T165708Z
LAST-MODIFIED:20230525T165708Z
UID:1465-1685728800-1685737800@saugertiestourism.com
SUMMARY:The Ulsterados\, with line dancing led by Lauraly
DESCRIPTION:Fri June 2 @ 6:00 pm – 8:30 pm\n$10 \n5:30 Gates / 6:30 + 7:30 sets\, with group two-step and line-dancing led by Lauraly inbetween \n$10 / All Ages \nFood by Corners / Drinks by Stockade \nThe Ulsterados are Ulster County’s officially unrecognized honky-tonk band. With a combined 130+ years of touring experience between them\, the 5- or often 6-piece play classics from the golden age of country music. High harmonies\, a steady shuffle and enough twang to make it nostalgic – perfect for dancing to in all kinds of weather\, or to simply sip a wistful beer and watch the evening roll by.
URL:https://saugertiestourism.com/event/the-ulsterados-with-line-dancing-led-by-lauraly/
LOCATION:Opus 40\, 50 Fite Road\, Saugerties\, 12477\, United States
END:VEVENT
BEGIN:VEVENT
DTSTART;VALUE=DATE:20230601
DTEND;VALUE=DATE:20230602
DTSTAMP:20260424T123953
CREATED:20230305T172826Z
LAST-MODIFIED:20230305T173413Z
UID:1291-1685577600-1685663999@saugertiestourism.com
SUMMARY:Saugerties Stallions Home Game
DESCRIPTION:v Glens Falls\nAll games start at 7:05 with the exception of a 6:05 start time for the game on July 4th
URL:https://saugertiestourism.com/event/saugerties-stallions-home-game/
LOCATION:Cantine Veterans Memorial Field
END:VEVENT
BEGIN:VEVENT
DTSTART;VALUE=DATE:20230531
DTEND;VALUE=DATE:20230605
DTSTAMP:20260424T123953
CREATED:20230305T181934Z
LAST-MODIFIED:20230305T181934Z
UID:1347-1685491200-1685923199@saugertiestourism.com
SUMMARY:HITS-on-the-Hudson II - National / 5*
DESCRIPTION:SPRING SERIES\nHITS-on-the-Hudson II – National / 5* May 31 – June 4\ninfo: hitsshows.com \n  \nHITS Saugerties Series \nMay 19th – September 10th\, 2023 \n\nThe HITS Saugerties Series welcomes equestrians for nine weeks of events\, $3 million in prize money\, bi-weekly Grand Prix\, qualifiers for the HITS Championship\, USEF National-Rated Hunters\, 5* and 6* Jumpers\, and the VIP Club. The majestic Catskill Mountains provide a sweeping backdrop to this exciting series\, that has made its home at HITS-on-the-Hudson since 2004. In the fall\, the HITS Championship caps the HITS Saugerties Series with hunter and jumper finals and the HITS Saugerties Grand Prix.
URL:https://saugertiestourism.com/event/hits-on-the-hudson-ii-national-5/
LOCATION:HITS\, 454 Washington Avenue Extension\, Saugerties\, NY\, 12477\, United States
END:VEVENT
BEGIN:VEVENT
DTSTART;TZID=America/Halifax:20230527T190000
DTEND;TZID=America/Halifax:20230527T220000
DTSTAMP:20260424T123953
CREATED:20230525T165544Z
LAST-MODIFIED:20230525T165544Z
UID:1463-1685214000-1685224800@saugertiestourism.com
SUMMARY:Upstate Films at Opus: The Princess Bride w/ Mandy Patinkin & Flower Workshop
DESCRIPTION:Upstate Films at Opus: The Princess Bride w/ Mandy Patinkin & Flower Workshop\nSat May 27 @ 7:00 pm – 10:00 pm\n$9 – $11 \n6:30 Gates / 8:15 Special film intro from Mandy Patinkin / 8:30 Film *Rain Date Sun May 28th* \n6:30 Spirit Trading Co. will be hosting an hour-long hands-on flower crown making workshop\, details in the ticket check-out! \nFood on-site by Krupa’s Pierogi + First Capitol Poke\, Cocktails by Stockade Tavern \nSnacks\, sodas pop-corn and more via Upstate Films
URL:https://saugertiestourism.com/event/upstate-films-at-opus-the-princess-bride-w-mandy-patinkin-flower-workshop/
LOCATION:Opus 40\, 50 Fite Road\, Saugerties\, 12477\, United States
END:VEVENT
BEGIN:VEVENT
DTSTART;TZID=America/Halifax:20230527T110000
DTEND;TZID=America/Halifax:20230527T140000
DTSTAMP:20260424T123953
CREATED:20230213T014323Z
LAST-MODIFIED:20230213T014323Z
UID:1231-1685185200-1685196000@saugertiestourism.com
SUMMARY:Saugerties Historical Society Opening Day
DESCRIPTION:Saugerties Historical Society Opening Day \nMay 27\, 2023\n\nSaugerties Historical Society\n119 Main Street\nSaugerties\, NY 12477\n\nSaturdays: 11 am – 2 pm\nSundays: 1 pm – 4 pm\n\nFor More Info: 845-246-9529 or 845-246-0784
URL:https://saugertiestourism.com/event/saugerties-historical-society-opening-day-2/
LOCATION:Saugerties Historical Society\, 119 Main Street\, Saugerties\, NY\, 12477\, United States
END:VEVENT
BEGIN:VEVENT
DTSTART;TZID=America/Halifax:20230527T100000
DTEND;TZID=America/Halifax:20230529T140000
DTSTAMP:20260424T123953
CREATED:20230527T142212Z
LAST-MODIFIED:20230413T115020Z
UID:1440-1685181600-1685368800@saugertiestourism.com
SUMMARY:Saugerties Farmers Market
DESCRIPTION:Saturdays May 29-October 30 \nOpening Day\, May 27\, 2023
URL:https://saugertiestourism.com/event/saugerties-farmers-market-10/
LOCATION:Cahill School Parking Lot\, 115 Main St.\, Saugerties\, NY\, 12477\, United States
END:VEVENT
BEGIN:VEVENT
DTSTART;TZID=America/Halifax:20230527T100000
DTEND;TZID=America/Halifax:20230527T140000
DTSTAMP:20260424T123953
CREATED:20230522T113244Z
LAST-MODIFIED:20230522T114440Z
UID:1458-1685181600-1685196000@saugertiestourism.com
SUMMARY:Saugerties Farmers Market\, Opening Day
DESCRIPTION:Saugerties Farmers Market opening day sponsored by Town & Country liquors. \nCome celebrate the Market with live music\, crafts for kids and so many local farmers \nand vendors. 115 Main Street\, Saugerties
URL:https://saugertiestourism.com/event/saugerties-public-library-speaker-talk/
LOCATION:Saugerties Farmers Market\, 115 Main Street\, Saugerties\, 12477\, United States
END:VEVENT
BEGIN:VEVENT
DTSTART;VALUE=DATE:20230526
DTEND;VALUE=DATE:20230527
DTSTAMP:20260424T123953
CREATED:20230304T205453Z
LAST-MODIFIED:20230304T205552Z
UID:1251-1685059200-1685145599@saugertiestourism.com
SUMMARY:Horsin’ Around Saugerties
DESCRIPTION:‘Horsin’ Around Saugerties’ Community Street Art display starts May 26\, 2023.\n35 Artist painted horses will be on display on the Town & Village streets of Saugerties\, NY from Memorial Day weekend until Labor Day weekend
URL:https://saugertiestourism.com/event/horsin-around-saugerties/
LOCATION:NY
END:VEVENT
BEGIN:VEVENT
DTSTART;VALUE=DATE:20230524
DTEND;VALUE=DATE:20230529
DTSTAMP:20260424T123953
CREATED:20230305T181732Z
LAST-MODIFIED:20230305T181732Z
UID:1345-1684886400-1685318399@saugertiestourism.com
SUMMARY:HITS-on-the-Hudson I - National / 5*
DESCRIPTION:SPRING SERIES\nHITS-on-the-Hudson I – National / 5* May 24-28\ninfo: hitsshows.com \n  \nHITS Saugerties Series \nMay 19th – September 10th\, 2023 \n\nThe HITS Saugerties Series welcomes equestrians for nine weeks of events\, $3 million in prize money\, bi-weekly Grand Prix\, qualifiers for the HITS Championship\, USEF National-Rated Hunters\, 5* and 6* Jumpers\, and the VIP Club. The majestic Catskill Mountains provide a sweeping backdrop to this exciting series\, that has made its home at HITS-on-the-Hudson since 2004. In the fall\, the HITS Championship caps the HITS Saugerties Series with hunter and jumper finals and the HITS Saugerties Grand Prix.
URL:https://saugertiestourism.com/event/hits-on-the-hudson-i-national-5/
LOCATION:HITS\, 454 Washington Avenue Extension\, Saugerties\, NY\, 12477\, United States
END:VEVENT
BEGIN:VEVENT
DTSTART;TZID=America/Halifax:20230521T150000
DTEND;TZID=America/Halifax:20230521T170000
DTSTAMP:20260424T123953
CREATED:20230510T110628Z
LAST-MODIFIED:20230510T110628Z
UID:1449-1684681200-1684688400@saugertiestourism.com
SUMMARY:Horsin Around Saugerties\, Public Preview
DESCRIPTION:Come see all of the completed horses on display before they are installed on the street. \nLight far will be served with cash bar. \nFree to attend and open to the public
URL:https://saugertiestourism.com/event/horsin-around-saugerties-public-preview/
LOCATION:Smokin’ Pony\, 963 Kings Highway\, Saugerties\, NY\, 12477\, United States
END:VEVENT
BEGIN:VEVENT
DTSTART;VALUE=DATE:20230520
DTEND;VALUE=DATE:20230521
DTSTAMP:20260424T123953
CREATED:20230304T213103Z
LAST-MODIFIED:20230304T213103Z
UID:1264-1684540800-1684627199@saugertiestourism.com
SUMMARY:Saugerties Vintage Base Ball Club
DESCRIPTION:2023 Inaugural Season Opening Game\nFREE Admission!
URL:https://saugertiestourism.com/event/saugerties-vintage-base-ball-club/
LOCATION:Cantine Veterans Memorial Field
END:VEVENT
BEGIN:VEVENT
DTSTART;TZID=America/Halifax:20230519T180000
DTEND;TZID=America/Halifax:20230519T180000
DTSTAMP:20260424T123953
CREATED:20230213T014934Z
LAST-MODIFIED:20230213T014934Z
UID:1233-1684519200-1684519200@saugertiestourism.com
SUMMARY:Boys & Girls Club 25th Annual Gala
DESCRIPTION:Boys & Girls Club 25th Annual Gala\n\nDiamond Mills\n25 South Partition Street\nSaugerties\, NY  12477\n\nMay 19\, 2023\n\n6pm\n\nContact: Sue Worthman\, sueziw@yahoo.com
URL:https://saugertiestourism.com/event/boys-girls-club-25th-annual-gala/
LOCATION:Diamond Mills Hotel & Tavern\, 25 South Partition Street\, Saugerties\, NY\, 12477\, United States
END:VEVENT
BEGIN:VEVENT
DTSTART;VALUE=DATE:20230519
DTEND;VALUE=DATE:20230522
DTSTAMP:20260424T123953
CREATED:20230305T181454Z
LAST-MODIFIED:20230305T181454Z
UID:1343-1684454400-1684713599@saugertiestourism.com
SUMMARY:HITS Saugerties Spring Premiere Channel II
DESCRIPTION:SPRING SERIES\nSaugerties Spring Premiere Channel II May 19-21\ninfo: hitsshows.com \n  \nHITS Saugerties Series \nMay 19th – September 10th\, 2023 \n\nThe HITS Saugerties Series welcomes equestrians for nine weeks of events\, $3 million in prize money\, bi-weekly Grand Prix\, qualifiers for the HITS Championship\, USEF National-Rated Hunters\, 5* and 6* Jumpers\, and the VIP Club. The majestic Catskill Mountains provide a sweeping backdrop to this exciting series\, that has made its home at HITS-on-the-Hudson since 2004. In the fall\, the HITS Championship caps the HITS Saugerties Series with hunter and jumper finals and the HITS Saugerties Grand Prix.
URL:https://saugertiestourism.com/event/hits-saugerties-spring-premiere-channel-ii/
LOCATION:HITS\, 454 Washington Avenue Extension\, Saugerties\, NY\, 12477\, United States
END:VEVENT
BEGIN:VEVENT
DTSTART;TZID=America/Halifax:20230430T090000
DTEND;TZID=America/Halifax:20230430T090000
DTSTAMP:20260424T123953
CREATED:20230401T122225Z
LAST-MODIFIED:20230401T122225Z
UID:1410-1682845200-1682845200@saugertiestourism.com
SUMMARY:Signs of Spring Walk
DESCRIPTION:Esopus Creek Conservancy’s and John Burroughs Natural History Society’s Tree Identification Walk \nregistration required: schorvas@gmail.com\, 9 am
URL:https://saugertiestourism.com/event/signs-of-spring-walk-2/
LOCATION:Esopus Creek Conservancy\, 10 Shady Lany\, Saugerties\, 12477\, United States
END:VEVENT
BEGIN:VEVENT
DTSTART;TZID=America/Halifax:20230429T170000
DTEND;TZID=America/Halifax:20230429T183000
DTSTAMP:20260424T123953
CREATED:20230412T141125Z
LAST-MODIFIED:20230412T141125Z
UID:1437-1682787600-1682793000@saugertiestourism.com
SUMMARY:Arts & Words
DESCRIPTION:Poets and Artists Read \nSponsored by Shout Out Saugerties
URL:https://saugertiestourism.com/event/arts-words/
LOCATION:Emerge Gallery\, 228 Main Street\, Saugerties\, 12477\, United States
ORGANIZER;CN="Shout Out Saugerties":MAILTO:info@shoutoutsaugerties.org
END:VEVENT
BEGIN:VEVENT
DTSTART;TZID=America/Halifax:20230428T100000
DTEND;TZID=America/Halifax:20230428T100000
DTSTAMP:20260424T123953
CREATED:20230426T151910Z
LAST-MODIFIED:20230426T151950Z
UID:1444-1682676000-1682676000@saugertiestourism.com
SUMMARY:Arbor Day event
DESCRIPTION:Celebrate Arbor Day with the Town & Village together to plant trees in front of Village Hall
URL:https://saugertiestourism.com/event/arbor-day-event/
LOCATION:saugerties Village Hall\, 43 Partition Street\, Saugerties\, NY\, 12477\, United States
END:VEVENT
BEGIN:VEVENT
DTSTART;TZID=America/Halifax:20230423T090000
DTEND;TZID=America/Halifax:20230423T090000
DTSTAMP:20260424T123953
CREATED:20230401T121536Z
LAST-MODIFIED:20230401T121652Z
UID:1408-1682240400-1682240400@saugertiestourism.com
SUMMARY:Signs of Spring Walk
DESCRIPTION:Esopus Creek Conservancy’s and John Burroughs Natural History Society’s Tree Identification Walk \nregistration required: schorvas@gmail.com\, 9 am
URL:https://saugertiestourism.com/event/signs-of-spring-walk/
LOCATION:NY
END:VEVENT
BEGIN:VEVENT
DTSTART;TZID=America/Halifax:20230422T153000
DTEND;TZID=America/Halifax:20230422T153000
DTSTAMP:20260424T123953
CREATED:20230412T135012Z
LAST-MODIFIED:20230412T135012Z
UID:1433-1682177400-1682177400@saugertiestourism.com
SUMMARY:Find Your Voice with Pamela Pentony
DESCRIPTION:Sponsored by Shout Out Saugerties \n$125.00 register by April 17 \ntinyurl.com/2d84zk3p \n 
URL:https://saugertiestourism.com/event/find-your-voice-with-pamela-pentony/
LOCATION:Jane Street Art Center\, 11 Jane Street\, Saugerties\, NY\, 12477\, United States
ORGANIZER;CN="Shout Out Saugerties":MAILTO:info@shoutoutsaugerties.org
END:VEVENT
BEGIN:VEVENT
DTSTART;TZID=America/Halifax:20230420T180000
DTEND;TZID=America/Halifax:20230420T193000
DTSTAMP:20260424T123953
CREATED:20230412T133905Z
LAST-MODIFIED:20230412T133905Z
UID:1430-1682013600-1682019000@saugertiestourism.com
SUMMARY:Writers Read-Memoirs
DESCRIPTION:Laura Shaine Cunningham and Sari Botton \nQ & A with Teresa Girodano
URL:https://saugertiestourism.com/event/writers-read-memoirs/
LOCATION:CMM distillery\, 31 Market St\, Saugerties\, 12477\, United States
ORGANIZER;CN="Shout Out Saugerties":MAILTO:info@shoutoutsaugerties.org
END:VEVENT
BEGIN:VEVENT
DTSTART;TZID=America/Halifax:20230416T150000
DTEND;TZID=America/Halifax:20230416T170000
DTSTAMP:20260424T123953
CREATED:20230213T010019Z
LAST-MODIFIED:20230213T010019Z
UID:1210-1681657200-1681664400@saugertiestourism.com
SUMMARY:Saugerties Pro Musica - Tong & Sheppard
DESCRIPTION:Tong & Sheppard – Piano & violin duo\n\nSaugerties United Methodist Church\n67 Washington Avenue\nSaugerties\, NY 12477\n\nThis FREE concert is live\, in person at 3 p.m.\, Sunday April 16th\, 2023 at the church\, (masks and social distancing suggested.)
URL:https://saugertiestourism.com/event/saugerties-pro-musica-tong-sheppard/
LOCATION:Saugerties United Methodist Church\, 59 Post Street\, Saugerties\, 12477\, United States
END:VEVENT
BEGIN:VEVENT
DTSTART;TZID=America/Halifax:20230415T170000
DTEND;TZID=America/Halifax:20230415T193000
DTSTAMP:20260424T123953
CREATED:20230412T133338Z
LAST-MODIFIED:20230412T133338Z
UID:1427-1681578000-1681587000@saugertiestourism.com
SUMMARY:Window Poets Read
DESCRIPTION:Sponsored by Shout Out Saugerties \nPeom readings by local artists with after reading gathering and toast
URL:https://saugertiestourism.com/event/window-poets-read/
LOCATION:Olsen & Company\, 11 Jane Street\, Saugerties\, NY\, 12477\, United States
ORGANIZER;CN="Shout Out Saugerties":MAILTO:info@shoutoutsaugerties.org
END:VEVENT
BEGIN:VEVENT
DTSTART;TZID=America/Halifax:20230411T160000
DTEND;TZID=America/Halifax:20230411T183000
DTSTAMP:20260424T123953
CREATED:20230401T115830Z
LAST-MODIFIED:20230401T115913Z
UID:1401-1681228800-1681237800@saugertiestourism.com
SUMMARY:American Legion Chicken Dinner
DESCRIPTION:Support your local American Legion Post Dinner. \nChicken Thigh Dinner\, Roasted Potatoes\, $17.00 \n30 Post Street\, Saugerties\, 4-6pm. Eat in or take out. \nContact Kevin Pendergast\, Call/Text 845-706-8083\, Home 845-246-9783 \nCatered by Stone Pony
URL:https://saugertiestourism.com/event/american-legion-chicken-dinner/
LOCATION:Saugerties American Legion Post
END:VEVENT
BEGIN:VEVENT
DTSTART;TZID=America/Halifax:20230401T173000
DTEND;TZID=America/Halifax:20230401T210000
DTSTAMP:20260424T123953
CREATED:20230213T011651Z
LAST-MODIFIED:20230213T011651Z
UID:1222-1680370200-1680382800@saugertiestourism.com
SUMMARY:Saugerties Sports Hall of Fame Dinner
DESCRIPTION:Saugerties Sports Hall of Fame Dinner\n\nDiamond Mills Tavern\n25 South Partition Street\nSaugerties\, NY 12477\n\nApril 1\, 2023\n\nDoors open at 5 pm\nCeremonies at 6:30pm\n\nTickets in advance\nInfo & Tickets – email: mikehasenbalg@yahoo.com\nor call 914-388-2348
URL:https://saugertiestourism.com/event/saugerties-sports-hall-of-fame-dinner/
LOCATION:Diamond Mills Hotel & Tavern\, 25 South Partition Street\, Saugerties\, NY\, 12477\, United States
END:VEVENT
BEGIN:VEVENT
DTSTART;TZID=America/Halifax:20230401T103000
DTEND;TZID=America/Halifax:20230401T113000
DTSTAMP:20260424T123953
CREATED:20230213T011124Z
LAST-MODIFIED:20230213T011124Z
UID:1214-1680345000-1680348600@saugertiestourism.com
SUMMARY:Saugerties Lions Club Easter Egg Hunt
DESCRIPTION:Saugerties Lions Club Easter Egg Hunt\n\nApril 1\, 2023\n\nGlasco Fire House\n139 Liberty Street\nGlasco\, NY\n\n10:30-11:30 am\n\ninfo: 845-399-6915
URL:https://saugertiestourism.com/event/saugerties-lions-club-easter-egg-hunt/
LOCATION:Glasco Fire House\, 139 Liberty Street\, Glasco\, NY
END:VEVENT
BEGIN:VEVENT
DTSTART;VALUE=DATE:20230401
DTEND;VALUE=DATE:20230501
DTSTAMP:20260424T123953
CREATED:20230412T131646Z
LAST-MODIFIED:20230412T131646Z
UID:1424-1680307200-1682899199@saugertiestourism.com
SUMMARY:National Poetry Month
DESCRIPTION:Shop windows throughout the Saugerties Village that feature poems of \nHudson Valley artists. \nSponsored by Shout Out Saugerties
URL:https://saugertiestourism.com/event/national-poetry-month/
LOCATION:Village of Saugerties Saugerties\, NY 12477\, Village of Saugerties\, Saugerties\, NY\, 12477\, United States
ORGANIZER;CN="Shout Out Saugerties":MAILTO:info@shoutoutsaugerties.org
END:VEVENT
BEGIN:VEVENT
DTSTART;TZID=America/Halifax:20230319T150000
DTEND;TZID=America/Halifax:20230319T170000
DTSTAMP:20260424T123953
CREATED:20230213T005609Z
LAST-MODIFIED:20230213T005609Z
UID:1208-1679238000-1679245200@saugertiestourism.com
SUMMARY:Saugerties Pro Musica - Trio Raconteur
DESCRIPTION:Trio Raconteur – Piano\, cello and violin (featuring Yalin Chi)\n\nSaugerties United Methodist Church\n67 Washington Avenue\nSaugerties\, NY 12477\n\nThis FREE concert is live\, in person at 3 p.m.\, Sunday March 19th\, 2023 at the church\, (masks and social distancing suggested.)
URL:https://saugertiestourism.com/event/saugerties-pro-musica-trio-raconteur/
LOCATION:Saugerties United Methodist Church\, 59 Post Street\, Saugerties\, 12477\, United States
END:VEVENT
BEGIN:VEVENT
DTSTART;TZID=America/Halifax:20230311T150000
DTEND;TZID=America/Halifax:20230311T170000
DTSTAMP:20260424T123953
CREATED:20230213T010251Z
LAST-MODIFIED:20230213T010439Z
UID:1212-1678546800-1678554000@saugertiestourism.com
SUMMARY:Chili Takeout Sale - Saugerties Reformed Church
DESCRIPTION:Chili Takeout Sale – Saugerties Reformed Church\n\nSaugerties Reformed Church\n173 Main Street\nSaugerties\, NY 12477\n\n845-246-5035 (for orders)\n\nPick up time – 3-5 pm\n\n$9 a Quart\n\nrefsaug@yahoo.com
URL:https://saugertiestourism.com/event/chili-takeout-sale-saugerties-reformed-church/
LOCATION:Saugerties Reformed Church\, 173 Main St. \, Saugerties\, NY\, 12477\, United States
END:VEVENT
BEGIN:VEVENT
DTSTART;TZID=America/Halifax:20230219T150000
DTEND;TZID=America/Halifax:20230219T170000
DTSTAMP:20260424T123953
CREATED:20230213T005255Z
LAST-MODIFIED:20230213T005255Z
UID:1206-1676818800-1676826000@saugertiestourism.com
SUMMARY:Saugerties Pro Musica - Argus Quartet
DESCRIPTION:Argus Quartet ~ cello\, viola and two violins\nClara Kim\, violin\, Giancarlo Latta\, violin\, Maren Rothfritz\, viola\, and Mariel Roberts\, cello \nSaugerties United Methodist Church\n67 Washington Avenue\nSaugerties\, NY 12477\n\nThis FREE concert is live\, in person at 3 p.m.\, Sunday February 19th\, 2023 at the church\, (masks and social distancing suggested.)
URL:https://saugertiestourism.com/event/saugerties-pro-musica-argus-quartet/
LOCATION:Saugerties United Methodist Church\, 59 Post Street\, Saugerties\, 12477\, United States
END:VEVENT
END:VCALENDAR