BEGIN:VCALENDAR
VERSION:2.0
PRODID:-//Saugerties Tourism - ECPv6.15.20//NONSGML v1.0//EN
CALSCALE:GREGORIAN
METHOD:PUBLISH
X-WR-CALNAME:Saugerties Tourism
X-ORIGINAL-URL:https://saugertiestourism.com
X-WR-CALDESC:Events for Saugerties Tourism
REFRESH-INTERVAL;VALUE=DURATION:PT1H
X-Robots-Tag:noindex
X-PUBLISHED-TTL:PT1H
BEGIN:VTIMEZONE
TZID:America/Halifax
BEGIN:DAYLIGHT
TZOFFSETFROM:-0400
TZOFFSETTO:-0300
TZNAME:ADT
DTSTART:20220313T060000
END:DAYLIGHT
BEGIN:STANDARD
TZOFFSETFROM:-0300
TZOFFSETTO:-0400
TZNAME:AST
DTSTART:20221106T050000
END:STANDARD
BEGIN:DAYLIGHT
TZOFFSETFROM:-0400
TZOFFSETTO:-0300
TZNAME:ADT
DTSTART:20230312T060000
END:DAYLIGHT
BEGIN:STANDARD
TZOFFSETFROM:-0300
TZOFFSETTO:-0400
TZNAME:AST
DTSTART:20231105T050000
END:STANDARD
BEGIN:DAYLIGHT
TZOFFSETFROM:-0400
TZOFFSETTO:-0300
TZNAME:ADT
DTSTART:20240310T060000
END:DAYLIGHT
BEGIN:STANDARD
TZOFFSETFROM:-0300
TZOFFSETTO:-0400
TZNAME:AST
DTSTART:20241103T050000
END:STANDARD
END:VTIMEZONE
BEGIN:VEVENT
DTSTART;TZID=America/Halifax:20230625T180000
DTEND;TZID=America/Halifax:20230625T200000
DTSTAMP:20260424T114814
CREATED:20230525T205718Z
LAST-MODIFIED:20230525T205718Z
UID:1497-1687716000-1687723200@saugertiestourism.com
SUMMARY:Sessa with Pulso de Barro at Opus 40
DESCRIPTION:Sun June 25 @ 6:00 pm – 8:00 pm\n$15 – $20 \n5PM Gates / 6PM Show | Co-Presented with Chosen Family \n$15 adv / $20 gate | All Ages \nSessa will be full band! \nSessa\, the São Paulo musician known for his enchanting 2019 debut album ‘Grandeza\,’ returns with an expansive collection of songs built with reverence for the deep historical traditions of Brazilian music\, now adorned with elegant strings\, cascades of hypnotic rhythm\, draped with his graceful backing choir.
URL:https://saugertiestourism.com/event/sessa-with-pulso-de-barro-at-opus-40/
LOCATION:Opus 40\, 50 Fite Road\, Saugerties\, 12477\, United States
END:VEVENT
BEGIN:VEVENT
DTSTART;TZID=America/Halifax:20230625T100000
DTEND;TZID=America/Halifax:20230625T113000
DTSTAMP:20260424T114814
CREATED:20230525T205515Z
LAST-MODIFIED:20230525T205515Z
UID:1495-1687687200-1687692600@saugertiestourism.com
SUMMARY:Mushroom Walks with Chicory Naturalist
DESCRIPTION:Sun June 25 @ 10:00 am – 11:30 am\n$30 \nJoin Chris Baker of Chicory Naturalist for a walk through the Opus 40 property — sculpture\, meadow\, woods and trails — to identify and find edible mushrooms. Enjoy nature and learn how to properly identify and forage mushrooms in our local ecosytem.
URL:https://saugertiestourism.com/event/mushroom-walks-with-chicory-naturalist/
LOCATION:Opus 40\, 50 Fite Road\, Saugerties\, 12477\, United States
END:VEVENT
BEGIN:VEVENT
DTSTART;TZID=America/Halifax:20230624T170000
DTEND;TZID=America/Halifax:20230624T210000
DTSTAMP:20260424T114814
CREATED:20230525T205317Z
LAST-MODIFIED:20230525T205317Z
UID:1493-1687626000-1687640400@saugertiestourism.com
SUMMARY:Opus 40 - Going In with Keith Fullerton Whitman\, Christina Wheeler\, Friends Meeting\, Camille Altay
DESCRIPTION:Sat June 24 @ 5:00 pm – 9:00 pm\n$20 – $25 \nGoing In + Opus 40 present \n5PM Gates / 6PM Show \n$20 adv / $25 gate | All Ages \nGoing In is a sub-label of The Bunker New York\, dedicated to long-form musical compositions geared towards healing\, meditation\, plant medicine ceremonies\, psychedelic therapy\, yoga\, or simply spacing out and going inside yourself. Going In has presented two 48+ hour online streaming events and released 22 albums since its inception 3 years ago. This evening we present our first in person outdoor event at Opus 40\, a gorgeous sculpture park in Saugerties\, NY. \nThis music is best experienced horizontally\, please bring pads\, mats\, pillows & blankets to make yourself comfortable. Lay down and be counted! We strongly encourage no talking during performances at our events.
URL:https://saugertiestourism.com/event/opus-40-going-in-with-keith-fullerton-whitman-christina-wheeler-friends-meeting-camille-altay/
LOCATION:Opus 40\, 50 Fite Road\, Saugerties\, 12477\, United States
END:VEVENT
BEGIN:VEVENT
DTSTART;TZID=America/Halifax:20230623T180000
DTEND;TZID=America/Halifax:20230623T210000
DTSTAMP:20260424T114814
CREATED:20230525T205035Z
LAST-MODIFIED:20230525T205035Z
UID:1491-1687543200-1687554000@saugertiestourism.com
SUMMARY:Into the Light: A Summer Solstice Celebration at Opus 40
DESCRIPTION:Fri June 23 @ 6:00 pm – 9:00 pm\n\n\n\n\n\nCelebrate the longest day of the year\, and the beautiful new season with a magical evening on the meadow at Opus 40. Bring a picnic or buy food on site.
URL:https://saugertiestourism.com/event/into-the-light-a-summer-solstice-celebration-at-opus-40/
LOCATION:Opus 40\, 50 Fite Road\, Saugerties\, 12477\, United States
END:VEVENT
BEGIN:VEVENT
DTSTART;VALUE=DATE:20230623
DTEND;VALUE=DATE:20230624
DTSTAMP:20260424T114814
CREATED:20230305T174512Z
LAST-MODIFIED:20230305T174512Z
UID:1313-1687478400-1687564799@saugertiestourism.com
SUMMARY:Saugerties Stallions Home Game
DESCRIPTION:v Amsterdam\nAll games start at 7:05 with the exception of a 6:05 start time for the game on July 4th
URL:https://saugertiestourism.com/event/saugerties-stallions-home-game-10/
LOCATION:Cantine Veterans Memorial Field
END:VEVENT
BEGIN:VEVENT
DTSTART;TZID=America/Halifax:20230622T170000
DTEND;TZID=America/Halifax:20230622T190000
DTSTAMP:20260424T114814
CREATED:20230525T204646Z
LAST-MODIFIED:20230525T204646Z
UID:1489-1687453200-1687460400@saugertiestourism.com
SUMMARY:Mushroom & Cocktail Walks
DESCRIPTION:Thu June 22 @ 5:00 pm – 7:00 pm\nHas it been a long week? Want to stimulate the brain with something that isn’t work? Join us for a Happy Hour Fungi and Ecology Walk at Opus 40. Let’s grab a drink and take a closer look at the fascinating intricacies and interwoven lives of organisms that make up the diverse Ecology of our region. We’ll also discuss conscious foraging practices\, Fungi ID\, edibility\, safety and mush more. Bring all your Mushroom questions!
URL:https://saugertiestourism.com/event/mushroom-cocktail-walks/
LOCATION:Opus 40\, 50 Fite Road\, Saugerties\, 12477\, United States
END:VEVENT
BEGIN:VEVENT
DTSTART;VALUE=DATE:20230620
DTEND;VALUE=DATE:20230621
DTSTAMP:20260424T114814
CREATED:20230305T174358Z
LAST-MODIFIED:20230305T174358Z
UID:1311-1687219200-1687305599@saugertiestourism.com
SUMMARY:Saugerties Stallions Home Game
DESCRIPTION:v Albany\nAll games start at 7:05 with the exception of a 6:05 start time for the game on July 4th
URL:https://saugertiestourism.com/event/saugerties-stallions-home-game-9/
LOCATION:Cantine Veterans Memorial Field
END:VEVENT
BEGIN:VEVENT
DTSTART;TZID=America/Halifax:20230618T130000
DTEND;TZID=America/Halifax:20230618T143000
DTSTAMP:20260424T114814
CREATED:20230525T174119Z
LAST-MODIFIED:20230525T174119Z
UID:1487-1687093200-1687098600@saugertiestourism.com
SUMMARY:Afternoon Concert: Pocket Merchant at Opus 40
DESCRIPTION:Sun June 18 @ 1:00 pm – 2:30 pm\n$11 \nJoin us this summer on Sunday Afternoons as we celebrate a variety of local artists\, performing on the meadow at Opus 40! \nTickets include a full site visit (map/info\, museum\, access to the full grounds and of course the sculpture) so we encourage you to come early or stay after the performance! \nMusic is at 1PM\, The site is open 10:30AM – 5PM \nLunch will be available onsite by Corners To Go\, Snacks + Drinks are available in the gift shop \nBased in the Hudson Valley\, Pocket Merchant is a jazz-fusion quartet featuring Justin Geyer on keyboards\, Alden Slack on saxophone\, Marco Spodek on drums\, and Adriana Tampasis on flute.
URL:https://saugertiestourism.com/event/afternoon-concert-pocket-merchant-at-opus-40/
LOCATION:Opus 40\, 50 Fite Road\, Saugerties\, 12477\, United States
END:VEVENT
BEGIN:VEVENT
DTSTART;VALUE=DATE:20230618
DTEND;VALUE=DATE:20230619
DTSTAMP:20260424T114814
CREATED:20230305T174214Z
LAST-MODIFIED:20230305T174214Z
UID:1309-1687046400-1687132799@saugertiestourism.com
SUMMARY:Saugerties Stallions Home Game
DESCRIPTION:v Oneonta\nAll games start at 7:05 with the exception of a 6:05 start time for the game on July 4th
URL:https://saugertiestourism.com/event/saugerties-stallions-home-game-8/
LOCATION:Cantine Veterans Memorial Field
END:VEVENT
BEGIN:VEVENT
DTSTART;TZID=America/Halifax:20230617T170000
DTEND;TZID=America/Halifax:20230617T203000
DTSTAMP:20260424T114814
CREATED:20230525T173959Z
LAST-MODIFIED:20230525T173959Z
UID:1485-1687021200-1687033800@saugertiestourism.com
SUMMARY:Reggae on the Rock w/ Mystic Bowie’s Talking Dreads at Opus 40
DESCRIPTION:Sat June 17 @ 5:00 pm – 8:30 pm\n$20 – $25 \n\nPresented by Upstate Reggae \nwith special guest DJ: Sarah the Selector \nJamaican food by Hellshire Cuisine (Poughkeepsie)\, Burgers by Meat Things (Kingston)\, Drinks by Stockade Tavern \n5PM Gates + DJ Sarah The Selector / 6PM Show (2 sets!) / All Ages \n$20 (early bird til 4/20) / $25 adv / $30 gate
URL:https://saugertiestourism.com/event/reggae-on-the-rock-w-mystic-bowies-talking-dreads-at-opus-40/
LOCATION:Opus 40\, 50 Fite Road\, Saugerties\, 12477\, United States
END:VEVENT
BEGIN:VEVENT
DTSTART;TZID=America/Halifax:20230616T180000
DTEND;TZID=America/Halifax:20230616T203000
DTSTAMP:20260424T114814
CREATED:20230525T173833Z
LAST-MODIFIED:20230525T173833Z
UID:1483-1686938400-1686947400@saugertiestourism.com
SUMMARY:Dust Bowl Faeries with Helen Gillet at Opus 40
DESCRIPTION:Fri June 16 @ 6:00 pm – 8:30 pm\n$15 – $20 \n\n5:30 Gates / 6:30 Show \n$15 adv / $20 gate / All Ages \nA faerie-tale fusion of dark cabaret\, delirious polka and gothic spaghetti western music\, Dust Bowl Faeries is a dark-carnival band from the New York Hudson Valley. The band’s eclectic repertoire of songs draw inspiration from circus songs\, murder ballads and Eastern European folk tunes. Accordion\, singing saw and acoustic guitar combine to create the Dust Bowl Faeries otherworldly sound. The band performs as a duet\, trio and 5 piece ensemble. Dust Bowl Faeries was founded by Ryder Cooley (faerie queen) and her taxidermy spirit animal\, Hazel the Ram.
URL:https://saugertiestourism.com/event/dust-bowl-faeries-with-helen-gillet-at-opus-40/
LOCATION:Opus 40\, 50 Fite Road\, Saugerties\, 12477\, United States
END:VEVENT
BEGIN:VEVENT
DTSTART;VALUE=DATE:20230616
DTEND;VALUE=DATE:20230617
DTSTAMP:20260424T114814
CREATED:20230305T174052Z
LAST-MODIFIED:20230305T174052Z
UID:1307-1686873600-1686959999@saugertiestourism.com
SUMMARY:Saugerties Stallions Home Game
DESCRIPTION:v Glens Falls\nAll games start at 7:05 with the exception of a 6:05 start time for the game on July 4th
URL:https://saugertiestourism.com/event/saugerties-stallions-home-game-7/
LOCATION:Cantine Veterans Memorial Field
END:VEVENT
BEGIN:VEVENT
DTSTART;VALUE=DATE:20230615
DTEND;VALUE=DATE:20230616
DTSTAMP:20260424T114814
CREATED:20230305T173812Z
LAST-MODIFIED:20230305T173812Z
UID:1305-1686787200-1686873599@saugertiestourism.com
SUMMARY:Saugerties Stallions Home Game
DESCRIPTION:v Albany\nAll games start at 7:05 with the exception of a 6:05 start time for the game on July 4th
URL:https://saugertiestourism.com/event/saugerties-stallions-home-game-6/
LOCATION:Cantine Veterans Memorial Field
END:VEVENT
BEGIN:VEVENT
DTSTART;TZID=America/Halifax:20230611T173000
DTEND;TZID=America/Halifax:20230611T190000
DTSTAMP:20260424T114814
CREATED:20230525T173651Z
LAST-MODIFIED:20230525T173651Z
UID:1481-1686504600-1686510000@saugertiestourism.com
SUMMARY:Opus 40 Mushroom Foraging Walk & Cocktails
DESCRIPTION:Sun June 11 @ 5:30 pm – 7:00 pm\n 
URL:https://saugertiestourism.com/event/opus-40-mushroom-foraging-walk-cocktails/
LOCATION:Opus 40\, 50 Fite Road\, Saugerties\, 12477\, United States
END:VEVENT
BEGIN:VEVENT
DTSTART;TZID=America/Halifax:20230611T170000
DTEND;TZID=America/Halifax:20230611T190000
DTSTAMP:20260424T114814
CREATED:20230525T173448Z
LAST-MODIFIED:20230525T173448Z
UID:1479-1686502800-1686510000@saugertiestourism.com
SUMMARY:The Mammals at Opus 40
DESCRIPTION:Sun June 11 @ 5:00 pm – 7:00 pm\n$25 \nOpus 40 + WKZE 98.1FM present \n4PM Gates / 5PM Show /  All Ages \n$25 adults / $12 kids \nFood by Corners / Drinks by Stockade Tavern \nThe Mammals are Ruth Ungar\, Mike Merenda\, and a cohort of compelling collaborators who form a touring quintet on the fiddle\, banjo\, guitar\, organ\, bass\, and drums. Over the past 20 years they have quietly composed a canon of original songs that both reflect our culture and offer a vision of how the world might yet be. “These days we sing about what we’re for over what we’re against\,” says singer/songwriter\, Mike Merenda\, and what they’re for is “nothing short of sublime” according to (Americana UK).
URL:https://saugertiestourism.com/event/the-mammals-at-opus-40/
LOCATION:Opus 40\, 50 Fite Road\, Saugerties\, 12477\, United States
END:VEVENT
BEGIN:VEVENT
DTSTART;TZID=America/Halifax:20230611T100000
DTEND;TZID=America/Halifax:20230611T140000
DTSTAMP:20260424T114814
CREATED:20230525T173315Z
LAST-MODIFIED:20230525T173315Z
UID:1477-1686477600-1686492000@saugertiestourism.com
SUMMARY:Opus 40 Mushroom Foraging Walk
DESCRIPTION:Sun June 11 @ 10:00 am – 2:00 pm\nLandscapes are infinitely unique\, especially in this part of the northeast. Join us at Opus 40 for a walk through the forest\, and learn about the interwoven lives of organisms that make up the diverse Ecology of our region. “Everything is connected”\, and in many cases this connection is facilitated by a group of organisms that are largely unseen. Let’s pull back the curtain to take a closer look at Fungi\, and all the organisms and interactions that form the intricate\, beautiful ecosystems we live in. We’ll also discuss how disturbance and heavy land use has affected local ecology. \nLuke Sarrantonio grew up in Rosendale New York and spent much of his childhood exploring the surrounding landscape. It wasn’t until college at SUNY ESF (studying Forest Biology) that he truly discovered Fungi. After graduating in 2011\, he was discouraged by the lack of learning resources around Fungi and Ecology and has been developing programming\, mushroom farming\, consulting and making medicinal products ever since.
URL:https://saugertiestourism.com/event/opus-40-mushroom-foraging-walk/
LOCATION:Opus 40\, 50 Fite Road\, Saugerties\, 12477\, United States
END:VEVENT
BEGIN:VEVENT
DTSTART;TZID=America/Halifax:20230611T080000
DTEND;TZID=America/Halifax:20230611T170000
DTSTAMP:20260424T114814
CREATED:20230305T173658Z
LAST-MODIFIED:20230305T173658Z
UID:1303-1686470400-1686502800@saugertiestourism.com
SUMMARY:Saugerties Stallions Home Game
DESCRIPTION:v Albany\nAll games start at 7:05 with the exception of a 6:05 start time for the game on July 4th
URL:https://saugertiestourism.com/event/saugerties-stallions-home-game-5/
LOCATION:Cantine Veterans Memorial Field
END:VEVENT
BEGIN:VEVENT
DTSTART;TZID=America/Halifax:20230610T180000
DTEND;TZID=America/Halifax:20230610T203000
DTSTAMP:20260424T114814
CREATED:20230525T172120Z
LAST-MODIFIED:20230525T172120Z
UID:1475-1686420000-1686429000@saugertiestourism.com
SUMMARY:Laura Stevenson with Allie Young at Opus 40
DESCRIPTION:Sat June 10 @ 6:00 pm – 8:30 pm\n$20 – $25 \nCo-Presented with Chosen Family \nFull Band with special guest Allie Young \n5:30 Gates / 6PM Show  / All Ages \n$20 adv / $25 gate \nLaura Stevenson has been a solo artist for over a decade\, but only now\, with her fifth album\, does she truly sound like one. The New York musician’s career began in the DIY ska-punk band Bomb the Music Industry! before she peeled off to write her own material\, often with friends rallying behind her in her backing band\, the Cans. But after releasing the indie-pop record Cocksure\, in 2015\, she got married\, bought a house\, and adopted a dog. It’s within these domestic comforts that Stevenson found the courage to confront her demons after years of lyrically hinting at them. The result is 2019’s The Big Freeze and 2021’s self-titled\, records where Stevenson makes her voice and guitar the focus\, basks in minimal orchestration\, and dissects her past in hopes that she can\, finally\, detach herself from its grasp. -Pitchfork
URL:https://saugertiestourism.com/event/laura-stevenson-with-allie-young-at-opus-40/
LOCATION:Opus 40\, 50 Fite Road\, Saugerties\, 12477\, United States
END:VEVENT
BEGIN:VEVENT
DTSTART;TZID=America/Halifax:20230609T180000
DTEND;TZID=America/Halifax:20230609T203000
DTSTAMP:20260424T114814
CREATED:20230525T171220Z
LAST-MODIFIED:20230525T171220Z
UID:1473-1686333600-1686342600@saugertiestourism.com
SUMMARY:Opus 40 Notice Recordings: MAW / Cleek Schrey & Iva Bittová / Annie Dodson
DESCRIPTION:Fri June 9 @ 6:00 pm – 8:30 pm\nSLIDING SCALE \nOpus 40 + Notice Recordings present \nan evening of experimentation and improvisation with \nMAW trio (Frank Meadows\, Jessica Ackerley\, Eli Wallace) / Iva Bittová + Cleek Schrey / Annie Dodson\n \n5:30 Gates / 6PM Show / All Ages \nMAW is the free improvising trio of pianist Eli Wallace\, double bass player Frank Meadows and guitarist Jessica Ackerley\, who began working in the thriving experimental and improvised music scene in Brooklyn. Wallace\, Meadows and Ackerly are bold sound artists who have collaborated before with like-minded sonic explorers and improvisers such as reeds player Daniel Carter\, guitarist Tashi Dorji and sax player Patrick Shiroishi.
URL:https://saugertiestourism.com/event/opus-40-notice-recordings-maw-cleek-schrey-iva-bittova-annie-dodson/
LOCATION:Opus 40\, 50 Fite Road\, Saugerties\, 12477\, United States
END:VEVENT
BEGIN:VEVENT
DTSTART;VALUE=DATE:20230609
DTEND;VALUE=DATE:20230610
DTSTAMP:20260424T114814
CREATED:20230305T173529Z
LAST-MODIFIED:20230305T173529Z
UID:1301-1686268800-1686355199@saugertiestourism.com
SUMMARY:Saugerties Stallions Home Game
DESCRIPTION:v Oneonta\nAll games start at 7:05 with the exception of a 6:05 start time for the game on July 4th
URL:https://saugertiestourism.com/event/saugerties-stallions-home-game-4/
LOCATION:Cantine Veterans Memorial Field
END:VEVENT
BEGIN:VEVENT
DTSTART;TZID=America/Halifax:20230608T173000
DTEND;TZID=America/Halifax:20230608T193000
DTSTAMP:20260424T114814
CREATED:20230525T170326Z
LAST-MODIFIED:20230525T170326Z
UID:1471-1686245400-1686252600@saugertiestourism.com
SUMMARY:Lauren Hamilton Exhibit Opening at Opus 40
DESCRIPTION:Thu June 8 @ 5:30 pm – 7:30 pm\nJoin us for an opening celebration of our five-week exhibit featuring new and selected art by the amazing Lauren Hamilton — with music\, wine & snacks. Thursday\, June 8 at 5:30 PM. \n 
URL:https://saugertiestourism.com/event/lauren-hamilton-exhibit-opening-at-opus-40/
LOCATION:Opus 40\, 50 Fite Road\, Saugerties\, 12477\, United States
END:VEVENT
BEGIN:VEVENT
DTSTART;VALUE=DATE:20230607
DTEND;VALUE=DATE:20230612
DTSTAMP:20260424T114814
CREATED:20230305T182121Z
LAST-MODIFIED:20230305T182121Z
UID:1349-1686096000-1686527999@saugertiestourism.com
SUMMARY:HITS-on-the-Hudson III - National / 5*
DESCRIPTION:SPRING SERIES\nHITS-on-the-Hudson III – National / 5* June 7-11\ninfo: hitsshows.com \n  \nHITS Saugerties Series \nMay 19th – September 10th\, 2023 \n\nThe HITS Saugerties Series welcomes equestrians for nine weeks of events\, $3 million in prize money\, bi-weekly Grand Prix\, qualifiers for the HITS Championship\, USEF National-Rated Hunters\, 5* and 6* Jumpers\, and the VIP Club. The majestic Catskill Mountains provide a sweeping backdrop to this exciting series\, that has made its home at HITS-on-the-Hudson since 2004. In the fall\, the HITS Championship caps the HITS Saugerties Series with hunter and jumper finals and the HITS Saugerties Grand Prix.
URL:https://saugertiestourism.com/event/hits-on-the-hudson-iii-national-5/
LOCATION:HITS\, 454 Washington Avenue Extension\, Saugerties\, NY\, 12477\, United States
END:VEVENT
BEGIN:VEVENT
DTSTART;VALUE=DATE:20230607
DTEND;VALUE=DATE:20230608
DTSTAMP:20260424T114814
CREATED:20230305T173114Z
LAST-MODIFIED:20230305T173301Z
UID:1295-1686096000-1686182399@saugertiestourism.com
SUMMARY:Saugerties Stallions Home Game
DESCRIPTION:v Mohawk Valley\nAll games start at 7:05 with the exception of a 6:05 start time for the game on July 4th
URL:https://saugertiestourism.com/event/saugerties-stallions-home-game-3/
LOCATION:Cantine Veterans Memorial Field
END:VEVENT
BEGIN:VEVENT
DTSTART;TZID=America/Halifax:20230604T120000
DTEND;TZID=America/Halifax:20230604T160000
DTSTAMP:20260424T114814
CREATED:20230525T170051Z
LAST-MODIFIED:20230525T170051Z
UID:1469-1685880000-1685894400@saugertiestourism.com
SUMMARY:Opus 40 Pride Family Picnic
DESCRIPTION:Sun June 4 @ 12:00 pm – 4:00 pm\nSLIDING SCALE \nOpus 40 + Queer Conspiracy present: \nPRIDE FAMILY PICNIC!  \nA family-friendly celebration of Queerness in the Hudson Valley\n \nAll Ages | by donation | Noon – 4PM \nfeaturing performances: \nDrag StoryTime with Epiphany Penn \nKey of Q – The LGBTQ & Allied A Cappella Singers of the Hudson Valley \nQueer History Drag Bingo with Sis Jenner \nQueer Storytime with Jacinta Bunnell “A More Graceful Shaboom” \nand ending with KinderDisco Kids Dance Party with DJ Ali
URL:https://saugertiestourism.com/event/opus-40-pride-family-picnic/
LOCATION:Opus 40\, 50 Fite Road\, Saugerties\, 12477\, United States
END:VEVENT
BEGIN:VEVENT
DTSTART;VALUE=DATE:20230604
DTEND;VALUE=DATE:20230605
DTSTAMP:20260424T114814
CREATED:20230305T172956Z
LAST-MODIFIED:20230305T173342Z
UID:1293-1685836800-1685923199@saugertiestourism.com
SUMMARY:Saugerties Stallions Home Game
DESCRIPTION:v Albany\nAll games start at 7:05 with the exception of a 6:05 start time for the game on July 4th
URL:https://saugertiestourism.com/event/saugerties-stallions-home-game-2/
LOCATION:Cantine Veterans Memorial Field
END:VEVENT
BEGIN:VEVENT
DTSTART;TZID=America/Halifax:20230603T180000
DTEND;TZID=America/Halifax:20230603T203000
DTSTAMP:20260424T114814
CREATED:20230525T165839Z
LAST-MODIFIED:20230525T165839Z
UID:1467-1685815200-1685824200@saugertiestourism.com
SUMMARY:Juma Sultan’s Aboriginal Music Society at Opus40
DESCRIPTION:Sat June 3 @ 6:00 pm – 8:30 pm\n$15 \n5PM Gates / 6:30 Show \n$15 / All Ages \nPercussionist Juma Sultan shot to international fame when he stepped onto to stage of the 1969 Woodstock Festival as a member of Jimi Hendrix’s Gypsy Sun & Rainbows. At Opus 40 he will be presenting his nine-piece group\, Aboriginal Music Society in an exploration of spirit grounded in sound.
URL:https://saugertiestourism.com/event/juma-sultans-aboriginal-music-society-at-opus40/
LOCATION:Opus 40\, 50 Fite Road\, Saugerties\, 12477\, United States
END:VEVENT
BEGIN:VEVENT
DTSTART;VALUE=DATE:20230603
DTEND;VALUE=DATE:20230604
DTSTAMP:20260424T114814
CREATED:20230304T213214Z
LAST-MODIFIED:20230304T213214Z
UID:1267-1685750400-1685836799@saugertiestourism.com
SUMMARY:Saugerties Vintage Base Ball Club
DESCRIPTION:
URL:https://saugertiestourism.com/event/saugerties-vintage-base-ball-club-2/
LOCATION:Cantine Veterans Memorial Field
END:VEVENT
BEGIN:VEVENT
DTSTART;TZID=America/Halifax:20230602T183000
DTEND;TZID=America/Halifax:20230602T183000
DTSTAMP:20260424T114814
CREATED:20230510T112735Z
LAST-MODIFIED:20230510T112735Z
UID:1452-1685730600-1685730600@saugertiestourism.com
SUMMARY:2023 Sunset Concert Series
DESCRIPTION:Musicians\, Bruce T. Carroll & The Rough and Tumble \nBring blankets\, lawn chairs \n 
URL:https://saugertiestourism.com/event/2023-sunset-concert-series/
LOCATION:Tina Chorvas Park
END:VEVENT
BEGIN:VEVENT
DTSTART;TZID=America/Halifax:20230602T183000
DTEND;TZID=America/Halifax:20230602T183000
DTSTAMP:20260424T114814
CREATED:20230409T150910Z
LAST-MODIFIED:20230409T150910Z
UID:1413-1685730600-1685730600@saugertiestourism.com
SUMMARY:Chamber Sunset Concert
DESCRIPTION:June 2\nChamber Sunset Concert\nTina Chorvas Park\n6:30pm\nSee DiscoverSaugerties.com for performer\nFree
URL:https://saugertiestourism.com/event/chamber-sunset-concert-4/
LOCATION:Tina Chorvas Park
END:VEVENT
BEGIN:VEVENT
DTSTART;TZID=America/Halifax:20230602T183000
DTEND;TZID=America/Halifax:20230602T183000
DTSTAMP:20260424T114814
CREATED:20230328T141609Z
LAST-MODIFIED:20230328T141609Z
UID:1392-1685730600-1685730600@saugertiestourism.com
SUMMARY:Chamber Sunset Concert
DESCRIPTION:
URL:https://saugertiestourism.com/event/chamber-sunset-concert/
LOCATION:Tina Chorvas Park
END:VEVENT
END:VCALENDAR