BEGIN:VCALENDAR
VERSION:2.0
PRODID:-//Saugerties Tourism - ECPv6.15.20//NONSGML v1.0//EN
CALSCALE:GREGORIAN
METHOD:PUBLISH
X-WR-CALNAME:Saugerties Tourism
X-ORIGINAL-URL:https://saugertiestourism.com
X-WR-CALDESC:Events for Saugerties Tourism
REFRESH-INTERVAL;VALUE=DURATION:PT1H
X-Robots-Tag:noindex
X-PUBLISHED-TTL:PT1H
BEGIN:VTIMEZONE
TZID:America/Halifax
BEGIN:DAYLIGHT
TZOFFSETFROM:-0400
TZOFFSETTO:-0300
TZNAME:ADT
DTSTART:20220313T060000
END:DAYLIGHT
BEGIN:STANDARD
TZOFFSETFROM:-0300
TZOFFSETTO:-0400
TZNAME:AST
DTSTART:20221106T050000
END:STANDARD
BEGIN:DAYLIGHT
TZOFFSETFROM:-0400
TZOFFSETTO:-0300
TZNAME:ADT
DTSTART:20230312T060000
END:DAYLIGHT
BEGIN:STANDARD
TZOFFSETFROM:-0300
TZOFFSETTO:-0400
TZNAME:AST
DTSTART:20231105T050000
END:STANDARD
BEGIN:DAYLIGHT
TZOFFSETFROM:-0400
TZOFFSETTO:-0300
TZNAME:ADT
DTSTART:20240310T060000
END:DAYLIGHT
BEGIN:STANDARD
TZOFFSETFROM:-0300
TZOFFSETTO:-0400
TZNAME:AST
DTSTART:20241103T050000
END:STANDARD
BEGIN:DAYLIGHT
TZOFFSETFROM:-0400
TZOFFSETTO:-0300
TZNAME:ADT
DTSTART:20250309T060000
END:DAYLIGHT
BEGIN:STANDARD
TZOFFSETFROM:-0300
TZOFFSETTO:-0400
TZNAME:AST
DTSTART:20251102T050000
END:STANDARD
END:VTIMEZONE
BEGIN:VEVENT
DTSTART;TZID=America/Halifax:20240121T150000
DTEND;TZID=America/Halifax:20240121T170000
DTSTAMP:20260423T204944
CREATED:20240111T192007Z
LAST-MODIFIED:20240111T192007Z
UID:1635-1705849200-1705856400@saugertiestourism.com
SUMMARY:Saugerties Pro Musica
DESCRIPTION:Frisson-Piano/Woodwind Quartet\nOboist Thomas Gallant’s chamber group Frisson
URL:https://saugertiestourism.com/event/saugerties-pro-musica-5/
LOCATION:Saugerties United Methodist Church\, 59 Post Street\, Saugerties\, 12477\, United States
END:VEVENT
BEGIN:VEVENT
DTSTART;TZID=America/Halifax:20240112T180000
DTEND;TZID=America/Halifax:20240112T210000
DTSTAMP:20260423T204944
CREATED:20240111T191300Z
LAST-MODIFIED:20240111T191300Z
UID:1632-1705082400-1705093200@saugertiestourism.com
SUMMARY:John St Jam
DESCRIPTION:Doors open at 6pm\, show starts at 7 pm\nTickets available at door\nAt the Local\, 16 John St.\nTickets $15 available at door\nContact steve@johnstjam.net for more info
URL:https://saugertiestourism.com/event/john-st-jam/
LOCATION:The Local Saugerties\, 16 John St\, Saugerties\, NY\, 12477\, United States
END:VEVENT
BEGIN:VEVENT
DTSTART;TZID=America/Halifax:20240106T080000
DTEND;TZID=America/Halifax:20240106T170000
DTSTAMP:20260423T204944
CREATED:20240102T211942Z
LAST-MODIFIED:20240102T211942Z
UID:1616-1704528000-1704560400@saugertiestourism.com
SUMMARY:Annual Winter Bird Count
DESCRIPTION:19th annual Esopus Bend Nature Preserve Winter bird count\nParticipants will census wintering birds throughout the 160 acre Nature Preserve.\nPre-registration required.\ninfo@esopuscreekconservancy.org
URL:https://saugertiestourism.com/event/annual-winter-bird-count/
LOCATION:Esopus Creek Conservancy\, 10 Shady Lany\, Saugerties\, NY\, United States
END:VEVENT
BEGIN:VEVENT
DTSTART;TZID=America/Halifax:20231203T140000
DTEND;TZID=America/Halifax:20231203T140000
DTSTAMP:20260423T204944
CREATED:20231113T155033Z
LAST-MODIFIED:20231113T155033Z
UID:1596-1701612000-1701612000@saugertiestourism.com
SUMMARY:The Ulster Dance Company\, Thirty Minutes of Holiday
DESCRIPTION:As part of Holiday in the Village the Ulster Dance Company will be\nperforming at the Orpheum on Sunday\, December 3 with performances\nat 2:00 and 3:00. Each performance will feature thirty minutes of holiday\ninspired dance pieces\, including excerpts from our former production\, A Christmas Carol.\nEvent is free and open to the public
URL:https://saugertiestourism.com/event/the-ulster-dance-company-thirty-minutes-of-holiday/
LOCATION:Saugerties Orpheum Theatre\, 156 Main Street\, Saugerties\, NY\, 12477\, United States
END:VEVENT
BEGIN:VEVENT
DTSTART;TZID=America/Halifax:20231203T120000
DTEND;TZID=America/Halifax:20231203T170000
DTSTAMP:20260423T204944
CREATED:20231113T154316Z
LAST-MODIFIED:20231113T154316Z
UID:1593-1701604800-1701622800@saugertiestourism.com
SUMMARY:Holiday In The Village
DESCRIPTION:Sponsored by the Saugerties Chamber of Commerce\nSpecial events throughout the Village of Saugerties
URL:https://saugertiestourism.com/event/holiday-in-the-village-2/
LOCATION:Village Saugerties\, United States
END:VEVENT
BEGIN:VEVENT
DTSTART;TZID=America/Halifax:20231203T110000
DTEND;TZID=America/Halifax:20231203T150000
DTSTAMP:20260423T204944
CREATED:20231113T155442Z
LAST-MODIFIED:20231113T155442Z
UID:1599-1701601200-1701615600@saugertiestourism.com
SUMMARY:Happy Holidays in the Dutch Barn At Kiersted house
DESCRIPTION:Visit with Santa Claus\, enjoy free hot chocolate & cookies and\nenjoy the animals from Hope Farm Animal Rescue.\nFree candy distributed to children.
URL:https://saugertiestourism.com/event/happy-holidays-in-the-dutch-barn-at-kiersted-house/
LOCATION:The Dutch Barn at Kiersted House\, 119 Main Street\, Saugerties\, NY\, 12477
END:VEVENT
BEGIN:VEVENT
DTSTART;TZID=America/Halifax:20231111T120000
DTEND;TZID=America/Halifax:20231111T140000
DTSTAMP:20260423T204944
CREATED:20230921T002043Z
LAST-MODIFIED:20230921T002043Z
UID:1572-1699704000-1699711200@saugertiestourism.com
SUMMARY:Skating Party with the Snow Sisters
DESCRIPTION:Tickets \, Adult $10.00\, Kids age 2-14 $8.00\, skate rental $3.00\nInteractive skating party and photo ops\nSkating sisters will be on ice 12:15-1:45
URL:https://saugertiestourism.com/event/skating-party-with-the-snow-sisters/
LOCATION:Kiwanis Ice Arena\,  Small World Avenue\, Saugerties\, 12477\, United States
END:VEVENT
BEGIN:VEVENT
DTSTART;TZID=America/Halifax:20231104T200000
DTEND;TZID=America/Halifax:20231104T200000
DTSTAMP:20260423T204944
CREATED:20230920T235733Z
LAST-MODIFIED:20230920T235733Z
UID:1559-1699128000-1699128000@saugertiestourism.com
SUMMARY:Emel's Hudson Valley Debut!
DESCRIPTION:FMI: Thelocalsaugerties.com
URL:https://saugertiestourism.com/event/emels-hudson-valley-debut/
LOCATION:The Local Saugerties\, 16 John St\, Saugerties\, NY\, 12477\, United States
END:VEVENT
BEGIN:VEVENT
DTSTART;TZID=America/Halifax:20231029T120000
DTEND;TZID=America/Halifax:20231029T150000
DTSTAMP:20260423T204944
CREATED:20230901T124935Z
LAST-MODIFIED:20230901T124935Z
UID:1533-1698580800-1698591600@saugertiestourism.com
SUMMARY:Saugerties Touch A Truck
DESCRIPTION:Visit and touch all the trucks and Trick or Treat at the same time.\nTo benefit the Community Foundation & rebuild of Small World\nFMI: 845-430-4673
URL:https://saugertiestourism.com/event/saugerties-touch-a-truck/
LOCATION:Cantine Feild\, Pavilion Street\, Saugerties\, NY\, 12477\, United States
END:VEVENT
BEGIN:VEVENT
DTSTART;TZID=America/Halifax:20231028T200000
DTEND;TZID=America/Halifax:20231028T200000
DTSTAMP:20260423T204944
CREATED:20230920T235444Z
LAST-MODIFIED:20230920T235444Z
UID:1557-1698523200-1698523200@saugertiestourism.com
SUMMARY:Jazz with Allison  Miller's Rivers in Our Veins
DESCRIPTION:Fmi:Thelocalsaugerties.com
URL:https://saugertiestourism.com/event/jazz-with-allison-millers-rivers-in-our-veins/
LOCATION:The Local Saugerties\, 16 John St\, Saugerties\, NY\, 12477\, United States
END:VEVENT
BEGIN:VEVENT
DTSTART;TZID=America/Halifax:20231028T130000
DTEND;TZID=America/Halifax:20231028T150000
DTSTAMP:20260423T204944
CREATED:20230921T001647Z
LAST-MODIFIED:20230921T001647Z
UID:1570-1698498000-1698505200@saugertiestourism.com
SUMMARY:Trunk or Treat
DESCRIPTION:To register if you would like to participate\nContact: rkleemann@saugertiesny.gov
URL:https://saugertiestourism.com/event/trunk-or-treat/
LOCATION:Kiwanis Ice Arena\,  Small World Avenue\, Saugerties\, 12477\, United States
END:VEVENT
BEGIN:VEVENT
DTSTART;TZID=America/Halifax:20231028T100000
DTEND;TZID=America/Halifax:20231028T150000
DTSTAMP:20260423T204944
CREATED:20230901T124641Z
LAST-MODIFIED:20230901T124641Z
UID:1531-1698487200-1698505200@saugertiestourism.com
SUMMARY:Saugerties Animal Shelter Fall Vendor & Psychic Fair
DESCRIPTION:At Town of Saugerties Animal Shelter
URL:https://saugertiestourism.com/event/saugerties-animal-shelter-fall-vendor-psychic-fair/
LOCATION:Town of Saugerties Animal Shelter\, 1765 Rte 212\, Saugerties\, NY\, 12477\, United States
END:VEVENT
BEGIN:VEVENT
DTSTART;TZID=America/Halifax:20231021T173000
DTEND;TZID=America/Halifax:20231021T213000
DTSTAMP:20260423T204944
CREATED:20230921T002949Z
LAST-MODIFIED:20230921T002949Z
UID:1576-1697909400-1697923800@saugertiestourism.com
SUMMARY:Fall Foliage Gala at Opus 40
DESCRIPTION:Cocktails and Music by the fountain\nSeated dinner with wine pairings\nSpectacular light show and entertainment under the stars\nFMI: opus40.org
URL:https://saugertiestourism.com/event/fall-foliage-gala-at-opus-40/
LOCATION:Opus 40\, 50 Fite Road\, Saugerties\, 12477\, United States
END:VEVENT
BEGIN:VEVENT
DTSTART;TZID=America/Halifax:20231019T190000
DTEND;TZID=America/Halifax:20231019T190000
DTSTAMP:20260423T204944
CREATED:20230920T235014Z
LAST-MODIFIED:20230920T235014Z
UID:1555-1697742000-1697742000@saugertiestourism.com
SUMMARY:Jazz with Julius Rodriguez
DESCRIPTION:FMI: Thelocalsaugerties.com
URL:https://saugertiestourism.com/event/jazz-with-julius-rodriguez/
LOCATION:The Local Saugerties\, 16 John St\, Saugerties\, NY\, 12477\, United States
END:VEVENT
BEGIN:VEVENT
DTSTART;TZID=America/Halifax:20231015T150000
DTEND;TZID=America/Halifax:20231015T150000
DTSTAMP:20260423T204944
CREATED:20230921T001211Z
LAST-MODIFIED:20230921T001211Z
UID:1568-1697382000-1697382000@saugertiestourism.com
SUMMARY:Saugerties Pro Musica
DESCRIPTION:Itay Goren\nWebsite: saugertiespromusica.org\nFMI: 845-679-5733\, Richard Frisbie
URL:https://saugertiestourism.com/event/saugerties-pro-musica-4/
LOCATION:Saugerties United Methodist Church\, 59 Post Street\, Saugerties\, 12477\, United States
END:VEVENT
BEGIN:VEVENT
DTSTART;TZID=America/Halifax:20231013T200000
DTEND;TZID=America/Halifax:20231013T200000
DTSTAMP:20260423T204944
CREATED:20230920T234821Z
LAST-MODIFIED:20230920T234821Z
UID:1553-1697227200-1697227200@saugertiestourism.com
SUMMARY:Messiez Tango Trio with Dancers & Milonga
DESCRIPTION:FMI: Thesaugertieslocal.com
URL:https://saugertiestourism.com/event/messiez-tango-trio-with-dancers-milonga/
LOCATION:The Local Saugerties\, 16 John St\, Saugerties\, NY\, 12477\, United States
END:VEVENT
BEGIN:VEVENT
DTSTART;TZID=America/Halifax:20231013T160000
DTEND;TZID=America/Halifax:20231013T210000
DTSTAMP:20260423T204944
CREATED:20230912T121421Z
LAST-MODIFIED:20230912T121421Z
UID:1536-1697212800-1697230800@saugertiestourism.com
SUMMARY:Saugerties Food Truck Festival\, Eat Drink & Be Scary
DESCRIPTION:Sponsored by the Community Foundation of Saugerties\, Ulster County Tourism &\nTown & Country Liquors\nFood Trucks\, vendors\, live music\nFree to attend
URL:https://saugertiestourism.com/event/saugerties-food-truck-festival-eat-drink-be-scary/
LOCATION:Cantine Veterans Memorial Field
END:VEVENT
BEGIN:VEVENT
DTSTART;TZID=America/Halifax:20231011T190000
DTEND;TZID=America/Halifax:20231011T190000
DTSTAMP:20260423T204944
CREATED:20230920T234626Z
LAST-MODIFIED:20230920T234626Z
UID:1551-1697050800-1697050800@saugertiestourism.com
SUMMARY:Jazz with Orrin Evans Trio
DESCRIPTION:FMI: Thelocalsaugerties.com
URL:https://saugertiestourism.com/event/jazz-with-orrin-evans-trio/
LOCATION:The Local Saugerties\, 16 John St\, Saugerties\, NY\, 12477\, United States
END:VEVENT
BEGIN:VEVENT
DTSTART;TZID=America/Halifax:20231009T140000
DTEND;TZID=America/Halifax:20231009T170000
DTSTAMP:20260423T204944
CREATED:20230901T124354Z
LAST-MODIFIED:20230901T124354Z
UID:1528-1696860000-1696870800@saugertiestourism.com
SUMMARY:Mum Festival
DESCRIPTION:Sponsored by the Village of Saugerties.\nLocal vendors\, hundreds of beautiful mums and an art show
URL:https://saugertiestourism.com/event/mum-festival-2/
LOCATION:Seamon Park\, 5 Malden Avenue\, Saugerties\, NY\, 12477\, United States
END:VEVENT
BEGIN:VEVENT
DTSTART;TZID=America/Halifax:20231007T200000
DTEND;TZID=America/Halifax:20231007T200000
DTSTAMP:20260423T204944
CREATED:20230920T234227Z
LAST-MODIFIED:20230920T234227Z
UID:1549-1696708800-1696708800@saugertiestourism.com
SUMMARY:The Wazumbians :Highlife Music from West Africa
DESCRIPTION:The Local Saugerties
URL:https://saugertiestourism.com/event/the-wazumbians-highlife-music-from-west-africa/
LOCATION:The Local Saugerties\, 16 John St\, Saugerties\, NY\, 12477\, United States
END:VEVENT
BEGIN:VEVENT
DTSTART;TZID=America/Halifax:20231007T100000
DTEND;TZID=America/Halifax:20231007T140000
DTSTAMP:20260423T204944
CREATED:20230921T000823Z
LAST-MODIFIED:20230921T000823Z
UID:1566-1696672800-1696687200@saugertiestourism.com
SUMMARY:Saugerties Farmers Market
DESCRIPTION:Saturdays 10 am-2 pm\nsaugertiesfarmersmarket.com
URL:https://saugertiestourism.com/event/saugerties-farmers-market-13/
LOCATION:115 Main Street
END:VEVENT
BEGIN:VEVENT
DTSTART;TZID=America/Halifax:20230930T200000
DTEND;TZID=America/Halifax:20230930T200000
DTSTAMP:20260423T204944
CREATED:20230920T233915Z
LAST-MODIFIED:20230920T233915Z
UID:1547-1696104000-1696104000@saugertiestourism.com
SUMMARY:Tribute to Leonard Cohen
DESCRIPTION:At the Saugerties Local\nDoors open one hour before event
URL:https://saugertiestourism.com/event/tribute-to-leonard-cohen/
LOCATION:The Local Saugerties\, 16 John St\, Saugerties\, NY\, 12477\, United States
END:VEVENT
BEGIN:VEVENT
DTSTART;TZID=America/Halifax:20230930T080000
DTEND;TZID=America/Halifax:20231001T170000
DTSTAMP:20260423T204944
CREATED:20230304T213726Z
LAST-MODIFIED:20230603T133208Z
UID:1276-1696060800-1696179600@saugertiestourism.com
SUMMARY:Saugerties Vintage Base Ball Club
DESCRIPTION:
URL:https://saugertiestourism.com/event/saugerties-vintage-base-ball-club-6/
LOCATION:Marbletown Park\, 350 Tongore Road\, Kingston\, NY\, United States
END:VEVENT
BEGIN:VEVENT
DTSTART;VALUE=DATE:20230930
DTEND;VALUE=DATE:20231002
DTSTAMP:20260423T204944
CREATED:20230213T012233Z
LAST-MODIFIED:20230213T012233Z
UID:1227-1696032000-1696204799@saugertiestourism.com
SUMMARY:Hudson Valley Garlic Festival
DESCRIPTION:Hudson Valley Garlic Festival\nPresented by the Kiwanis Club of Saugerties\n\nSeptember 30 – October 1\, 2023\n\nSaturday\, September 30: 10 am – 6 pm\nSunday\, October 1: 10 am – 5 pm\n\nTickets & Info:  http://hvgf.org
URL:https://saugertiestourism.com/event/hudson-valley-garlic-festival-3/
LOCATION:Cantine Veterans Memorial Field
END:VEVENT
BEGIN:VEVENT
DTSTART;TZID=America/Halifax:20230927T200000
DTEND;TZID=America/Halifax:20230927T200000
DTSTAMP:20260423T204944
CREATED:20230920T233620Z
LAST-MODIFIED:20230920T233620Z
UID:1543-1695844800-1695844800@saugertiestourism.com
SUMMARY:Tablao Flamenco at The Local
DESCRIPTION:FMI: THELOCALSAUGERTIES.COM\nMusic\, dance & song\nOpen one hour before show
URL:https://saugertiestourism.com/event/tablao-flamenco-at-the-local/
LOCATION:The Local Saugerties\, 16 John St\, Saugerties\, NY\, 12477\, United States
END:VEVENT
BEGIN:VEVENT
DTSTART;TZID=America/Halifax:20230923T100000
DTEND;TZID=America/Halifax:20230923T140000
DTSTAMP:20260423T204944
CREATED:20230921T000259Z
LAST-MODIFIED:20230921T000259Z
UID:1562-1695463200-1695477600@saugertiestourism.com
SUMMARY:Saugerties Farmers Market
DESCRIPTION:115 Main St. Saturdays 10am-2pm
URL:https://saugertiestourism.com/event/saugerties-farmers-market-12/
LOCATION:115 Main Street
END:VEVENT
BEGIN:VEVENT
DTSTART;TZID=America/Halifax:20230922T170000
DTEND;TZID=America/Halifax:20230922T170000
DTSTAMP:20260423T204944
CREATED:20230921T002519Z
LAST-MODIFIED:20230921T002519Z
UID:1574-1695402000-1695402000@saugertiestourism.com
SUMMARY:Opus 40\, Lara Hope & The Ark-Tones
DESCRIPTION:Sunset Concert on the meadow at Opus 40.\nGates open 5 pm\, 6 pm show\ninfo@opus40.org. opus40.org
URL:https://saugertiestourism.com/event/opus-40-lara-hope-the-ark-tones/
LOCATION:Opus 40\, 50 Fite Road\, Saugerties\, 12477\, United States
END:VEVENT
BEGIN:VEVENT
DTSTART;VALUE=DATE:20230913
DTEND;VALUE=DATE:20230918
DTSTAMP:20260423T204944
CREATED:20230305T184425Z
LAST-MODIFIED:20230305T184425Z
UID:1372-1694563200-1694995199@saugertiestourism.com
SUMMARY:HITS - M&S Insurance League National Finals
DESCRIPTION:M&S Insurance League National Finals September 13-17\ninfo: hitsshows.com \nThe Marshall & Sterling Insurance League is a grassroots organization dedicated to providing competition for up-and-coming Children and Adult Hunter\, Jumper and Equitation riders. The M&S League has grown\, since its inception in 1991\, from 10 member shows with 100 riders to over 1\,300 horse shows with more than 1\,500 competitors today. The League provides a vast opportunity for riders to compete throughout the year and to participate in the prestigious Marshall & Sterling Insurance League National Finals at HITS-on-the-Hudson in Saugerties\, New York. \n\n 
URL:https://saugertiestourism.com/event/hits-ms-insurance-league-national-finals-2/
LOCATION:HITS\, 454 Washington Avenue Extension\, Saugerties\, NY\, 12477\, United States
END:VEVENT
BEGIN:VEVENT
DTSTART;TZID=America/Halifax:20230910T100000
DTEND;TZID=America/Halifax:20230910T120000
DTSTAMP:20260423T204944
CREATED:20230901T123152Z
LAST-MODIFIED:20230901T123249Z
UID:1524-1694340000-1694347200@saugertiestourism.com
SUMMARY:Horsin' Around Saugerties
DESCRIPTION:Brunch & Auction\nSupport local artists\, the Saugerties Chamber of Commerce\nand the Ryan house who will receive a donation from the proceeds raised
URL:https://saugertiestourism.com/event/horsin-around-saugerties-2/
LOCATION:HITS-on-Hudson\, 454 Washington Avenue\, Saugerties\, NY\, 12477\, United States
END:VEVENT
BEGIN:VEVENT
DTSTART;VALUE=DATE:20230910
DTEND;VALUE=DATE:20230911
DTSTAMP:20260423T204944
CREATED:20230305T184133Z
LAST-MODIFIED:20230305T184133Z
UID:1369-1694304000-1694390399@saugertiestourism.com
SUMMARY:HITS Championship
DESCRIPTION:FALL SERIES\nHITS Championship\, September 10\nUSHJA 3’3″ Adult Gladstone Cup Equitation Classic\nUSHJA 3’3″ Adult Jumping Seat Medal Finals \ninfo: hitsshows.com \n  \nHITS Saugerties Series \nMay 19th – September 10th\, 2023 \n\nThe HITS Saugerties Series welcomes equestrians for nine weeks of events\, $3 million in prize money\, bi-weekly Grand Prix\, qualifiers for the HITS Championship\, USEF National-Rated Hunters\, 5* and 6* Jumpers\, and the VIP Club. The majestic Catskill Mountains provide a sweeping backdrop to this exciting series\, that has made its home at HITS-on-the-Hudson since 2004. In the fall\, the HITS Championship caps the HITS Saugerties Series with hunter and jumper finals and the HITS Saugerties Grand Prix.
URL:https://saugertiestourism.com/event/hits-championship/
LOCATION:HITS\, 454 Washington Avenue Extension\, Saugerties\, NY\, 12477\, United States
END:VEVENT
END:VCALENDAR