BEGIN:VCALENDAR
VERSION:2.0
PRODID:-//Saugerties Tourism - ECPv6.15.20//NONSGML v1.0//EN
CALSCALE:GREGORIAN
METHOD:PUBLISH
X-WR-CALNAME:Saugerties Tourism
X-ORIGINAL-URL:https://saugertiestourism.com
X-WR-CALDESC:Events for Saugerties Tourism
REFRESH-INTERVAL;VALUE=DURATION:PT1H
X-Robots-Tag:noindex
X-PUBLISHED-TTL:PT1H
BEGIN:VTIMEZONE
TZID:America/Halifax
BEGIN:DAYLIGHT
TZOFFSETFROM:-0400
TZOFFSETTO:-0300
TZNAME:ADT
DTSTART:20230312T060000
END:DAYLIGHT
BEGIN:STANDARD
TZOFFSETFROM:-0300
TZOFFSETTO:-0400
TZNAME:AST
DTSTART:20231105T050000
END:STANDARD
BEGIN:DAYLIGHT
TZOFFSETFROM:-0400
TZOFFSETTO:-0300
TZNAME:ADT
DTSTART:20240310T060000
END:DAYLIGHT
BEGIN:STANDARD
TZOFFSETFROM:-0300
TZOFFSETTO:-0400
TZNAME:AST
DTSTART:20241103T050000
END:STANDARD
BEGIN:DAYLIGHT
TZOFFSETFROM:-0400
TZOFFSETTO:-0300
TZNAME:ADT
DTSTART:20250309T060000
END:DAYLIGHT
BEGIN:STANDARD
TZOFFSETFROM:-0300
TZOFFSETTO:-0400
TZNAME:AST
DTSTART:20251102T050000
END:STANDARD
END:VTIMEZONE
BEGIN:VEVENT
DTSTART;TZID=America/Halifax:20240710T180000
DTEND;TZID=America/Halifax:20240710T203000
DTSTAMP:20260423T191032
CREATED:20240417T205720Z
LAST-MODIFIED:20240410T225736Z
UID:1749-1720634400-1720643400@saugertiestourism.com
SUMMARY:Arm of the Sea Theatre\, Waterfront Wednesdays
DESCRIPTION:Original puppet shows\, music performances\, informative workshops about local history\nand ecology of the Hudson Valley. Free public event -suggested donation $10
URL:https://saugertiestourism.com/event/arm-of-the-sea-theatre-waterfront-wednesdays-3/
LOCATION:Tidewater Center\, 61 East Bridge St\, Saugerties\, 12477\, United States
END:VEVENT
BEGIN:VEVENT
DTSTART;TZID=America/Halifax:20240710T180000
DTEND;TZID=America/Halifax:20240710T203000
DTSTAMP:20260423T191032
CREATED:20240410T210258Z
LAST-MODIFIED:20240410T210258Z
UID:1751-1720634400-1720643400@saugertiestourism.com
SUMMARY:Arm-of-the-Sea Theatre\, Waterfront Wednesdays
DESCRIPTION:Original puppet shows\, music performances\, informative workshops\nabout local history and the ecology of the Hudson Valley.\nFree to public\, Suggested donations $10
URL:https://saugertiestourism.com/event/arm-of-the-sea-theatre-waterfront-wednesdays-4/
LOCATION:Tidewater Center\, 61 East Bridge St\, Saugerties\, 12477\, United States
END:VEVENT
BEGIN:VEVENT
DTSTART;TZID=America/Halifax:20240707T130000
DTEND;TZID=America/Halifax:20240707T180000
DTSTAMP:20260423T191032
CREATED:20240102T214109Z
LAST-MODIFIED:20240102T214109Z
UID:1629-1720357200-1720375200@saugertiestourism.com
SUMMARY:Sawyer Car Show
DESCRIPTION:The Best Little Car Show in the Northeast\n7 live bands\, one on every corner\nLocated on Main & Partition Street in the Village of Saugerties
URL:https://saugertiestourism.com/event/sawyer-car-show-2/
LOCATION:Main & Partition Street\, Saugerties\, United States
END:VEVENT
BEGIN:VEVENT
DTSTART;TZID=America/Halifax:20240705T183000
DTEND;TZID=America/Halifax:20240705T200000
DTSTAMP:20260423T191032
CREATED:20240413T114012Z
LAST-MODIFIED:20240413T114012Z
UID:1785-1720204200-1720209600@saugertiestourism.com
SUMMARY:Sunset Concerts
DESCRIPTION:Sponsored by the Saugerties Chamber of Commerce
URL:https://saugertiestourism.com/event/sunset-concerts-3/
LOCATION:Tina Chorvas Park
END:VEVENT
BEGIN:VEVENT
DTSTART;TZID=America/Halifax:20240703T180000
DTEND;TZID=America/Halifax:20240703T203000
DTSTAMP:20260423T191032
CREATED:20240410T203923Z
LAST-MODIFIED:20240410T203923Z
UID:1746-1720029600-1720038600@saugertiestourism.com
SUMMARY:Arm-of-the-Sea Theatre\, Waterfront Wednesdays
DESCRIPTION:Original puppet shows\, music\, performances and informative workshops about\nlocal history and ecology of the Hudson Valley.
URL:https://saugertiestourism.com/event/arm-of-the-sea-theatre-waterfront-wednesdays-2/
LOCATION:Tidewater Center\, 61 East Bridge St\, Saugerties\, 12477\, United States
END:VEVENT
BEGIN:VEVENT
DTSTART;TZID=America/Halifax:20240630T100000
DTEND;TZID=America/Halifax:20240630T140000
DTSTAMP:20260423T191032
CREATED:20240625T174138Z
LAST-MODIFIED:20240625T174138Z
UID:1863-1719741600-1719756000@saugertiestourism.com
SUMMARY:Saugerties Farmers Market
DESCRIPTION:Located at 115 Market St\nOpen Saturdays 10-2 pm
URL:https://saugertiestourism.com/event/saugerties-farmers-market-15/
LOCATION:115 Main Street
END:VEVENT
BEGIN:VEVENT
DTSTART;TZID=America/Halifax:20240629T160000
DTEND;TZID=America/Halifax:20240629T190000
DTSTAMP:20260423T191032
CREATED:20240429T131423Z
LAST-MODIFIED:20240429T131423Z
UID:1800-1719676800-1719687600@saugertiestourism.com
SUMMARY:Danceable Projects\, Art Exhibit
DESCRIPTION:Located at 11 Jane Street Art Center\nOpening reception\, June 29\, 4-7 pm\nThurdays\, 12-5\, Fridays 12-6\, Sunday 12-5
URL:https://saugertiestourism.com/event/danceable-projects-art-exhibit/
LOCATION:Jane Street Art Center\, 11 Jane Street\, Saugerties\, NY\, 12477\, United States
END:VEVENT
BEGIN:VEVENT
DTSTART;TZID=America/Halifax:20240626T180000
DTEND;TZID=America/Halifax:20240626T203000
DTSTAMP:20260423T191032
CREATED:20240410T203018Z
LAST-MODIFIED:20240410T203018Z
UID:1744-1719424800-1719433800@saugertiestourism.com
SUMMARY:Arm -of-the Sea Theatre\, Waterfront Wednesdays
DESCRIPTION:Original puppet shows\, music performances\, informative workshops\nabout local history and ecology of the Hudson Valley.\nFree public event\, & suggested $10 donation
URL:https://saugertiestourism.com/event/arm-of-the-sea-theatre-waterfront-wednesdays/
LOCATION:Tidewater Center\, 61 East Bridge St\, Saugerties\, 12477\, United States
END:VEVENT
BEGIN:VEVENT
DTSTART;TZID=America/Halifax:20240619T180000
DTEND;TZID=America/Halifax:20240619T203000
DTSTAMP:20260423T191032
CREATED:20240410T201425Z
LAST-MODIFIED:20240410T204346Z
UID:1740-1718820000-1718829000@saugertiestourism.com
SUMMARY:Arm-of-the-Sea Theatre  \, Waterfront Wednesdays
DESCRIPTION:Original puppet shows\, music\, performances and informative workshops.\nFree public Event-suggested donation $10
URL:https://saugertiestourism.com/event/arm-of-the-sea-waterfront-wednesdays/
LOCATION:Tidewater Center\, 61 East Bridge St\, Saugerties\, 12477\, United States
END:VEVENT
BEGIN:VEVENT
DTSTART;TZID=America/Halifax:20240616T150000
DTEND;TZID=America/Halifax:20240616T160000
DTSTAMP:20260423T191032
CREATED:20240429T135231Z
LAST-MODIFIED:20240429T135231Z
UID:1811-1718550000-1718553600@saugertiestourism.com
SUMMARY:Saugerties Community Band
DESCRIPTION:Enjoy a free concert at Saugerties Historical Society\, 119 Main St\nDonations accepted
URL:https://saugertiestourism.com/event/saugerties-community-band/
LOCATION:119 Main St\, 119 Main St\, Saugerties\, NY\, 12477\, United States
END:VEVENT
BEGIN:VEVENT
DTSTART;TZID=America/Halifax:20240607T183000
DTEND;TZID=America/Halifax:20240607T200000
DTSTAMP:20260423T191032
CREATED:20240413T113358Z
LAST-MODIFIED:20240413T113358Z
UID:1783-1717785000-1717790400@saugertiestourism.com
SUMMARY:Sunset Concerts
DESCRIPTION:Sponsored by the Saugerties Chamber of Commerce\nHighlighting and supporting local musicians
URL:https://saugertiestourism.com/event/sunset-concerts-2/
LOCATION:Tina Chorvas Park
END:VEVENT
BEGIN:VEVENT
DTSTART;TZID=America/Halifax:20240601T110000
DTEND;TZID=America/Halifax:20240601T160000
DTSTAMP:20260423T191032
CREATED:20240304T210750Z
LAST-MODIFIED:20240304T210750Z
UID:1726-1717239600-1717257600@saugertiestourism.com
SUMMARY:Pride Family Party at Opus 40
DESCRIPTION:Drag storytime\, Bingo\, kids dance party\ndetails and sliding scale info at www.Opus40.org
URL:https://saugertiestourism.com/event/pride-family-party-at-opus-40/
LOCATION:Opus 40\, 50 Fite Road\, Saugerties\, 12477\, United States
END:VEVENT
BEGIN:VEVENT
DTSTART;TZID=America/Halifax:20240526T110000
DTEND;TZID=America/Halifax:20240526T140000
DTSTAMP:20260423T191032
CREATED:20240111T201640Z
LAST-MODIFIED:20240111T201640Z
UID:1655-1716721200-1716732000@saugertiestourism.com
SUMMARY:Saugerties Historical Society Museum
DESCRIPTION:Opening weekend\nSaturdays 11 am-2 pm\nSunday 1-4 pm
URL:https://saugertiestourism.com/event/saugerties-historical-society-museum/
LOCATION:119 Main St\, 119 Main St\, Saugerties\, NY\, 12477\, United States
END:VEVENT
BEGIN:VEVENT
DTSTART;TZID=America/Halifax:20240525T100000
DTEND;TZID=America/Halifax:20240525T140000
DTSTAMP:20260423T191032
CREATED:20240102T213007Z
LAST-MODIFIED:20240102T213007Z
UID:1623-1716631200-1716645600@saugertiestourism.com
SUMMARY:Saugerties Farmers Market
DESCRIPTION:Local Farmers & vendors\nLive music\nOpening weekend\, Saturdays\, 10 am-2 pm until end of October
URL:https://saugertiestourism.com/event/saugerties-farmers-market-14/
LOCATION:115 Main Street
END:VEVENT
BEGIN:VEVENT
DTSTART;TZID=America/Halifax:20240524T190000
DTEND;TZID=America/Halifax:20240524T220000
DTSTAMP:20260423T191032
CREATED:20240304T210310Z
LAST-MODIFIED:20240304T210310Z
UID:1724-1716577200-1716588000@saugertiestourism.com
SUMMARY:Spinal Tap\, Outdoor Movie\, Opus 40
DESCRIPTION:Upstate Films at Opus 40\nGeneral Admission $10\, Carpool Pass $30\, Seniors/Students-$8\, kids (5-16)\nDrinks by Stockade Tavern\, Food by Local Food vendors\nsnacks\, sodas\, popcorn via Upstate Films
URL:https://saugertiestourism.com/event/spinal-tap-outdoor-movie-opus-40/
LOCATION:Opus 40\, 50 Fite Road\, Saugerties\, 12477\, United States
END:VEVENT
BEGIN:VEVENT
DTSTART;TZID=America/Halifax:20240524T180000
DTEND;TZID=America/Halifax:20240524T223000
DTSTAMP:20260423T191032
CREATED:20240304T204227Z
LAST-MODIFIED:20240304T204227Z
UID:1720-1716573600-1716589800@saugertiestourism.com
SUMMARY:O Brother \, Where Art Thou\, Outdoor Movie
DESCRIPTION:Upstate Films at Opus 40L O’Brother Where Art Thou w/Slide Mountain Band\nGeneral Admission-$12\, Carpool Pass $36\, Seniors/Students-$10\, kids (5-16) $8
URL:https://saugertiestourism.com/event/o-brother-where-art-thou-outdoor-movie/
LOCATION:Opus 40\, 50 Fite Road\, Saugerties\, 12477\, United States
END:VEVENT
BEGIN:VEVENT
DTSTART;VALUE=DATE:20240524
DTEND;VALUE=DATE:20240904
DTSTAMP:20260423T191032
CREATED:20240111T202536Z
LAST-MODIFIED:20240111T202611Z
UID:1658-1716508800-1725407999@saugertiestourism.com
SUMMARY:Groovin' Around Saugerties
DESCRIPTION:16th Annual Art Display\n35 Hippie buses painted by local artists on the streets of\nthe Town & Village to tie in with the 30th anniv of Woodstock 94.\nMay 24- September 3\nSponsored by the Saugerties Chamber of Commerce.
URL:https://saugertiestourism.com/event/groovin-around-saugerties/
LOCATION:Village & Town of Saugerties
END:VEVENT
BEGIN:VEVENT
DTSTART;VALUE=DATE:20240522
DTEND;VALUE=DATE:20240527
DTSTAMP:20260423T191032
CREATED:20240125T143013Z
LAST-MODIFIED:20240125T150209Z
UID:1672-1716336000-1716767999@saugertiestourism.com
SUMMARY:HITS-on-the-Hudson I
DESCRIPTION:Entry I Schedule
URL:https://saugertiestourism.com/event/spring-series-hits-on-the-hudson-2/
LOCATION:HITS-on-Hudson\, 454 Washington Avenue\, Saugerties\, NY\, 12477\, United States
END:VEVENT
BEGIN:VEVENT
DTSTART;TZID=America/Halifax:20240518T160000
DTEND;TZID=America/Halifax:20240518T190000
DTSTAMP:20260423T191032
CREATED:20240429T130728Z
LAST-MODIFIED:20240429T131645Z
UID:1798-1716048000-1716058800@saugertiestourism.com
SUMMARY:Suprina\, Art Exhibit
DESCRIPTION:Located at 11 Jane Street Art Center\nOpening reception\, May 18\, 4-7 pm\nExhibit open\, Thursdays 12-5\, Friday & Saturdays 12-6\, Sundays 12-5
URL:https://saugertiestourism.com/event/suprina-art-exhibit/
LOCATION:Jane Street Art Center\, 11 Jane Street\, Saugerties\, NY\, 12477\, United States
END:VEVENT
BEGIN:VEVENT
DTSTART;VALUE=DATE:20240517
DTEND;VALUE=DATE:20240520
DTSTAMP:20260423T191032
CREATED:20240125T161422Z
LAST-MODIFIED:20240125T161907Z
UID:1679-1715904000-1716163199@saugertiestourism.com
SUMMARY:HITS -on-the Hudson III
DESCRIPTION:
URL:https://saugertiestourism.com/event/spring-series-hits-on-the-hudson-3/
LOCATION:310 Washington Ave.\, Saugerties\, 12477\, United States
END:VEVENT
BEGIN:VEVENT
DTSTART;VALUE=DATE:20240517
DTEND;VALUE=DATE:20240520
DTSTAMP:20260423T191032
CREATED:20240125T123701Z
LAST-MODIFIED:20240125T123701Z
UID:1668-1715904000-1716163199@saugertiestourism.com
SUMMARY:Spring Series\, HITS on the Hudson
DESCRIPTION:Sprig Premiere May 17-19 Entry I Schedule
URL:https://saugertiestourism.com/event/spring-series-hits-on-the-hudson/
LOCATION:HITS on the Hudson\, 454 Washington Avenue\, Saugerties\, 12477\, United States
END:VEVENT
BEGIN:VEVENT
DTSTART;TZID=America/Halifax:20240512T173000
DTEND;TZID=America/Halifax:20240512T203000
DTSTAMP:20260423T191032
CREATED:20240304T203345Z
LAST-MODIFIED:20240304T203345Z
UID:1717-1715535000-1715545800@saugertiestourism.com
SUMMARY:Chosen Family Presents: Colin Stetson
DESCRIPTION:General Admission-$25\, Car Pool Pass-$65\, kids (5-16) $15
URL:https://saugertiestourism.com/event/chosen-family-presents-colin-stetson/
LOCATION:Opus 40\, 50 Fite Road\, Saugerties\, 12477\, United States
END:VEVENT
BEGIN:VEVENT
DTSTART;TZID=America/Halifax:20240509T180000
DTEND;TZID=America/Halifax:20240509T203000
DTSTAMP:20260423T191032
CREATED:20240304T202915Z
LAST-MODIFIED:20240304T202915Z
UID:1714-1715277600-1715286600@saugertiestourism.com
SUMMARY:Chosen Family Presents:Meridian Brothers\, Opus 40
DESCRIPTION:General Admission $25\, Carpool Pass $65\, kids (5-16) $15
URL:https://saugertiestourism.com/event/catskill-mountain-shakespeare-the-tempest/
LOCATION:Opus 40\, 50 Fite Road\, Saugerties\, 12477\, United States
END:VEVENT
BEGIN:VEVENT
DTSTART;TZID=America/Halifax:20240504T160000
DTEND;TZID=America/Halifax:20240506T210000
DTSTAMP:20260423T191032
CREATED:20240213T014259Z
LAST-MODIFIED:20240213T014530Z
UID:1698-1714838400-1715029200@saugertiestourism.com
SUMMARY:Saugerties Animal Shelter Blue Jean Ball
DESCRIPTION:Located at Fortune Valley Manor\, 248 Old Stage Road\nto benefit the Saugerties Animal Shelter\nFMI: saugertiesanimalshelter2017@gmail.com\nTickets $125.00 each\, available at saugertiesanimalshelter.networkforgood.com
URL:https://saugertiestourism.com/event/spring-series-hits-on-the-hudson-4/
LOCATION:Fortune Valley Manor\, 248 Old Stage Road\, Saugerties\, 12477\, United States
ORGANIZER;CN="Saugerties Animal Shelter":MAILTO:gmonfett@hvc.rr.com
END:VEVENT
BEGIN:VEVENT
DTSTART;TZID=America/Halifax:20240504T070000
DTEND;TZID=America/Halifax:20240504T130000
DTSTAMP:20260423T191032
CREATED:20240411T001137Z
LAST-MODIFIED:20240411T001137Z
UID:1771-1714806000-1714827600@saugertiestourism.com
SUMMARY:Andrew Mullen Trout Fishing Derby
DESCRIPTION:Trout fishing Derby held to raise funds for scholarships in honor of Andrew Mullen.\nFishing\, raffles\, food\, trophies for children 0-18\nMinimum $10 donation per person\n7:00 Registration\n7:30\, Fishing begins\n12:00-Weigh in\, 12:30 award ceremony
URL:https://saugertiestourism.com/event/andrew-mullen-trout-fishing-derby/
LOCATION:225 Cole Bank Rd.\, 225 Cole Bank Rd.\, Saugerties\, 12477\, United States
END:VEVENT
BEGIN:VEVENT
DTSTART;TZID=America/Halifax:20240428T130000
DTEND;TZID=America/Halifax:20240428T143000
DTSTAMP:20260423T191032
CREATED:20240304T201803Z
LAST-MODIFIED:20240304T201803Z
UID:1712-1714309200-1714314600@saugertiestourism.com
SUMMARY:Catskill Mountain Shakespeare: The Tempest\, Opus 40
DESCRIPTION:1:00 pm-2:30pm\nGeneral admission $12\, Seniors/Students/Youth $10\, Kids (5 and under) $5\n12 pm gates open
URL:https://saugertiestourism.com/event/catskill-mountain-shakespeare-the-tempest-opus-40/
LOCATION:Opus 40\, 50 Fite Road\, Saugerties\, 12477\, United States
END:VEVENT
BEGIN:VEVENT
DTSTART;TZID=America/Halifax:20240421T150000
DTEND;TZID=America/Halifax:20240421T163000
DTSTAMP:20260423T191032
CREATED:20240213T015608Z
LAST-MODIFIED:20240213T015608Z
UID:1704-1713711600-1713717000@saugertiestourism.com
SUMMARY:Hudson Valley Chamber Musicians
DESCRIPTION:Classical Woodwind Quintet\nTickets $20
URL:https://saugertiestourism.com/event/hudson-valley-chamber-musicians/
LOCATION:Saugerties Reformed Church\, 173 Main St. \, Saugerties\, NY\, 12477\, United States
END:VEVENT
BEGIN:VEVENT
DTSTART;TZID=America/Halifax:20240414T070000
DTEND;TZID=America/Halifax:20240414T110000
DTSTAMP:20260423T191032
CREATED:20240411T001517Z
LAST-MODIFIED:20240411T001517Z
UID:1774-1713078000-1713092400@saugertiestourism.com
SUMMARY:Andrew Mullen Pancake Breakfast
DESCRIPTION:Breakfast to support the Andrew Mullen Scholarship Award\n$12 for ages 12 and up\n$10 for ages 7-11\n6 and under free
URL:https://saugertiestourism.com/event/andrew-mullen-pancake-breakfast/
LOCATION:the R.Y.A.N. House\, 19 Barclay Street\, Saugerties\, 12477\, United States
END:VEVENT
BEGIN:VEVENT
DTSTART;TZID=America/Halifax:20240413T120000
DTEND;TZID=America/Halifax:20240511T170000
DTSTAMP:20260423T191032
CREATED:20240429T040015Z
LAST-MODIFIED:20240429T131845Z
UID:1796-1713009600-1715446800@saugertiestourism.com
SUMMARY:Off The Charts-Medical Art & Internal Body Art Exhibit
DESCRIPTION:Located at 11 Jane Street Art Center\nPanel Discussion\, May 4\, 2-4 pm\nGallery open\, Thursdays 12-5\, Friday & Saturdays 12-6\, Sundays 12-5
URL:https://saugertiestourism.com/event/off-the-charts-medical-art-internal-body-art-exhibit/
LOCATION:Jane Street Art Center\, 11 Jane Street\, Saugerties\, NY\, 12477\, United States
END:VEVENT
BEGIN:VEVENT
DTSTART;TZID=America/Halifax:20240317T080000
DTEND;TZID=America/Halifax:20240317T170000
DTSTAMP:20260423T191032
CREATED:20240102T212548Z
LAST-MODIFIED:20240102T212548Z
UID:1621-1710662400-1710694800@saugertiestourism.com
SUMMARY:Signs of Spring Nature Walk
DESCRIPTION:Sponsored by the Esopus Creek Conservancy
URL:https://saugertiestourism.com/event/signs-of-spring-nature-walk/
LOCATION:Esopus Creek Conservancy\, 10 Shady Lany\, Saugerties\, NY\, United States
ORGANIZER;CN="Esopus Creek Conservancy":MAILTO:info@esopuscreekconservancy.org
END:VEVENT
END:VCALENDAR