BEGIN:VCALENDAR
VERSION:2.0
PRODID:-//Saugerties Tourism - ECPv6.15.20//NONSGML v1.0//EN
CALSCALE:GREGORIAN
METHOD:PUBLISH
X-WR-CALNAME:Saugerties Tourism
X-ORIGINAL-URL:https://saugertiestourism.com
X-WR-CALDESC:Events for Saugerties Tourism
REFRESH-INTERVAL;VALUE=DURATION:PT1H
X-Robots-Tag:noindex
X-PUBLISHED-TTL:PT1H
BEGIN:VTIMEZONE
TZID:America/Halifax
BEGIN:DAYLIGHT
TZOFFSETFROM:-0400
TZOFFSETTO:-0300
TZNAME:ADT
DTSTART:20240310T060000
END:DAYLIGHT
BEGIN:STANDARD
TZOFFSETFROM:-0300
TZOFFSETTO:-0400
TZNAME:AST
DTSTART:20241103T050000
END:STANDARD
BEGIN:DAYLIGHT
TZOFFSETFROM:-0400
TZOFFSETTO:-0300
TZNAME:ADT
DTSTART:20250309T060000
END:DAYLIGHT
BEGIN:STANDARD
TZOFFSETFROM:-0300
TZOFFSETTO:-0400
TZNAME:AST
DTSTART:20251102T050000
END:STANDARD
BEGIN:DAYLIGHT
TZOFFSETFROM:-0400
TZOFFSETTO:-0300
TZNAME:ADT
DTSTART:20260308T060000
END:DAYLIGHT
BEGIN:STANDARD
TZOFFSETFROM:-0300
TZOFFSETTO:-0400
TZNAME:AST
DTSTART:20261101T050000
END:STANDARD
BEGIN:DAYLIGHT
TZOFFSETFROM:-0400
TZOFFSETTO:-0300
TZNAME:ADT
DTSTART:20270314T060000
END:DAYLIGHT
BEGIN:STANDARD
TZOFFSETFROM:-0300
TZOFFSETTO:-0400
TZNAME:AST
DTSTART:20271107T050000
END:STANDARD
END:VTIMEZONE
BEGIN:VEVENT
DTSTART;TZID=America/Halifax:20260213T200000
DTEND;TZID=America/Halifax:20260213T220000
DTSTAMP:20260422T192537
CREATED:20260118T212328Z
LAST-MODIFIED:20260118T212328Z
UID:2170-1771012800-1771020000@saugertiestourism.com
SUMMARY:Karen Mantler Trio
DESCRIPTION:Composer\, vocalist and multi-instrumentalist returns to the stage with her collection of songs about current times.\nTickets $29.87
URL:https://saugertiestourism.com/event/karen-mantler-trio/
LOCATION:The Local Saugerties\, 16 John St\, Saugerties\, NY\, 12477\, United States
END:VEVENT
BEGIN:VEVENT
DTSTART;TZID=America/Halifax:20260208T150000
DTEND;TZID=America/Halifax:20260208T170000
DTSTAMP:20260422T192537
CREATED:20260121T175758Z
LAST-MODIFIED:20260129T180014Z
UID:2183-1770562800-1770570000@saugertiestourism.com
SUMMARY:Saugerties Pro Musica\, Free Piano Trio
DESCRIPTION:The Crystalline Collective\, piano trio\nDonations accepted
URL:https://saugertiestourism.com/event/saugerties-pro-musica-free-piano-trio/
LOCATION:Saugerties United Methodist Church\, 59 Post Street\, Saugerties\, 12477\, United States
END:VEVENT
BEGIN:VEVENT
DTSTART;TZID=America/Halifax:20260207T160000
DTEND;TZID=America/Halifax:20260207T180000
DTSTAMP:20260422T192537
CREATED:20260121T180331Z
LAST-MODIFIED:20260121T180331Z
UID:2185-1770480000-1770487200@saugertiestourism.com
SUMMARY:Woodstock Film Festival presents "THE KNIFE"
DESCRIPTION:Woodstock Film Festival present “The Knife”\nfollowed by a Q &A with Academy Award Winner Melissa Leo\, moderated by Nicole Quinn\nTickets available at https://buff.ly/VIOSZ9C
URL:https://saugertiestourism.com/event/woodstock-film-festival-presents-the-knife/
LOCATION:Saugerties Orpheum Theatre\, 156 Main Street\, Saugerties\, NY\, 12477\, United States
END:VEVENT
BEGIN:VEVENT
DTSTART;TZID=America/Halifax:20251213T150000
DTEND;TZID=America/Halifax:20251213T170000
DTSTAMP:20260422T192537
CREATED:20251113T152356Z
LAST-MODIFIED:20251113T152356Z
UID:2133-1765638000-1765645200@saugertiestourism.com
SUMMARY:Brian Mitchell & Friends benefit concert
DESCRIPTION:Saugerties Celebration of Harmony present Brian Mitchell & friends to\nbenefit Saugerties Area Food Pantries\nSponsored by Helsmoortel Insurance\, sawyer Motors\, Saugerties VFW Post 5034\, Blue Kats & Praetorius & Conrad PC
URL:https://saugertiestourism.com/event/brian-mitchell-friends-benefit-concert/
LOCATION:Saugerties Reformed Church\, 173 Main St. \, Saugerties\, NY\, 12477\, United States
END:VEVENT
BEGIN:VEVENT
DTSTART;TZID=America/Halifax:20251207T120000
DTEND;TZID=America/Halifax:20251207T180000
DTSTAMP:20260422T192537
CREATED:20251113T151900Z
LAST-MODIFIED:20251113T151900Z
UID:2131-1765108800-1765130400@saugertiestourism.com
SUMMARY:Holiday In the Village
DESCRIPTION:Sponsored by the Saugerties Chamber of Commerce\nThree toy raffles at Reis parking lot\nSanta & Elf at Dutch Barn at Kiersted house-12-3 pm\nFree Horse & wagon Rides by Ray & Carol Mayone\nLighted Fire truck Parade\nFestival of Trees at Saugerties Library\nSee DiscoverSaugerties.com for more details
URL:https://saugertiestourism.com/event/holiday-in-the-village-4/
LOCATION:Village Saugerties\, United States
END:VEVENT
BEGIN:VEVENT
DTSTART;TZID=America/Halifax:20251206T140000
DTEND;TZID=America/Halifax:20251206T160000
DTSTAMP:20260422T192537
CREATED:20251113T145544Z
LAST-MODIFIED:20251113T145544Z
UID:2128-1765029600-1765036800@saugertiestourism.com
SUMMARY:Woodstock Film Festival/ Upstate Films present "After the Hunt"
DESCRIPTION:Free screening of Luca Guadagnino’s “After the Hunt”\nRSVP- https://buff.ly/OpwnBV
URL:https://saugertiestourism.com/event/woodstock-film-festival-upstate-films-present-after-the-hunt/
LOCATION:Saugerties Orpheum Theatre\, 156 Main Street\, Saugerties\, NY\, 12477\, United States
END:VEVENT
BEGIN:VEVENT
DTSTART;TZID=America/Halifax:20251129T180000
DTEND;TZID=America/Halifax:20251129T200000
DTSTAMP:20260422T192537
CREATED:20251113T144217Z
LAST-MODIFIED:20251113T144217Z
UID:2123-1764439200-1764446400@saugertiestourism.com
SUMMARY:Sawyer Automotive Foundation & Hope Rocks present Mike Farris
DESCRIPTION:Concert to benefit Hudson Valley Veterans Reintegration Center & Kiwanis Key Club Backpack program\nTickets are $25 and available on-line at Hope Rocks or in person at Sawyer Motors
URL:https://saugertiestourism.com/event/sawyer-automotive-foundation-hope-rocks-present-mike-farris/
LOCATION:Saugerties High School
END:VEVENT
BEGIN:VEVENT
DTSTART;TZID=America/Halifax:20251116T143000
DTEND;TZID=America/Halifax:20251116T170000
DTSTAMP:20260422T192537
CREATED:20251113T145007Z
LAST-MODIFIED:20251113T145007Z
UID:2126-1763303400-1763312400@saugertiestourism.com
SUMMARY:Saugerties Pro Musica
DESCRIPTION:Itay Goren-piano with members of the Madison string Quartet\nThe “Trout” concert with special guest Steven Scheschareg (baritone)\nConcert is free. Donations are accepted\nThere will be a reception to meet the musicians following the performance\nSite is wheel chair accessible\nwww.saugertiespromusica.org
URL:https://saugertiestourism.com/event/saugerties-pro-musica-7/
LOCATION:Saugerties United Methodist Church\, 59 Post Street\, Saugerties\, 12477\, United States
END:VEVENT
BEGIN:VEVENT
DTSTART;TZID=America/Halifax:20251005T120000
DTEND;TZID=America/Halifax:20251005T170000
DTSTAMP:20260422T192537
CREATED:20241231T001757Z
LAST-MODIFIED:20241231T001757Z
UID:1984-1759665600-1759683600@saugertiestourism.com
SUMMARY:Mum Festival
DESCRIPTION:Organized by the Village of Saugerties\, this year will be the 216th anniversary of the festival.\nFMI; contact Jeannine Mayer at jmmayer@hvc.rr.com\nArt Show\, Vendors\, Live Music\, hundreds of Mums
URL:https://saugertiestourism.com/event/mum-festival-3/
LOCATION:Seamon Park\, 5 Malden Avenue\, Saugerties\, NY\, 12477\, United States
END:VEVENT
BEGIN:VEVENT
DTSTART;TZID=America/Halifax:20250928T130000
DTEND;TZID=America/Halifax:20250928T160000
DTSTAMP:20260422T192537
CREATED:20250820T162124Z
LAST-MODIFIED:20250820T162124Z
UID:2108-1759064400-1759075200@saugertiestourism.com
SUMMARY:Burlesque Drawing Cafe with Tryst La Noir
DESCRIPTION:Join us at Jane Street Art Center for Burlesque drawing Cafe with Tryst La Noir\,\nan exciting way to combine art and performance\nSign up on the website-single class for $40\, if you buy all three its $100\, limited seats available
URL:https://saugertiestourism.com/event/burlesque-drawing-cafe-with-tryst-la-noir/
LOCATION:Jane Street Art Center\, 11 Jane Street\, Saugerties\, NY\, 12477\, United States
ORGANIZER;CN="Jane Street Art Center":MAILTO:info@11janestartcenter.com
END:VEVENT
BEGIN:VEVENT
DTSTART;TZID=America/Halifax:20250928T100000
DTEND;TZID=America/Halifax:20250928T170000
DTSTAMP:20260422T192537
CREATED:20241230T232216Z
LAST-MODIFIED:20241230T232216Z
UID:1955-1759053600-1759078800@saugertiestourism.com
SUMMARY:Hudson Valley Garlic Festival
DESCRIPTION:FMI: hvgf.org
URL:https://saugertiestourism.com/event/hudson-valley-garlic-festival-6/
LOCATION:Cantine Veterans Memorial Field
END:VEVENT
BEGIN:VEVENT
DTSTART;TZID=America/Halifax:20250927T100000
DTEND;TZID=America/Halifax:20250927T180000
DTSTAMP:20260422T192537
CREATED:20241230T232517Z
LAST-MODIFIED:20241230T232517Z
UID:1957-1758967200-1758996000@saugertiestourism.com
SUMMARY:Hudson Valley Garlic Festival
DESCRIPTION:FMI: hvgf.org
URL:https://saugertiestourism.com/event/hudson-valley-garlic-festival-7/
LOCATION:Cantine Veterans Memorial Field
END:VEVENT
BEGIN:VEVENT
DTSTART;TZID=America/Halifax:20250921T150000
DTEND;TZID=America/Halifax:20250921T160000
DTSTAMP:20260422T192537
CREATED:20250820T163318Z
LAST-MODIFIED:20250820T163318Z
UID:2114-1758466800-1758470400@saugertiestourism.com
SUMMARY:End of Summer Lawn Concert
DESCRIPTION:Enjoy the final days of Summer listening to the Saugerties Community Band\non the front lawn of the historic Kiersted house.\nno charge but donations accepted
URL:https://saugertiestourism.com/event/end-of-summer-lawn-concert/
LOCATION:119 Main St\, 119 Main St\, Saugerties\, NY\, 12477\, United States
END:VEVENT
BEGIN:VEVENT
DTSTART;TZID=America/Halifax:20250920T160000
DTEND;TZID=America/Halifax:20250920T180000
DTSTAMP:20260422T192537
CREATED:20250820T160645Z
LAST-MODIFIED:20250820T160645Z
UID:2103-1758384000-1758391200@saugertiestourism.com
SUMMARY:Opening reception\, Marking Time Art Exhibit\, Jane Street Center
DESCRIPTION:Opening reception\, Marking Time Art Exhibit\nTime is the framework for my drawing and painting practice.\nIn working with the figure\, I seek to capture both a moment and the internal landscape of the sitter.
URL:https://saugertiestourism.com/event/opening-reception-marking-time-art-exhibit-jane-street-center/
LOCATION:Jane Street Art Center\, 11 Jane Street\, Saugerties\, NY\, 12477\, United States
ORGANIZER;CN="Jane Street Art Center":MAILTO:info@11janestartcenter.com
END:VEVENT
BEGIN:VEVENT
DTSTART;TZID=America/Halifax:20250914T150000
DTEND;TZID=America/Halifax:20250914T180000
DTSTAMP:20260422T192537
CREATED:20250205T213324Z
LAST-MODIFIED:20250205T213324Z
UID:1994-1757862000-1757872800@saugertiestourism.com
SUMMARY:Barkin' Around Saugerties auction
DESCRIPTION:music\, light fair &wine followed by auction of 35 artist painted dogs\nLocation-TBA
URL:https://saugertiestourism.com/event/barkin-around-saugerties-auction/
END:VEVENT
BEGIN:VEVENT
DTSTART;TZID=America/Halifax:20250905T150000
DTEND;TZID=America/Halifax:20250905T180000
DTSTAMP:20260422T192537
CREATED:20250820T161350Z
LAST-MODIFIED:20250820T161350Z
UID:2106-1757084400-1757095200@saugertiestourism.com
SUMMARY:Figure Drawing/Long Pose Open Studio
DESCRIPTION:figure Drawing /Long Pose Open Studio\n$25 drop-in\, $80 ($20 a class )for 4 week session punch card\n845-217-5715 for more info
URL:https://saugertiestourism.com/event/figure-drawing-long-pose-open-studio/
LOCATION:Jane Street Art Center\, 11 Jane Street\, Saugerties\, NY\, 12477\, United States
ORGANIZER;CN="Jane Street Art Center":MAILTO:info@11janestartcenter.com
END:VEVENT
BEGIN:VEVENT
DTSTART;TZID=America/Halifax:20250830T110000
DTEND;TZID=America/Halifax:20250830T123000
DTSTAMP:20260422T192537
CREATED:20250820T163005Z
LAST-MODIFIED:20250820T163005Z
UID:2112-1756551600-1756557000@saugertiestourism.com
SUMMARY:Geology Walk with Dr. Robert Titus at Opus 40
DESCRIPTION:From mushrooms to geological history to fascinating facts about our landscapes.
URL:https://saugertiestourism.com/event/geology-walk-with-dr-robert-titus-at-opus-40/
LOCATION:Opus 40\, 40 Fite Road\, Saugerties\, NY\, 12477\, United States
END:VEVENT
BEGIN:VEVENT
DTSTART;TZID=America/Halifax:20250823T090000
DTEND;TZID=America/Halifax:20250823T150000
DTSTAMP:20260422T192537
CREATED:20250820T162616Z
LAST-MODIFIED:20250820T162616Z
UID:2110-1755939600-1755961200@saugertiestourism.com
SUMMARY:Town Wide Yard Sale
DESCRIPTION:Yard sales throughout Saugerties to benefit the\nSaugerties Splash Pad project\nFor listings -Town of Saugerties website\, Saugerties Tourism & Town of Saugerties Facebook page.
URL:https://saugertiestourism.com/event/town-wide-yard-sale/
END:VEVENT
BEGIN:VEVENT
DTSTART;VALUE=DATE:20250823
DTEND;VALUE=DATE:20250824
DTSTAMP:20260422T192537
CREATED:20250423T205443Z
LAST-MODIFIED:20250423T205443Z
UID:2073-1755907200-1755993599@saugertiestourism.com
SUMMARY:Rock the Quarry at Opus 40
DESCRIPTION:A music festival with extraordinary lineup of Hudson Valley artists under the stars\nat Opus 40 featuring: Gail Ann Dorsey\, Simi Stone\, Ginger Winn\, Kendra Mckinley and more!\nRain date-August 24
URL:https://saugertiestourism.com/event/rock-the-quarry-at-opus-40/
LOCATION:Opus 40\, 40 Fite Road\, Saugerties\, NY\, 12477\, United States
END:VEVENT
BEGIN:VEVENT
DTSTART;TZID=America/Halifax:20250817T180000
DTEND;TZID=America/Halifax:20250817T210000
DTSTAMP:20260422T192537
CREATED:20250423T204739Z
LAST-MODIFIED:20250423T204739Z
UID:2071-1755453600-1755464400@saugertiestourism.com
SUMMARY:Zydeco Dance Psarty: C.J. Chenier & Red Hot Louisiana Band
DESCRIPTION:C.J. Chenier is Creole music royalty and delivers soulful vocals along with jaw-dropping masterful accordion-driven\nrock\, zydeco and blues.\nCost-$30 in advance\, $35 at door
URL:https://saugertiestourism.com/event/zydeco-dance-psarty-c-j-chenier-red-hot-louisiana-band/
LOCATION:Opus 40\, 50 Fite Road\, Saugerties\, 12477\, United States
END:VEVENT
BEGIN:VEVENT
DTSTART;TZID=America/Halifax:20250810T100000
DTEND;TZID=America/Halifax:20250810T180000
DTSTAMP:20260422T192537
CREATED:20241230T235756Z
LAST-MODIFIED:20241230T235756Z
UID:1976-1754820000-1754848800@saugertiestourism.com
SUMMARY:Saugerties Artist Studio Tour
DESCRIPTION:Visit Saugerties Artist Studio Tour
URL:https://saugertiestourism.com/event/saugerties-artist-studio-tour-3/
ORGANIZER;CN="Saugerties Artist Studio  Tour":MAILTO:saugertiesarttour@gmail.com
END:VEVENT
BEGIN:VEVENT
DTSTART;TZID=America/Halifax:20250809T100000
DTEND;TZID=America/Halifax:20250809T180000
DTSTAMP:20260422T192537
CREATED:20241230T235351Z
LAST-MODIFIED:20241230T235351Z
UID:1974-1754733600-1754762400@saugertiestourism.com
SUMMARY:Saugerties Artist Studio Tour
DESCRIPTION:Visit open Studio’s on Saugerties Artist Tour
URL:https://saugertiestourism.com/event/saugerties-artist-studio-tour/
END:VEVENT
BEGIN:VEVENT
DTSTART;TZID=America/Halifax:20250803T180000
DTEND;TZID=America/Halifax:20250803T220000
DTSTAMP:20260422T192537
CREATED:20250423T204029Z
LAST-MODIFIED:20250423T204029Z
UID:2069-1754244000-1754258400@saugertiestourism.com
SUMMARY:BCBC (Bantu Continua Uhuru Consciousness)
DESCRIPTION:Soweto\, South African Afro-psychedelic consciousness raisers are a powerful collective with drums\, percussion\,bass\, whistles\,\nhorns\, and vocals. Rebellious\, spriritual\, and exhilarating\, BCUC’s live shows become a transcendent rite with influences from hip-hop\, punk\,\nrock\,funk\, gospel and Afrobeat\, but also indigenous spiritual practices and magic.\nCost $30 in advance\, $35 at door
URL:https://saugertiestourism.com/event/bcbc-bantu-continua-uhuru-consciousness/
LOCATION:Opus 40\, 40 Fite Road\, Saugerties\, NY\, 12477\, United States
END:VEVENT
BEGIN:VEVENT
DTSTART;TZID=America/Halifax:20250727T130000
DTEND;TZID=America/Halifax:20250727T170000
DTSTAMP:20260422T192537
CREATED:20241230T235027Z
LAST-MODIFIED:20241230T235027Z
UID:1972-1753621200-1753635600@saugertiestourism.com
SUMMARY:Art in the Barn
DESCRIPTION:Saugerties Artist Studio Tour/Gallery hours
URL:https://saugertiestourism.com/event/art-in-the-barn-7/
LOCATION:The Dutch Barn at Kiersted House\, 119 Main Street\, Saugerties\, NY\, 12477
ORGANIZER;CN="Saugerties Artist Studio Artist Tour":MAILTO:saugertiesarttour@gmail.com
END:VEVENT
BEGIN:VEVENT
DTSTART;TZID=America/Halifax:20250726T100000
DTEND;TZID=America/Halifax:20250726T170000
DTSTAMP:20260422T192537
CREATED:20241230T234748Z
LAST-MODIFIED:20241230T234804Z
UID:1969-1753524000-1753549200@saugertiestourism.com
SUMMARY:Art in the Barn
DESCRIPTION:Saugerties Artist Studio Tour/ Gallery hours
URL:https://saugertiestourism.com/event/art-in-the-barn-6/
LOCATION:The Dutch Barn at Kiersted House\, 119 Main Street\, Saugerties\, NY\, 12477
ORGANIZER;CN="Saugerties Artist Studio Artist Tour":MAILTO:saugertiesarttour@gmail.com
END:VEVENT
BEGIN:VEVENT
DTSTART;TZID=America/Halifax:20250720T130000
DTEND;TZID=America/Halifax:20250720T160000
DTSTAMP:20260422T192537
CREATED:20241230T234327Z
LAST-MODIFIED:20241230T234413Z
UID:1967-1753016400-1753027200@saugertiestourism.com
SUMMARY:Art in the Barn
DESCRIPTION:Saugerties Artist Studio tour/Gallery hours
URL:https://saugertiestourism.com/event/art-in-the-barn-5/
LOCATION:The Dutch Barn at Kiersted House\, 119 Main Street\, Saugerties\, NY\, 12477
ORGANIZER;CN="Saugerties Artist Studio Artist Tour":MAILTO:saugertiesarttour@gmail.com
END:VEVENT
BEGIN:VEVENT
DTSTART;TZID=America/Halifax:20250719T110000
DTEND;TZID=America/Halifax:20250719T170000
DTSTAMP:20260422T192537
CREATED:20241230T234046Z
LAST-MODIFIED:20241230T234046Z
UID:1965-1752922800-1752944400@saugertiestourism.com
SUMMARY:Art in the Barn
DESCRIPTION:Saugerties Artist Studio Tour/Gallery
URL:https://saugertiestourism.com/event/art-in-the-barn-4/
LOCATION:The Dutch Barn at Kiersted House\, 119 Main Street\, Saugerties\, NY\, 12477
ORGANIZER;CN="Saugerties Artist Studio Artist Tour":MAILTO:saugertiesarttour@gmail.com
END:VEVENT
BEGIN:VEVENT
DTSTART;TZID=America/Halifax:20250718T200000
DTEND;TZID=America/Halifax:20250718T220000
DTSTAMP:20260422T192537
CREATED:20250423T200514Z
LAST-MODIFIED:20250423T200514Z
UID:2067-1752868800-1752876000@saugertiestourism.com
SUMMARY:Cumbia : Yeison Landero
DESCRIPTION:Yeison Landero\, from Colombia’s Caribbean coast\, is called ‘el heredero de la cumbia-the heir\nto cumbia-as his grandfather founded the cumbia genre.
URL:https://saugertiestourism.com/event/cumbia-yeison-landero/
LOCATION:Opus 40\, 40 Fite Road\, Saugerties\, NY\, 12477\, United States
END:VEVENT
BEGIN:VEVENT
DTSTART;TZID=America/Halifax:20250716T180000
DTEND;TZID=America/Halifax:20250716T203000
DTSTAMP:20260422T192537
CREATED:20250407T004825Z
LAST-MODIFIED:20250407T004825Z
UID:2041-1752688800-1752697800@saugertiestourism.com
SUMMARY:Waterfront Wednesdays @Tidewater Center
DESCRIPTION:Weekly series featuring live performances\, hands on art projects and workshops\n$10.00 suggested donation
URL:https://saugertiestourism.com/event/waterfront-wednesdays-tidewater-center/
LOCATION:Tidewater Center\, 61 East Bridge St\, Saugerties\, 12477\, United States
END:VEVENT
BEGIN:VEVENT
DTSTART;TZID=America/Halifax:20250713T130000
DTEND;TZID=America/Halifax:20250713T180000
DTSTAMP:20260422T192537
CREATED:20250205T214458Z
LAST-MODIFIED:20250205T214458Z
UID:2002-1752411600-1752429600@saugertiestourism.com
SUMMARY:Sawyer Car Show
DESCRIPTION:Four live bands\, cars located on Main & Partition Street\nOne of the largest Car show in the Northeast.
URL:https://saugertiestourism.com/event/sawyer-car-show-4/
LOCATION:Main & Partition Street\, Saugerties\, United States
END:VEVENT
END:VCALENDAR