BEGIN:VCALENDAR
VERSION:2.0
PRODID:-//Saugerties Tourism - ECPv6.15.20//NONSGML v1.0//EN
CALSCALE:GREGORIAN
METHOD:PUBLISH
X-ORIGINAL-URL:https://saugertiestourism.com
X-WR-CALDESC:Events for Saugerties Tourism
REFRESH-INTERVAL;VALUE=DURATION:PT1H
X-Robots-Tag:noindex
X-PUBLISHED-TTL:PT1H
BEGIN:VTIMEZONE
TZID:America/Halifax
BEGIN:DAYLIGHT
TZOFFSETFROM:-0400
TZOFFSETTO:-0300
TZNAME:ADT
DTSTART:20250309T060000
END:DAYLIGHT
BEGIN:STANDARD
TZOFFSETFROM:-0300
TZOFFSETTO:-0400
TZNAME:AST
DTSTART:20251102T050000
END:STANDARD
BEGIN:DAYLIGHT
TZOFFSETFROM:-0400
TZOFFSETTO:-0300
TZNAME:ADT
DTSTART:20260308T060000
END:DAYLIGHT
BEGIN:STANDARD
TZOFFSETFROM:-0300
TZOFFSETTO:-0400
TZNAME:AST
DTSTART:20261101T050000
END:STANDARD
BEGIN:DAYLIGHT
TZOFFSETFROM:-0400
TZOFFSETTO:-0300
TZNAME:ADT
DTSTART:20270314T060000
END:DAYLIGHT
BEGIN:STANDARD
TZOFFSETFROM:-0300
TZOFFSETTO:-0400
TZNAME:AST
DTSTART:20271107T050000
END:STANDARD
END:VTIMEZONE
BEGIN:VEVENT
DTSTART;TZID=America/Halifax:20260613T080000
DTEND;TZID=America/Halifax:20260613T120000
DTSTAMP:20260422T161140
CREATED:20260303T214105Z
LAST-MODIFIED:20260303T214142Z
UID:2214-1781337600-1781352000@saugertiestourism.com
SUMMARY:Esopus Bend Nature Preserve
DESCRIPTION:Guided Nature Walk co-sponsored by the Esopus Creek Conservancy and the John Burroughs Natural History Society.\nWalk will include observing summer breeding birds and butterflies.\nPre-registration is required at schorvas@gmail.com
URL:https://saugertiestourism.com/event/esopus-bend-nature-preserve/
LOCATION:Esopus Creek Conservancy\, 10 Shady Lany\, Saugerties\, NY\, United States
ORGANIZER;CN="Esopus Creek Conservancy":MAILTO:info@esopuscreekconservancy.org
END:VEVENT
END:VCALENDAR