BEGIN:VCALENDAR
VERSION:2.0
PRODID:-//Saugerties Tourism - ECPv6.15.20//NONSGML v1.0//EN
CALSCALE:GREGORIAN
METHOD:PUBLISH
X-ORIGINAL-URL:https://saugertiestourism.com
X-WR-CALDESC:Events for Saugerties Tourism
REFRESH-INTERVAL;VALUE=DURATION:PT1H
X-Robots-Tag:noindex
X-PUBLISHED-TTL:PT1H
BEGIN:VTIMEZONE
TZID:America/Halifax
BEGIN:DAYLIGHT
TZOFFSETFROM:-0400
TZOFFSETTO:-0300
TZNAME:ADT
DTSTART:20250309T060000
END:DAYLIGHT
BEGIN:STANDARD
TZOFFSETFROM:-0300
TZOFFSETTO:-0400
TZNAME:AST
DTSTART:20251102T050000
END:STANDARD
BEGIN:DAYLIGHT
TZOFFSETFROM:-0400
TZOFFSETTO:-0300
TZNAME:ADT
DTSTART:20260308T060000
END:DAYLIGHT
BEGIN:STANDARD
TZOFFSETFROM:-0300
TZOFFSETTO:-0400
TZNAME:AST
DTSTART:20261101T050000
END:STANDARD
BEGIN:DAYLIGHT
TZOFFSETFROM:-0400
TZOFFSETTO:-0300
TZNAME:ADT
DTSTART:20270314T060000
END:DAYLIGHT
BEGIN:STANDARD
TZOFFSETFROM:-0300
TZOFFSETTO:-0400
TZNAME:AST
DTSTART:20271107T050000
END:STANDARD
END:VTIMEZONE
BEGIN:VEVENT
DTSTART;VALUE=DATE:20260527
DTEND;VALUE=DATE:20260601
DTSTAMP:20260422T144747
CREATED:20260304T210639Z
LAST-MODIFIED:20260304T210639Z
UID:2235-1779840000-1780271999@saugertiestourism.com
SUMMARY:HITS Hudson Valley II
DESCRIPTION:FMI: info@hitsshows.com\n845-246-5515
URL:https://saugertiestourism.com/event/hits-hudson-valley-ii/
LOCATION:454 Washington Ave. Extension\, Saugerties NY 12477\, 25 South Partition Street\, Saugerties\, NY\, 12477\, United States
END:VEVENT
BEGIN:VEVENT
DTSTART;TZID=America/Halifax:20260531T183000
DTEND;TZID=America/Halifax:20260531T203000
DTSTAMP:20260422T144747
CREATED:20260326T120431Z
LAST-MODIFIED:20260326T120431Z
UID:2238-1780252200-1780259400@saugertiestourism.com
SUMMARY:Saugerties Stallions
DESCRIPTION:Home Game at Cantine Veterans Memorial Sports Complex\nTickets-$5.00 adults. $3.00 students/seniors\, under 12 free
URL:https://saugertiestourism.com/event/saugerties-stallions-21/
LOCATION:Cantine Veterans Memorial Field
END:VEVENT
END:VCALENDAR