BEGIN:VCALENDAR
VERSION:2.0
PRODID:-//Saugerties Tourism - ECPv6.15.20//NONSGML v1.0//EN
CALSCALE:GREGORIAN
METHOD:PUBLISH
X-ORIGINAL-URL:https://saugertiestourism.com
X-WR-CALDESC:Events for Saugerties Tourism
REFRESH-INTERVAL;VALUE=DURATION:PT1H
X-Robots-Tag:noindex
X-PUBLISHED-TTL:PT1H
BEGIN:VTIMEZONE
TZID:America/Halifax
BEGIN:DAYLIGHT
TZOFFSETFROM:-0400
TZOFFSETTO:-0300
TZNAME:ADT
DTSTART:20250309T060000
END:DAYLIGHT
BEGIN:STANDARD
TZOFFSETFROM:-0300
TZOFFSETTO:-0400
TZNAME:AST
DTSTART:20251102T050000
END:STANDARD
BEGIN:DAYLIGHT
TZOFFSETFROM:-0400
TZOFFSETTO:-0300
TZNAME:ADT
DTSTART:20260308T060000
END:DAYLIGHT
BEGIN:STANDARD
TZOFFSETFROM:-0300
TZOFFSETTO:-0400
TZNAME:AST
DTSTART:20261101T050000
END:STANDARD
BEGIN:DAYLIGHT
TZOFFSETFROM:-0400
TZOFFSETTO:-0300
TZNAME:ADT
DTSTART:20270314T060000
END:DAYLIGHT
BEGIN:STANDARD
TZOFFSETFROM:-0300
TZOFFSETTO:-0400
TZNAME:AST
DTSTART:20271107T050000
END:STANDARD
END:VTIMEZONE
BEGIN:VEVENT
DTSTART;TZID=America/Halifax:20260503T090000
DTEND;TZID=America/Halifax:20260503T120000
DTSTAMP:20260422T133231
CREATED:20260303T213624Z
LAST-MODIFIED:20260303T213624Z
UID:2212-1777798800-1777809600@saugertiestourism.com
SUMMARY:Tree Identification Walk
DESCRIPTION:The Esopus Creek Conservancy and John Burroughs Natural History Society are co-sponsoring\na Tree Identification Walk at the Esopus Creek Nature Preserve.\nVern List will lead us at a leisurely pace through a variety of woodland habitats.\nPre-registration is required
URL:https://saugertiestourism.com/event/tree-identification-walk/
LOCATION:Esopus Creek Conservancy\, 10 Shady Lany\, Saugerties\, NY\, United States
ORGANIZER;CN="Esopus Creek Conservancy":MAILTO:info@esopuscreekconservancy.org
END:VEVENT
END:VCALENDAR