BEGIN:VCALENDAR
VERSION:2.0
PRODID:-//Saugerties Tourism - ECPv6.15.20//NONSGML v1.0//EN
CALSCALE:GREGORIAN
METHOD:PUBLISH
X-ORIGINAL-URL:https://saugertiestourism.com
X-WR-CALDESC:Events for Saugerties Tourism
REFRESH-INTERVAL;VALUE=DURATION:PT1H
X-Robots-Tag:noindex
X-PUBLISHED-TTL:PT1H
BEGIN:VTIMEZONE
TZID:America/Halifax
BEGIN:DAYLIGHT
TZOFFSETFROM:-0400
TZOFFSETTO:-0300
TZNAME:ADT
DTSTART:20250309T060000
END:DAYLIGHT
BEGIN:STANDARD
TZOFFSETFROM:-0300
TZOFFSETTO:-0400
TZNAME:AST
DTSTART:20251102T050000
END:STANDARD
BEGIN:DAYLIGHT
TZOFFSETFROM:-0400
TZOFFSETTO:-0300
TZNAME:ADT
DTSTART:20260308T060000
END:DAYLIGHT
BEGIN:STANDARD
TZOFFSETFROM:-0300
TZOFFSETTO:-0400
TZNAME:AST
DTSTART:20261101T050000
END:STANDARD
BEGIN:DAYLIGHT
TZOFFSETFROM:-0400
TZOFFSETTO:-0300
TZNAME:ADT
DTSTART:20270314T060000
END:DAYLIGHT
BEGIN:STANDARD
TZOFFSETFROM:-0300
TZOFFSETTO:-0400
TZNAME:AST
DTSTART:20271107T050000
END:STANDARD
END:VTIMEZONE
BEGIN:VEVENT
DTSTART;TZID=America/Halifax:20260304T160000
DTEND;TZID=America/Halifax:20260304T190000
DTSTAMP:20260422T144712
CREATED:20260121T174747Z
LAST-MODIFIED:20260121T174747Z
UID:2181-1772640000-1772650800@saugertiestourism.com
SUMMARY:Brooks BQ sponsored by Saugerties Fire Department
DESCRIPTION:Pick up only from 4:00-7:00 pm at firehouse\, 43 Partition St\nDinners are $16 advance sale\, $18 at door\nFor more info call (845)392-6197
URL:https://saugertiestourism.com/event/brooks-bq-sponsored-by-saugerties-fire-department/
LOCATION:Saugerties Fire Department\, 43 Partition Street\, Saugerties\, NY\, 12477\, United States
END:VEVENT
END:VCALENDAR