BEGIN:VCALENDAR
VERSION:2.0
PRODID:-//Saugerties Tourism - ECPv6.15.20//NONSGML v1.0//EN
CALSCALE:GREGORIAN
METHOD:PUBLISH
X-WR-CALNAME:Saugerties Tourism
X-ORIGINAL-URL:https://saugertiestourism.com
X-WR-CALDESC:Events for Saugerties Tourism
REFRESH-INTERVAL;VALUE=DURATION:PT1H
X-Robots-Tag:noindex
X-PUBLISHED-TTL:PT1H
BEGIN:VTIMEZONE
TZID:America/Halifax
BEGIN:DAYLIGHT
TZOFFSETFROM:-0400
TZOFFSETTO:-0300
TZNAME:ADT
DTSTART:20240310T060000
END:DAYLIGHT
BEGIN:STANDARD
TZOFFSETFROM:-0300
TZOFFSETTO:-0400
TZNAME:AST
DTSTART:20241103T050000
END:STANDARD
BEGIN:DAYLIGHT
TZOFFSETFROM:-0400
TZOFFSETTO:-0300
TZNAME:ADT
DTSTART:20250309T060000
END:DAYLIGHT
BEGIN:STANDARD
TZOFFSETFROM:-0300
TZOFFSETTO:-0400
TZNAME:AST
DTSTART:20251102T050000
END:STANDARD
BEGIN:DAYLIGHT
TZOFFSETFROM:-0400
TZOFFSETTO:-0300
TZNAME:ADT
DTSTART:20260308T060000
END:DAYLIGHT
BEGIN:STANDARD
TZOFFSETFROM:-0300
TZOFFSETTO:-0400
TZNAME:AST
DTSTART:20261101T050000
END:STANDARD
END:VTIMEZONE
BEGIN:VEVENT
DTSTART;TZID=America/Halifax:20250905T150000
DTEND;TZID=America/Halifax:20250905T180000
DTSTAMP:20260422T233451
CREATED:20250820T161350Z
LAST-MODIFIED:20250820T161350Z
UID:2106-1757084400-1757095200@saugertiestourism.com
SUMMARY:Figure Drawing/Long Pose Open Studio
DESCRIPTION:figure Drawing /Long Pose Open Studio\n$25 drop-in\, $80 ($20 a class )for 4 week session punch card\n845-217-5715 for more info
URL:https://saugertiestourism.com/event/figure-drawing-long-pose-open-studio/
LOCATION:Jane Street Art Center\, 11 Jane Street\, Saugerties\, NY\, 12477\, United States
ORGANIZER;CN="Jane Street Art Center":MAILTO:info@11janestartcenter.com
END:VEVENT
END:VCALENDAR